BEGIN:VCALENDAR
VERSION:2.0
PRODID:-//Laurel Magazine - ECPv6.15.16//NONSGML v1.0//EN
CALSCALE:GREGORIAN
METHOD:PUBLISH
X-ORIGINAL-URL:https://thelaurelmagazine.com
X-WR-CALDESC:Events for Laurel Magazine
REFRESH-INTERVAL;VALUE=DURATION:PT1H
X-Robots-Tag:noindex
X-PUBLISHED-TTL:PT1H
BEGIN:VTIMEZONE
TZID:America/New_York
BEGIN:DAYLIGHT
TZOFFSETFROM:-0500
TZOFFSETTO:-0400
TZNAME:EDT
DTSTART:20240310T070000
END:DAYLIGHT
BEGIN:STANDARD
TZOFFSETFROM:-0400
TZOFFSETTO:-0500
TZNAME:EST
DTSTART:20241103T060000
END:STANDARD
BEGIN:DAYLIGHT
TZOFFSETFROM:-0500
TZOFFSETTO:-0400
TZNAME:EDT
DTSTART:20250309T070000
END:DAYLIGHT
BEGIN:STANDARD
TZOFFSETFROM:-0400
TZOFFSETTO:-0500
TZNAME:EST
DTSTART:20251102T060000
END:STANDARD
BEGIN:DAYLIGHT
TZOFFSETFROM:-0500
TZOFFSETTO:-0400
TZNAME:EDT
DTSTART:20260308T070000
END:DAYLIGHT
BEGIN:STANDARD
TZOFFSETFROM:-0400
TZOFFSETTO:-0500
TZNAME:EST
DTSTART:20261101T060000
END:STANDARD
END:VTIMEZONE
BEGIN:VEVENT
DTSTART;TZID=America/New_York:20250610T100000
DTEND;TZID=America/New_York:20250610T150000
DTSTAMP:20260424T085029
CREATED:20250609T150247Z
LAST-MODIFIED:20250609T150247Z
UID:90478-1749549600-1749567600@thelaurelmagazine.com
SUMMARY:Blood Drive at Hudson Library
DESCRIPTION:Hudson Library in Highlands is hosting a community blood drive with the American Red Cross. \n“Hudson Library is committed to strengthening our community and helping meet hospital and patient needs through blood donations\,” said Hudson Librarian Carlyn Morenus. “This blood drive is our way of giving staff\, colleagues and neighbors an opportunity to help save lives.”
URL:https://thelaurelmagazine.com/local-event/blood-drive-at-hudson-library
LOCATION:Hudson Library\, 554 Main St\, Highlands\, NC\, 28741\, United States
CATEGORIES:Community,Health
ATTACH;FMTTYPE=image/jpeg:https://thelaurelmagazine.com/wp-content/uploads/2025/06/highlands-nc-hudson-library-red-cross-blood-drive.jpg
END:VEVENT
BEGIN:VEVENT
DTSTART;TZID=America/New_York:20250610T173000
DTEND;TZID=America/New_York:20250610T173000
DTSTAMP:20260424T085029
CREATED:20250806T144942Z
LAST-MODIFIED:20250806T144942Z
UID:95217-1749576600-1749576600@thelaurelmagazine.com
SUMMARY:Fusion Restore: Mobility Stretch at Fusion Yoga and Wellness
DESCRIPTION:Enhance your range of motion\, improve joint health\, and lengthen your connective tissue and muscles with this gentle yet effective class. Using a combination of dynamic and static stretches\, this practice is perfect for anyone looking to increase functional movement\, release tension\, and move with greater ease in daily life. Ideal for most levels.
URL:https://thelaurelmagazine.com/local-event/fusion-restore-mobility-stretch-at-fusion-yoga-and-wellness/2025-06-10
LOCATION:Fusion Yoga and Wellness\, 21A Lance Rd\, Cashiers\, NC\, 28717\, United States
CATEGORIES:Health
END:VEVENT
END:VCALENDAR