BEGIN:VCALENDAR
VERSION:2.0
PRODID:-//Laurel Magazine - ECPv6.15.16//NONSGML v1.0//EN
CALSCALE:GREGORIAN
METHOD:PUBLISH
X-ORIGINAL-URL:https://thelaurelmagazine.com
X-WR-CALDESC:Events for Laurel Magazine
REFRESH-INTERVAL;VALUE=DURATION:PT1H
X-Robots-Tag:noindex
X-PUBLISHED-TTL:PT1H
BEGIN:VTIMEZONE
TZID:America/New_York
BEGIN:DAYLIGHT
TZOFFSETFROM:-0500
TZOFFSETTO:-0400
TZNAME:EDT
DTSTART:20240310T070000
END:DAYLIGHT
BEGIN:STANDARD
TZOFFSETFROM:-0400
TZOFFSETTO:-0500
TZNAME:EST
DTSTART:20241103T060000
END:STANDARD
BEGIN:DAYLIGHT
TZOFFSETFROM:-0500
TZOFFSETTO:-0400
TZNAME:EDT
DTSTART:20250309T070000
END:DAYLIGHT
BEGIN:STANDARD
TZOFFSETFROM:-0400
TZOFFSETTO:-0500
TZNAME:EST
DTSTART:20251102T060000
END:STANDARD
BEGIN:DAYLIGHT
TZOFFSETFROM:-0500
TZOFFSETTO:-0400
TZNAME:EDT
DTSTART:20260308T070000
END:DAYLIGHT
BEGIN:STANDARD
TZOFFSETFROM:-0400
TZOFFSETTO:-0500
TZNAME:EST
DTSTART:20261101T060000
END:STANDARD
END:VTIMEZONE
BEGIN:VEVENT
DTSTART;TZID=America/New_York:20250626T150000
DTEND;TZID=America/New_York:20250626T163000
DTSTAMP:20260424T103256
CREATED:20231112T150635Z
LAST-MODIFIED:20231112T150635Z
UID:64034-1750950000-1750955400@thelaurelmagazine.com
SUMMARY:Dementia Caregivers Support Group at Albert-Carlton Community Library
DESCRIPTION:Join a welcoming group of people that understand what you are going through. We come together to offer each other support\, resources\, and a listening ear. \nThe group is a safe place for judgement free discussion. \n2nd and 4th Thursday of the month.
URL:https://thelaurelmagazine.com/local-event/dementia-caregivers-support-group-at-albert-carlton-community-library/2025-06-26
LOCATION:Albert-Carlton Community Library\, 249 Frank Allen Rd\, Cashiers\, NC\, 28741\, United States
CATEGORIES:Community,Health
ATTACH;FMTTYPE=image/jpeg:https://thelaurelmagazine.com/wp-content/uploads/2023/11/cashiers-nc-albert-carlton-library-dementia-caregivers-support-group.jpg
END:VEVENT
BEGIN:VEVENT
DTSTART;TZID=America/New_York:20250626T173000
DTEND;TZID=America/New_York:20250626T173000
DTSTAMP:20260424T103256
CREATED:20250806T144942Z
LAST-MODIFIED:20250806T144942Z
UID:95237-1750959000-1750959000@thelaurelmagazine.com
SUMMARY:Fusion Restore: Mobility Stretch at Fusion Yoga and Wellness
DESCRIPTION:Enhance your range of motion\, improve joint health\, and lengthen your connective tissue and muscles with this gentle yet effective class. Using a combination of dynamic and static stretches\, this practice is perfect for anyone looking to increase functional movement\, release tension\, and move with greater ease in daily life. Ideal for most levels.
URL:https://thelaurelmagazine.com/local-event/fusion-restore-mobility-stretch-at-fusion-yoga-and-wellness/2025-06-26
LOCATION:Fusion Yoga and Wellness\, 21A Lance Rd\, Cashiers\, NC\, 28717\, United States
CATEGORIES:Health
END:VEVENT
END:VCALENDAR