BEGIN:VCALENDAR
VERSION:2.0
PRODID:-//Laurel Magazine - ECPv6.15.16//NONSGML v1.0//EN
CALSCALE:GREGORIAN
METHOD:PUBLISH
X-ORIGINAL-URL:https://thelaurelmagazine.com
X-WR-CALDESC:Events for Laurel Magazine
REFRESH-INTERVAL;VALUE=DURATION:PT1H
X-Robots-Tag:noindex
X-PUBLISHED-TTL:PT1H
BEGIN:VTIMEZONE
TZID:America/New_York
BEGIN:DAYLIGHT
TZOFFSETFROM:-0500
TZOFFSETTO:-0400
TZNAME:EDT
DTSTART:20250309T070000
END:DAYLIGHT
BEGIN:STANDARD
TZOFFSETFROM:-0400
TZOFFSETTO:-0500
TZNAME:EST
DTSTART:20251102T060000
END:STANDARD
BEGIN:DAYLIGHT
TZOFFSETFROM:-0500
TZOFFSETTO:-0400
TZNAME:EDT
DTSTART:20260308T070000
END:DAYLIGHT
BEGIN:STANDARD
TZOFFSETFROM:-0400
TZOFFSETTO:-0500
TZNAME:EST
DTSTART:20261101T060000
END:STANDARD
BEGIN:DAYLIGHT
TZOFFSETFROM:-0500
TZOFFSETTO:-0400
TZNAME:EDT
DTSTART:20270314T070000
END:DAYLIGHT
BEGIN:STANDARD
TZOFFSETFROM:-0400
TZOFFSETTO:-0500
TZNAME:EST
DTSTART:20271107T060000
END:STANDARD
END:VTIMEZONE
BEGIN:VEVENT
DTSTART;TZID=America/New_York:20260123T090000
DTEND;TZID=America/New_York:20260123T090000
DTSTAMP:20260422T210104
CREATED:20260126T145225Z
LAST-MODIFIED:20260127T214351Z
UID:111417-1769158800-1769158800@thelaurelmagazine.com
SUMMARY:Unfurl Movement | Ashtanga Yoga at Unfurl Wellness Spa
DESCRIPTION:Start your mornings with Ashtanga Yoga led by Noah Williams\, Sunday through Friday at 9am at Unfurl Movement Studio. \nNoah offers a grounded\, traditional practice that welcomes both seasoned students and curious beginners. Build strength\, focus\, and breath‑led movement in a warm\, supportive space. \nFor details or to reserve your spot\, email ashtanga.noah@gmail.com.
URL:https://thelaurelmagazine.com/local-event/unfurl-movement-studio-ashtanga-yoga-at-unfurl-wellness-spa/2026-01-23
LOCATION:Unfurl Wellness Spa\, 454 Dillard Rd\, Highlands\, NC\, 28741\, United States
CATEGORIES:Health
ATTACH;FMTTYPE=image/jpeg:https://thelaurelmagazine.com/wp-content/uploads/2026/01/highlands-nc-unfurl-wellness-spa-ashtanga-yoga.jpg
END:VEVENT
BEGIN:VEVENT
DTSTART;TZID=America/New_York:20260123T120000
DTEND;TZID=America/New_York:20260123T120000
DTSTAMP:20260422T210104
CREATED:20250806T145346Z
LAST-MODIFIED:20251005T152603Z
UID:99420-1769169600-1769169600@thelaurelmagazine.com
SUMMARY:Friday Classes at Fusion Yoga and Wellness
DESCRIPTION:Join us for Friday classes at Fusion Yoga and Wellness.\nFusion Flow: Flow & Restore\n9:00 AM\nThis class offers the best of both worlds\, beginning with a mindful vinyasa flow to build heat\, strength\, and flexibility\, followed by grounding restorative poses to help you slow down\, release tension\, and reset. \nFusion Flow: Gentle\n10:30 AM\nSlow down and unwind with this soothing class that focuses on gentle\, flowing movements paired with mindful breathing.
URL:https://thelaurelmagazine.com/local-event/fusion-rx-chair-yoga-at-fusion-yoga-and-wellness/2026-01-23
LOCATION:Fusion Yoga and Wellness\, 21A Lance Rd\, Cashiers\, NC\, 28717\, United States
CATEGORIES:Health
ATTACH;FMTTYPE=image/jpeg:https://thelaurelmagazine.com/wp-content/uploads/2025/06/fusion-yoga-interior.jpg
END:VEVENT
END:VCALENDAR