BEGIN:VCALENDAR
VERSION:2.0
PRODID:-//Laurel Magazine - ECPv6.15.16//NONSGML v1.0//EN
CALSCALE:GREGORIAN
METHOD:PUBLISH
X-WR-CALNAME:Laurel Magazine
X-ORIGINAL-URL:https://thelaurelmagazine.com
X-WR-CALDESC:Events for Laurel Magazine
REFRESH-INTERVAL;VALUE=DURATION:PT1H
X-Robots-Tag:noindex
X-PUBLISHED-TTL:PT1H
BEGIN:VTIMEZONE
TZID:America/New_York
BEGIN:DAYLIGHT
TZOFFSETFROM:-0500
TZOFFSETTO:-0400
TZNAME:EDT
DTSTART:20230312T070000
END:DAYLIGHT
BEGIN:STANDARD
TZOFFSETFROM:-0400
TZOFFSETTO:-0500
TZNAME:EST
DTSTART:20231105T060000
END:STANDARD
BEGIN:DAYLIGHT
TZOFFSETFROM:-0500
TZOFFSETTO:-0400
TZNAME:EDT
DTSTART:20240310T070000
END:DAYLIGHT
BEGIN:STANDARD
TZOFFSETFROM:-0400
TZOFFSETTO:-0500
TZNAME:EST
DTSTART:20241103T060000
END:STANDARD
BEGIN:DAYLIGHT
TZOFFSETFROM:-0500
TZOFFSETTO:-0400
TZNAME:EDT
DTSTART:20250309T070000
END:DAYLIGHT
BEGIN:STANDARD
TZOFFSETFROM:-0400
TZOFFSETTO:-0500
TZNAME:EST
DTSTART:20251102T060000
END:STANDARD
BEGIN:DAYLIGHT
TZOFFSETFROM:-0500
TZOFFSETTO:-0400
TZNAME:EDT
DTSTART:20260308T070000
END:DAYLIGHT
BEGIN:STANDARD
TZOFFSETFROM:-0400
TZOFFSETTO:-0500
TZNAME:EST
DTSTART:20261101T060000
END:STANDARD
END:VTIMEZONE
BEGIN:VEVENT
DTSTART;TZID=America/New_York:20241230T090000
DTEND;TZID=America/New_York:20241230T100000
DTSTAMP:20260425T080820
CREATED:20230114T191845Z
LAST-MODIFIED:20230114T191845Z
UID:68663-1735549200-1735552800@thelaurelmagazine.com
SUMMARY:Feel Good Vinyasa Flow Yoga at Fusion Yoga and Wellness
DESCRIPTION:Join for a sweet flow will that will tone\, strengthen and stretch your body all while relaxing your mind and connecting to your heart. \nThis is a softer\, nurturing\, slow-paced\, well supported and relaxing practice. Great for yoga students of all levels as well as gym goers\, runners\, bikers\, golfers\, yoga flow-ers and anyone looking to simply relax\, unwind\, and let go of stress and tension in the body and mind. \nClass is currently limited to 15 people and online registration is required
URL:https://thelaurelmagazine.com/local-event/feel-good-vinyasa-flow-yoga/2024-12-30
LOCATION:Fusion Yoga and Wellness\, 21A Lance Rd\, Cashiers\, NC\, 28717\, United States
CATEGORIES:Health
ATTACH;FMTTYPE=image/jpeg:https://thelaurelmagazine.com/wp-content/uploads/2023/01/CashiersValleyFusion2.jpg
END:VEVENT
BEGIN:VEVENT
DTSTART;TZID=America/New_York:20250104T093000
DTEND;TZID=America/New_York:20250104T103000
DTSTAMP:20260425T080820
CREATED:20231108T211528Z
LAST-MODIFIED:20231108T211528Z
UID:63862-1735983000-1735986600@thelaurelmagazine.com
SUMMARY:Vinyasa Flow Yoga at Fusion Yoga and Wellness
DESCRIPTION:Accessible for all levels of practitioners this moderately paced Hatha Flow practice of flowing movement linked with breath offers challenges and intensity with modifications and variations in order to meet each practitioner at his or her skill level. \nWe recommend students new to yoga begin with our Beginner and Level 1 classes first to establish comfort and familiarity of the basics of yoga before moving into a vinyasa flow class or any other mixed level class.
URL:https://thelaurelmagazine.com/local-event/vinyasa-flow-yoga-at-fusion-yoga-and-wellness/2025-01-04
LOCATION:Fusion Yoga and Wellness\, 21A Lance Rd\, Cashiers\, NC\, 28717\, United States
CATEGORIES:Health
ATTACH;FMTTYPE=image/jpeg:https://thelaurelmagazine.com/wp-content/uploads/2023/01/Cashiers-Valley-Fusion-copy.jpg
END:VEVENT
END:VCALENDAR