BEGIN:VCALENDAR
VERSION:2.0
PRODID:-//Laurel Magazine - ECPv6.15.16//NONSGML v1.0//EN
CALSCALE:GREGORIAN
METHOD:PUBLISH
X-WR-CALNAME:Laurel Magazine
X-ORIGINAL-URL:https://thelaurelmagazine.com
X-WR-CALDESC:Events for Laurel Magazine
REFRESH-INTERVAL;VALUE=DURATION:PT1H
X-Robots-Tag:noindex
X-PUBLISHED-TTL:PT1H
BEGIN:VTIMEZONE
TZID:America/New_York
BEGIN:DAYLIGHT
TZOFFSETFROM:-0500
TZOFFSETTO:-0400
TZNAME:EDT
DTSTART:20240310T070000
END:DAYLIGHT
BEGIN:STANDARD
TZOFFSETFROM:-0400
TZOFFSETTO:-0500
TZNAME:EST
DTSTART:20241103T060000
END:STANDARD
BEGIN:DAYLIGHT
TZOFFSETFROM:-0500
TZOFFSETTO:-0400
TZNAME:EDT
DTSTART:20250309T070000
END:DAYLIGHT
BEGIN:STANDARD
TZOFFSETFROM:-0400
TZOFFSETTO:-0500
TZNAME:EST
DTSTART:20251102T060000
END:STANDARD
BEGIN:DAYLIGHT
TZOFFSETFROM:-0500
TZOFFSETTO:-0400
TZNAME:EDT
DTSTART:20260308T070000
END:DAYLIGHT
BEGIN:STANDARD
TZOFFSETFROM:-0400
TZOFFSETTO:-0500
TZNAME:EST
DTSTART:20261101T060000
END:STANDARD
END:VTIMEZONE
BEGIN:VEVENT
DTSTART;TZID=America/New_York:20250831T130000
DTEND;TZID=America/New_York:20250831T143000
DTSTAMP:20260424T052830
CREATED:20250806T141339Z
LAST-MODIFIED:20251215T174937Z
UID:94733-1756645200-1756650600@thelaurelmagazine.com
SUMMARY:Sacred Sundays at Unfurl Wellness Spa
DESCRIPTION:Sacred Sundays is a 90 minute class of mindfulness movement and poses accompanied with an acoustic sound meditation held by Robert John Malone. \nThis is an all levels class focused of a variety of wellness practices to assist in raising our mind/body awareness through conscious movements and poses (1:00 – 2:30 each Sunday this season)
URL:https://thelaurelmagazine.com/local-event/sacred-sundays-at-unfurl-wellness-spa/2025-08-31
LOCATION:Unfurl Wellness Spa\, 454 Dillard Rd\, Highlands\, NC\, 28741\, United States
CATEGORIES:Community,Health
ATTACH;FMTTYPE=image/jpeg:https://thelaurelmagazine.com/wp-content/uploads/2025/08/highlands-nc-unfurl-wellness-spa-sacred-sundays.jpg
END:VEVENT
BEGIN:VEVENT
DTSTART;TZID=America/New_York:20250901T090000
DTEND;TZID=America/New_York:20250901T173000
DTSTAMP:20260424T052830
CREATED:20250620T205334Z
LAST-MODIFIED:20250620T205334Z
UID:100487-1756717200-1756747800@thelaurelmagazine.com
SUMMARY:Monday Classes at Fusion Yoga and Wellness
DESCRIPTION:Join us on Mondays at Fusion Yoga and Wellness!\nFusion Flow: Flow & Restore\n9 AM \nThis class offers the best of both worlds\, beginning with a mindful vinyasa flow to build heat\, strength\, and flexibility\, followed by grounding restorative poses to help you slow down\, release tension\, and reset. \nFusion Flow: Gentle \n10:30 AM\nSlow down and unwind with this soothing class that focuses on gentle\, flowing movements paired with mindful breathing. \nFusion Rx: Crushing PD\n12:00 PM\nThis moderate-intensity class is designed for individuals with Parkinson’s Disease and may also benefit those with other neurological disorders. \nFusion Flow: Vinyasa\n5:30 PM\nThis class offers a blend of movement and stillness\, combining the mindful pacing of Hatha holds with the breath-connected flows of Vinyasa. \nVisit https://www.fusionyogaandwellness.com/schedule for more information.
URL:https://thelaurelmagazine.com/local-event/fusion-flow-flow-restore-at-fusion-yoga-and-wellness/2025-09-01
LOCATION:Fusion Yoga and Wellness\, 21A Lance Rd\, Cashiers\, NC\, 28717\, United States
CATEGORIES:Health
ATTACH;FMTTYPE=image/jpeg:https://thelaurelmagazine.com/wp-content/uploads/2025/06/fusion-yoga-interior.jpg
END:VEVENT
BEGIN:VEVENT
DTSTART;TZID=America/New_York:20250903T090000
DTEND;TZID=America/New_York:20250903T173000
DTSTAMP:20260424T052830
CREATED:20230115T210933Z
LAST-MODIFIED:20251005T185853Z
UID:47498-1756890000-1756920600@thelaurelmagazine.com
SUMMARY:Wednesday Classes at Fusion Yoga and Wellness
DESCRIPTION:Join us for Wednesday’s classes at Fusion Yoga and Wellness.\nFusion Flow: Vinyasa\n9:00 AM\nThis class offers a blend of movement and stillness\, combining the mindful pacing of Hatha holds with the breath-connected flows of Vinyasa. \nFusion Restore: Mobility Stretch\n10:30 AM\nEnhance your range of motion\, improve joint health\, and lengthen your connective tissue and muscles with this gentle yet effective class. \nFusion Rx: Movement for Parkinson’s\n12:00 PM\nLed by a fellow PWP (Person with Parkinson’s)\, this class combines stretching\, balance\, mobility\, and strength training to support overall motor recruitment and hand-eye coordination. \nFusion Flow: Vinyasa\n5:30 PM\nThis class offers a blend of movement and stillness\, combining the mindful pacing of Hatha holds with the breath-connected flows of Vinyasa. \nVisit https://www.fusionyogaandwellness.com/schedule for more information.
URL:https://thelaurelmagazine.com/local-event/movement-for-parkinsons/2025-09-03
LOCATION:Fusion Yoga and Wellness\, 21A Lance Rd\, Cashiers\, NC\, 28717\, United States
CATEGORIES:Health
ATTACH;FMTTYPE=image/jpeg:https://thelaurelmagazine.com/wp-content/uploads/2025/06/fusion-yoga-interior.jpg
END:VEVENT
BEGIN:VEVENT
DTSTART;TZID=America/New_York:20250905T120000
DTEND;TZID=America/New_York:20250905T120000
DTSTAMP:20260424T052830
CREATED:20250806T145346Z
LAST-MODIFIED:20251005T152519Z
UID:95263-1757073600-1757073600@thelaurelmagazine.com
SUMMARY:Friday Classes at Fusion Yoga and Wellness
DESCRIPTION:Join us for Friday classes at Fusion Yoga and Wellness.\nFusion Flow: Flow & Restore\n9:00 AM\nThis class offers the best of both worlds\, beginning with a mindful vinyasa flow to build heat\, strength\, and flexibility\, followed by grounding restorative poses to help you slow down\, release tension\, and reset. \nFusion Flow: Gentle\n10:30 AM\nSlow down and unwind with this soothing class that focuses on gentle\, flowing movements paired with mindful breathing.
URL:https://thelaurelmagazine.com/local-event/fusion-rx-chair-yoga-at-fusion-yoga-and-wellness/2025-09-05
LOCATION:Fusion Yoga and Wellness\, 21A Lance Rd\, Cashiers\, NC\, 28717\, United States
CATEGORIES:Health
ATTACH;FMTTYPE=image/jpeg:https://thelaurelmagazine.com/wp-content/uploads/2025/06/fusion-yoga-interior.jpg
END:VEVENT
BEGIN:VEVENT
DTSTART;TZID=America/New_York:20250906T160000
DTEND;TZID=America/New_York:20250906T160000
DTSTAMP:20260424T052830
CREATED:20250806T140744Z
LAST-MODIFIED:20251215T175005Z
UID:94711-1757174400-1757174400@thelaurelmagazine.com
SUMMARY:Saturday Sound Bath at Unfurl Wellness Spa
DESCRIPTION:Join us each Saturday at 4:00 pm for Unfurl Wellness Spa’s Sound Bath\, a serene experience designed to help you reset and reconnect. Through the soothing vibrations of crystal singing bowls and gentle percussion\, sound baths encourage deep relaxation and promote mental clarity. These harmonic tones help slow brain waves\, reduce stress\, and foster a meditative state\, allowing your body and mind to unwind from the pressures of daily life. \nTake this time to nurture your well-being in a calm\, supportive environment.
URL:https://thelaurelmagazine.com/local-event/saturday-sound-bath-at-unfurl-wellness-spa/2025-09-06
LOCATION:Unfurl Wellness Spa\, 454 Dillard Rd\, Highlands\, NC\, 28741\, United States
CATEGORIES:Community,Health
ATTACH;FMTTYPE=image/jpeg:https://thelaurelmagazine.com/wp-content/uploads/2025/08/highlands-nc-unfurl-wellness-spa-sound-bath.jpg
END:VEVENT
END:VCALENDAR