BEGIN:VCALENDAR
VERSION:2.0
PRODID:-//Laurel Magazine - ECPv6.15.16//NONSGML v1.0//EN
CALSCALE:GREGORIAN
METHOD:PUBLISH
X-WR-CALNAME:Laurel Magazine
X-ORIGINAL-URL:https://thelaurelmagazine.com
X-WR-CALDESC:Events for Laurel Magazine
REFRESH-INTERVAL;VALUE=DURATION:PT1H
X-Robots-Tag:noindex
X-PUBLISHED-TTL:PT1H
BEGIN:VTIMEZONE
TZID:America/New_York
BEGIN:DAYLIGHT
TZOFFSETFROM:-0500
TZOFFSETTO:-0400
TZNAME:EDT
DTSTART:20240310T070000
END:DAYLIGHT
BEGIN:STANDARD
TZOFFSETFROM:-0400
TZOFFSETTO:-0500
TZNAME:EST
DTSTART:20241103T060000
END:STANDARD
BEGIN:DAYLIGHT
TZOFFSETFROM:-0500
TZOFFSETTO:-0400
TZNAME:EDT
DTSTART:20250309T070000
END:DAYLIGHT
BEGIN:STANDARD
TZOFFSETFROM:-0400
TZOFFSETTO:-0500
TZNAME:EST
DTSTART:20251102T060000
END:STANDARD
BEGIN:DAYLIGHT
TZOFFSETFROM:-0500
TZOFFSETTO:-0400
TZNAME:EDT
DTSTART:20260308T070000
END:DAYLIGHT
BEGIN:STANDARD
TZOFFSETFROM:-0400
TZOFFSETTO:-0500
TZNAME:EST
DTSTART:20261101T060000
END:STANDARD
END:VTIMEZONE
BEGIN:VEVENT
DTSTART;TZID=America/New_York:20251117T090000
DTEND;TZID=America/New_York:20251117T173000
DTSTAMP:20260423T153127
CREATED:20250620T205334Z
LAST-MODIFIED:20250620T205334Z
UID:100510-1763370000-1763400600@thelaurelmagazine.com
SUMMARY:Monday Classes at Fusion Yoga and Wellness
DESCRIPTION:Join us on Mondays at Fusion Yoga and Wellness!\nFusion Flow: Flow & Restore\n9 AM \nThis class offers the best of both worlds\, beginning with a mindful vinyasa flow to build heat\, strength\, and flexibility\, followed by grounding restorative poses to help you slow down\, release tension\, and reset. \nFusion Flow: Gentle \n10:30 AM\nSlow down and unwind with this soothing class that focuses on gentle\, flowing movements paired with mindful breathing. \nFusion Rx: Crushing PD\n12:00 PM\nThis moderate-intensity class is designed for individuals with Parkinson’s Disease and may also benefit those with other neurological disorders. \nFusion Flow: Vinyasa\n5:30 PM\nThis class offers a blend of movement and stillness\, combining the mindful pacing of Hatha holds with the breath-connected flows of Vinyasa. \nVisit https://www.fusionyogaandwellness.com/schedule for more information.
URL:https://thelaurelmagazine.com/local-event/fusion-flow-flow-restore-at-fusion-yoga-and-wellness/2025-11-17
LOCATION:Fusion Yoga and Wellness\, 21A Lance Rd\, Cashiers\, NC\, 28717\, United States
CATEGORIES:Health
ATTACH;FMTTYPE=image/jpeg:https://thelaurelmagazine.com/wp-content/uploads/2025/06/fusion-yoga-interior.jpg
END:VEVENT
BEGIN:VEVENT
DTSTART;TZID=America/New_York:20251118T090000
DTEND;TZID=America/New_York:20251118T103000
DTSTAMP:20260423T153127
CREATED:20250620T213539Z
LAST-MODIFIED:20251115T230307Z
UID:101459-1763456400-1763461800@thelaurelmagazine.com
SUMMARY:Tuesday/Thursday Classes at Fusion Yoga and Wellness
DESCRIPTION:Join us on Tuesdays at Fusion Yoga and Wellness!\nFusion Flow: Warm\n9 AM\nSet in a room heated to 85°F\, our Warm Flow Yoga class combines alignment-focused poses with moderate\, flowing sequences to build strength\, improve flexibility\, and enhance balance. \nFusion RX: Yoga for Osteoporosis & Bone Health\n10:30 AM\nStrengthen Your Bones. Support Your Body. Empower Your Practice.\nThis therapeutic class is designed specifically for individuals with osteoporosis\, osteopenia\, or low bone density. \nVisit https://www.fusionyogaandwellness.com/schedule for more information.
URL:https://thelaurelmagazine.com/local-event/fusion-flow-warm-at-fusion-yoga-and-wellness/2025-11-18
LOCATION:Fusion Yoga and Wellness\, 21A Lance Rd\, Cashiers\, NC\, 28717\, United States
CATEGORIES:Health
ATTACH;FMTTYPE=image/jpeg:https://thelaurelmagazine.com/wp-content/uploads/2025/06/fusion-yoga-interior.jpg
END:VEVENT
BEGIN:VEVENT
DTSTART;TZID=America/New_York:20251119T090000
DTEND;TZID=America/New_York:20251119T173000
DTSTAMP:20260423T153127
CREATED:20230115T210933Z
LAST-MODIFIED:20230115T210933Z
UID:103244-1763542800-1763573400@thelaurelmagazine.com
SUMMARY:Wednesday Classes at Fusion Yoga and Wellness
DESCRIPTION:Join us for Wednesday’s classes at Fusion Yoga and Wellness.\nFusion Flow: Vinyasa\n9:00 AM\nThis class offers a blend of movement and stillness\, combining the mindful pacing of Hatha holds with the breath-connected flows of Vinyasa. \nFusion Restore: Mobility Stretch\n10:30 AM\nEnhance your range of motion\, improve joint health\, and lengthen your connective tissue and muscles with this gentle yet effective class. \nFusion Rx: Movement for Parkinson’s\n12:00 PM\nLed by a fellow PWP (Person with Parkinson’s)\, this class combines stretching\, balance\, mobility\, and strength training to support overall motor recruitment and hand-eye coordination. \nFusion Flow: Vinyasa\n5:30 PM\nThis class offers a blend of movement and stillness\, combining the mindful pacing of Hatha holds with the breath-connected flows of Vinyasa. \nVisit https://www.fusionyogaandwellness.com/schedule for more information.
URL:https://thelaurelmagazine.com/local-event/movement-for-parkinsons/2025-11-19
LOCATION:Fusion Yoga and Wellness\, 21A Lance Rd\, Cashiers\, NC\, 28717\, United States
CATEGORIES:Health
ATTACH;FMTTYPE=image/jpeg:https://thelaurelmagazine.com/wp-content/uploads/2025/06/fusion-yoga-interior.jpg
END:VEVENT
BEGIN:VEVENT
DTSTART;TZID=America/New_York:20251120T090000
DTEND;TZID=America/New_York:20251120T103000
DTSTAMP:20260423T153127
CREATED:20250620T213539Z
LAST-MODIFIED:20251115T230307Z
UID:101460-1763629200-1763634600@thelaurelmagazine.com
SUMMARY:Tuesday/Thursday Classes at Fusion Yoga and Wellness
DESCRIPTION:Join us on Tuesdays at Fusion Yoga and Wellness!\nFusion Flow: Warm\n9 AM\nSet in a room heated to 85°F\, our Warm Flow Yoga class combines alignment-focused poses with moderate\, flowing sequences to build strength\, improve flexibility\, and enhance balance. \nFusion RX: Yoga for Osteoporosis & Bone Health\n10:30 AM\nStrengthen Your Bones. Support Your Body. Empower Your Practice.\nThis therapeutic class is designed specifically for individuals with osteoporosis\, osteopenia\, or low bone density. \nVisit https://www.fusionyogaandwellness.com/schedule for more information.
URL:https://thelaurelmagazine.com/local-event/fusion-flow-warm-at-fusion-yoga-and-wellness/2025-11-20
LOCATION:Fusion Yoga and Wellness\, 21A Lance Rd\, Cashiers\, NC\, 28717\, United States
CATEGORIES:Health
ATTACH;FMTTYPE=image/jpeg:https://thelaurelmagazine.com/wp-content/uploads/2025/06/fusion-yoga-interior.jpg
END:VEVENT
BEGIN:VEVENT
DTSTART;TZID=America/New_York:20251121T120000
DTEND;TZID=America/New_York:20251121T120000
DTSTAMP:20260423T153127
CREATED:20250806T145346Z
LAST-MODIFIED:20251005T152543Z
UID:99405-1763726400-1763726400@thelaurelmagazine.com
SUMMARY:Friday Classes at Fusion Yoga and Wellness
DESCRIPTION:Join us for Friday classes at Fusion Yoga and Wellness.\nFusion Flow: Flow & Restore\n9:00 AM\nThis class offers the best of both worlds\, beginning with a mindful vinyasa flow to build heat\, strength\, and flexibility\, followed by grounding restorative poses to help you slow down\, release tension\, and reset. \nFusion Flow: Gentle\n10:30 AM\nSlow down and unwind with this soothing class that focuses on gentle\, flowing movements paired with mindful breathing.
URL:https://thelaurelmagazine.com/local-event/fusion-rx-chair-yoga-at-fusion-yoga-and-wellness/2025-11-21
LOCATION:Fusion Yoga and Wellness\, 21A Lance Rd\, Cashiers\, NC\, 28717\, United States
CATEGORIES:Health
ATTACH;FMTTYPE=image/jpeg:https://thelaurelmagazine.com/wp-content/uploads/2025/06/fusion-yoga-interior.jpg
END:VEVENT
END:VCALENDAR