BEGIN:VCALENDAR
VERSION:2.0
PRODID:-//Laurel Magazine - ECPv6.15.16//NONSGML v1.0//EN
CALSCALE:GREGORIAN
METHOD:PUBLISH
X-ORIGINAL-URL:https://thelaurelmagazine.com
X-WR-CALDESC:Events for Laurel Magazine
REFRESH-INTERVAL;VALUE=DURATION:PT1H
X-Robots-Tag:noindex
X-PUBLISHED-TTL:PT1H
BEGIN:VTIMEZONE
TZID:America/New_York
BEGIN:DAYLIGHT
TZOFFSETFROM:-0500
TZOFFSETTO:-0400
TZNAME:EDT
DTSTART:20240310T070000
END:DAYLIGHT
BEGIN:STANDARD
TZOFFSETFROM:-0400
TZOFFSETTO:-0500
TZNAME:EST
DTSTART:20241103T060000
END:STANDARD
BEGIN:DAYLIGHT
TZOFFSETFROM:-0500
TZOFFSETTO:-0400
TZNAME:EDT
DTSTART:20250309T070000
END:DAYLIGHT
BEGIN:STANDARD
TZOFFSETFROM:-0400
TZOFFSETTO:-0500
TZNAME:EST
DTSTART:20251102T060000
END:STANDARD
BEGIN:DAYLIGHT
TZOFFSETFROM:-0500
TZOFFSETTO:-0400
TZNAME:EDT
DTSTART:20260308T070000
END:DAYLIGHT
BEGIN:STANDARD
TZOFFSETFROM:-0400
TZOFFSETTO:-0500
TZNAME:EST
DTSTART:20261101T060000
END:STANDARD
END:VTIMEZONE
BEGIN:VEVENT
DTSTART;TZID=America/New_York:20251004T163000
DTEND;TZID=America/New_York:20251004T170000
DTSTAMP:20260421T080010
CREATED:20250605T204410Z
LAST-MODIFIED:20250929T194514Z
UID:90449-1759595400-1759597200@thelaurelmagazine.com
SUMMARY:Pop Up Pipers in Downtown Highlands
DESCRIPTION:The Pop-Up Pipers will appear in unexpected locations throughout downtown Highlands on select Saturdays from 4:30 to 5:00 P.M. \nKeep an ear out on the following dates:  June 7\, July 12\, August 2\, September 6\, and October 4\, but exactly where they’ll play remains a mystery\, adding an element of spontaneous joy to each performance.
URL:https://thelaurelmagazine.com/local-event/pop-up-pipers-in-downtown-highlands/2025-10-04
LOCATION:NC
CATEGORIES:Live Music,Performing Arts
ATTACH;FMTTYPE=image/jpeg:https://thelaurelmagazine.com/wp-content/uploads/2024/04/highlands-nc-Bag-Pipers.jpg
END:VEVENT
BEGIN:VEVENT
DTSTART;TZID=America/New_York:20251009T170000
DTEND;TZID=America/New_York:20251009T170000
DTSTAMP:20260421T080010
CREATED:20251005T172232Z
LAST-MODIFIED:20251005T172232Z
UID:102599-1760029200-1760029200@thelaurelmagazine.com
SUMMARY:National Theatre Live |  Dr. Strangelove at Highlands PAC
DESCRIPTION:Seven-time BAFTA Award-winner Steve Coogan plays four roles in the world premiere stage adaptation of Stanley Kubrick’s comedy masterpiece Dr. Strangelove. This explosively funny satire\, about a rogue U.S General who triggers a nuclear attack\, is led by a world-renowned creative team including Emmy Award-winner Armando Iannucci and Olivier Award-winner Sean Foley.
URL:https://thelaurelmagazine.com/local-event/national-theatre-live-dr-strangelove-at-highlands-pac
LOCATION:Highlands PAC\, 507 Chestnut Street\, Highlands\, NC\, 28741\, United States
CATEGORIES:Performing Arts
ATTACH;FMTTYPE=image/jpeg:https://thelaurelmagazine.com/wp-content/uploads/2025/10/highlands-nc-pac-dr-strangelove.jpg
END:VEVENT
BEGIN:VEVENT
DTSTART;TZID=America/New_York:20251018T130000
DTEND;TZID=America/New_York:20251018T130000
DTSTAMP:20260421T080010
CREATED:20251005T170047Z
LAST-MODIFIED:20251005T170047Z
UID:102596-1760792400-1760792400@thelaurelmagazine.com
SUMMARY:Vincenzo Bellini's La Sonnambula at Highlands PAC
DESCRIPTION:Following triumphant Met turns in Roméo et Juliette\, La Traviata\, and Lucia di Lammermoor\, Nadine Sierra summits another peak of the soprano repertoire as Amina\, who sleepwalks her way into audiences’ hearts in Bellini’s poignant tale of love lost and found.
URL:https://thelaurelmagazine.com/local-event/vincenzo-bellinis-la-sonnambula-at-highlands-pac
LOCATION:Highlands PAC\, 507 Chestnut Street\, Highlands\, NC\, 28741\, United States
CATEGORIES:Performing Arts
ATTACH;FMTTYPE=image/jpeg:https://thelaurelmagazine.com/wp-content/uploads/2025/10/highlands-nc-highlands-pac-Vincenzo-Bellinis-La-Sonnambula.jpg
END:VEVENT
BEGIN:VEVENT
DTSTART;TZID=America/New_York:20251020T200000
DTEND;TZID=America/New_York:20251020T200000
DTSTAMP:20260421T080010
CREATED:20251018T213658Z
LAST-MODIFIED:20251018T213658Z
UID:104065-1760990400-1760990400@thelaurelmagazine.com
SUMMARY:Halloween Baking Championship Community Watch Party at Highlands PAC
DESCRIPTION:When the clock strikes 9 pm on Mondays\, something stirs in the mist over the Highlands Plateau. Not the wind… not the owls… but the pulse of Halloween Baking Championship—the bewitching hour on Food Network. \nSince September 15\, when our own Oksana Shchelgachova\, the heart and hands behind Edelweiss Bakery Boutique\, first stepped into that eerie kitchen\, Highlands has held its breath. \nHer journey hasn’t been a straight path—it’s been a roller coaster of fire and frost\, of chocolate and chaos. \nBut Oksana never folds. She fights. She creates. She represents us—our mountains\, our community\, our spirit. \nOne for all\, and all for Oksana. \nEvery week she’s faced storms that would melt lesser souls… and yet\, she rises—stronger\, sweeter\, sharper. \nThe grand finale won’t come until October 27\, but every episode leading there is a story in itself: suspense\, artistry\, and a heart that won’t quit. \nNow it’s our turn to rise with her. Join the Highlands family for a Community Watch Party on Monday\, October 20\, at the Highlands Performing Arts Center\, 507 Chestnut Street\, Highlands\, \nDoors open at 8:15 PM\, and admission is free—but come early\, before the seats vanish like magic…and beware… those who arrive late may find themselves under a chocolate spell.
URL:https://thelaurelmagazine.com/local-event/halloween-baking-championship-community-watch-party-at-highlands-pac
LOCATION:Highlands PAC\, 507 Chestnut Street\, Highlands\, NC\, 28741\, United States
CATEGORIES:Community,Performing Arts
ATTACH;FMTTYPE=image/jpeg:https://thelaurelmagazine.com/wp-content/uploads/2025/10/highlands-nc-highlands-pac-edleweiss-boutique-bakery-oksana.jpg
END:VEVENT
BEGIN:VEVENT
DTSTART;TZID=America/New_York:20251030T190000
DTEND;TZID=America/New_York:20251030T190000
DTSTAMP:20260421T080010
CREATED:20251030T123136Z
LAST-MODIFIED:20251030T123136Z
UID:104558-1761850800-1761850800@thelaurelmagazine.com
SUMMARY:Highlands Cashiers Players | Deathtrap at Highlands PAC
DESCRIPTION:The Highlands Cashiers Players end their 30th season with Deathtrap\, a suspenseful thriller opening October 30. \nDirected by Michael Lanzilotta\, the show blends dark comedy and mystery\, perfect for spooky season. \nPerformances run through November 9.
URL:https://thelaurelmagazine.com/local-event/highlands-cashiers-players-deathtrap-at-highlands-pac/2025-10-30
LOCATION:Highlands PAC\, 507 Chestnut Street\, Highlands\, NC\, 28741\, United States
CATEGORIES:Performing Arts
ATTACH;FMTTYPE=image/jpeg:https://thelaurelmagazine.com/wp-content/uploads/2025/10/highlands-nc-cashiers-players-pac-deathtrap.jpg
END:VEVENT
END:VCALENDAR