BEGIN:VCALENDAR
VERSION:2.0
PRODID:-//Laurel Magazine - ECPv6.15.16//NONSGML v1.0//EN
CALSCALE:GREGORIAN
METHOD:PUBLISH
X-ORIGINAL-URL:https://thelaurelmagazine.com
X-WR-CALDESC:Events for Laurel Magazine
REFRESH-INTERVAL;VALUE=DURATION:PT1H
X-Robots-Tag:noindex
X-PUBLISHED-TTL:PT1H
BEGIN:VTIMEZONE
TZID:America/New_York
BEGIN:DAYLIGHT
TZOFFSETFROM:-0500
TZOFFSETTO:-0400
TZNAME:EDT
DTSTART:20240310T070000
END:DAYLIGHT
BEGIN:STANDARD
TZOFFSETFROM:-0400
TZOFFSETTO:-0500
TZNAME:EST
DTSTART:20241103T060000
END:STANDARD
BEGIN:DAYLIGHT
TZOFFSETFROM:-0500
TZOFFSETTO:-0400
TZNAME:EDT
DTSTART:20250309T070000
END:DAYLIGHT
BEGIN:STANDARD
TZOFFSETFROM:-0400
TZOFFSETTO:-0500
TZNAME:EST
DTSTART:20251102T060000
END:STANDARD
BEGIN:DAYLIGHT
TZOFFSETFROM:-0500
TZOFFSETTO:-0400
TZNAME:EDT
DTSTART:20260308T070000
END:DAYLIGHT
BEGIN:STANDARD
TZOFFSETFROM:-0400
TZOFFSETTO:-0500
TZNAME:EST
DTSTART:20261101T060000
END:STANDARD
END:VTIMEZONE
BEGIN:VEVENT
DTSTART;TZID=America/New_York:20250511T160000
DTEND;TZID=America/New_York:20250511T160000
DTSTAMP:20260420T010154
CREATED:20250509T213417Z
LAST-MODIFIED:20250509T213417Z
UID:89192-1746979200-1746979200@thelaurelmagazine.com
SUMMARY:Steep Canyon Rangers at Highlands PAC
DESCRIPTION:Hailing from both the Appalachian and Piedmont regions of North Carolina\, the Rangers have long held traditional bluegrass paramount while possessing an exceptional ability to bring it down the mountain and to incorporate accessible influence from all walks of the region. \nWith the band’s last few albums\, they have gained recognition from well beyond the world of bluegrass\, earning a reputation as some of the most influential songwriters in Americana today.
URL:https://thelaurelmagazine.com/local-event/steep-canyon-rangers-at-highlands-pac
LOCATION:Highlands PAC\, 507 Chestnut Street\, Highlands\, NC\, 28741\, United States
CATEGORIES:Performing Arts
ATTACH;FMTTYPE=image/jpeg:https://thelaurelmagazine.com/wp-content/uploads/2025/05/highlands-nc-pac-steep-canyon.jpg
END:VEVENT
END:VCALENDAR