BEGIN:VCALENDAR
VERSION:2.0
PRODID:-//Laurel Magazine - ECPv6.15.16//NONSGML v1.0//EN
CALSCALE:GREGORIAN
METHOD:PUBLISH
X-ORIGINAL-URL:https://thelaurelmagazine.com
X-WR-CALDESC:Events for Laurel Magazine
REFRESH-INTERVAL;VALUE=DURATION:PT1H
X-Robots-Tag:noindex
X-PUBLISHED-TTL:PT1H
BEGIN:VTIMEZONE
TZID:America/New_York
BEGIN:DAYLIGHT
TZOFFSETFROM:-0500
TZOFFSETTO:-0400
TZNAME:EDT
DTSTART:20240310T070000
END:DAYLIGHT
BEGIN:STANDARD
TZOFFSETFROM:-0400
TZOFFSETTO:-0500
TZNAME:EST
DTSTART:20241103T060000
END:STANDARD
BEGIN:DAYLIGHT
TZOFFSETFROM:-0500
TZOFFSETTO:-0400
TZNAME:EDT
DTSTART:20250309T070000
END:DAYLIGHT
BEGIN:STANDARD
TZOFFSETFROM:-0400
TZOFFSETTO:-0500
TZNAME:EST
DTSTART:20251102T060000
END:STANDARD
BEGIN:DAYLIGHT
TZOFFSETFROM:-0500
TZOFFSETTO:-0400
TZNAME:EDT
DTSTART:20260308T070000
END:DAYLIGHT
BEGIN:STANDARD
TZOFFSETFROM:-0400
TZOFFSETTO:-0500
TZNAME:EST
DTSTART:20261101T060000
END:STANDARD
END:VTIMEZONE
BEGIN:VEVENT
DTSTART;TZID=America/New_York:20250607T140000
DTEND;TZID=America/New_York:20250607T140000
DTSTAMP:20260419T231442
CREATED:20250605T202619Z
LAST-MODIFIED:20250605T202619Z
UID:90252-1749304800-1749304800@thelaurelmagazine.com
SUMMARY:The Ballad of Wallis Island at Highlands PAC
DESCRIPTION:Eccentric lottery winner Charles lives alone on a remote island but dreams of hiring his favourite musician\, Herb McGwyer\, to play an exclusive\, private gig. Unbeknownst to Herb\, Charles has also hired Herb’s ex-bandmate and ex-girlfriend\, Nell\, with her new husband in town\, to perform the old favorites.
URL:https://thelaurelmagazine.com/local-event/the-ballad-of-wallis-island-at-highlands-pac/2025-06-07
LOCATION:Highlands PAC\, 507 Chestnut Street\, Highlands\, NC\, 28741\, United States
CATEGORIES:Performing Arts
ATTACH;FMTTYPE=image/jpeg:https://thelaurelmagazine.com/wp-content/uploads/2025/06/highlands-nc-highlands-pac-ballad-wallis-island.jpg
END:VEVENT
BEGIN:VEVENT
DTSTART;TZID=America/New_York:20250607T163000
DTEND;TZID=America/New_York:20250607T170000
DTSTAMP:20260419T231442
CREATED:20250605T204410Z
LAST-MODIFIED:20250929T194512Z
UID:90444-1749313800-1749315600@thelaurelmagazine.com
SUMMARY:Pop Up Pipers in Downtown Highlands
DESCRIPTION:The Pop-Up Pipers will appear in unexpected locations throughout downtown Highlands on select Saturdays from 4:30 to 5:00 P.M. \nKeep an ear out on the following dates:  June 7\, July 12\, August 2\, September 6\, and October 4\, but exactly where they’ll play remains a mystery\, adding an element of spontaneous joy to each performance.
URL:https://thelaurelmagazine.com/local-event/pop-up-pipers-in-downtown-highlands/2025-06-07
LOCATION:NC
CATEGORIES:Live Music,Performing Arts
ATTACH;FMTTYPE=image/jpeg:https://thelaurelmagazine.com/wp-content/uploads/2024/04/highlands-nc-Bag-Pipers.jpg
END:VEVENT
BEGIN:VEVENT
DTSTART;TZID=America/New_York:20250607T190000
DTEND;TZID=America/New_York:20250607T190000
DTSTAMP:20260419T231442
CREATED:20250605T202619Z
LAST-MODIFIED:20250605T202619Z
UID:90253-1749322800-1749322800@thelaurelmagazine.com
SUMMARY:The Ballad of Wallis Island at Highlands PAC
DESCRIPTION:Eccentric lottery winner Charles lives alone on a remote island but dreams of hiring his favourite musician\, Herb McGwyer\, to play an exclusive\, private gig. Unbeknownst to Herb\, Charles has also hired Herb’s ex-bandmate and ex-girlfriend\, Nell\, with her new husband in town\, to perform the old favorites.
URL:https://thelaurelmagazine.com/local-event/the-ballad-of-wallis-island-at-highlands-pac/2025-06-07/2
LOCATION:Highlands PAC\, 507 Chestnut Street\, Highlands\, NC\, 28741\, United States
CATEGORIES:Performing Arts
ATTACH;FMTTYPE=image/jpeg:https://thelaurelmagazine.com/wp-content/uploads/2025/06/highlands-nc-highlands-pac-ballad-wallis-island.jpg
END:VEVENT
END:VCALENDAR