BEGIN:VCALENDAR
VERSION:2.0
PRODID:-//Laurel Magazine - ECPv6.15.16//NONSGML v1.0//EN
CALSCALE:GREGORIAN
METHOD:PUBLISH
X-ORIGINAL-URL:https://thelaurelmagazine.com
X-WR-CALDESC:Events for Laurel Magazine
REFRESH-INTERVAL;VALUE=DURATION:PT1H
X-Robots-Tag:noindex
X-PUBLISHED-TTL:PT1H
BEGIN:VTIMEZONE
TZID:America/New_York
BEGIN:DAYLIGHT
TZOFFSETFROM:-0500
TZOFFSETTO:-0400
TZNAME:EDT
DTSTART:20240310T070000
END:DAYLIGHT
BEGIN:STANDARD
TZOFFSETFROM:-0400
TZOFFSETTO:-0500
TZNAME:EST
DTSTART:20241103T060000
END:STANDARD
BEGIN:DAYLIGHT
TZOFFSETFROM:-0500
TZOFFSETTO:-0400
TZNAME:EDT
DTSTART:20250309T070000
END:DAYLIGHT
BEGIN:STANDARD
TZOFFSETFROM:-0400
TZOFFSETTO:-0500
TZNAME:EST
DTSTART:20251102T060000
END:STANDARD
BEGIN:DAYLIGHT
TZOFFSETFROM:-0500
TZOFFSETTO:-0400
TZNAME:EDT
DTSTART:20260308T070000
END:DAYLIGHT
BEGIN:STANDARD
TZOFFSETFROM:-0400
TZOFFSETTO:-0500
TZNAME:EST
DTSTART:20261101T060000
END:STANDARD
END:VTIMEZONE
BEGIN:VEVENT
DTSTART;TZID=America/New_York:20250713T140000
DTEND;TZID=America/New_York:20250713T140000
DTSTAMP:20260420T030317
CREATED:20250609T154128Z
LAST-MODIFIED:20250609T154128Z
UID:90548-1752415200-1752415200@thelaurelmagazine.com
SUMMARY:Mountain Theatre Company Presents Forever Plaid at Highlands PAC
DESCRIPTION:Once upon a time\, there were four guys (Sparky\, Smudge\, Jinx and Frankie) who discovered that they shared a love for music and then got together to become their idols – The Four Freshman\, The Hi-Lo’s and The Crew Cuts. Rehearsing in the basement of Smudge’s family’s plumbing supply company\, they became “Forever Plaid”. On the way to their first big gig\, the “Plaids” are broadsided by a school bus and killed instantly. It is at the moment when their careers and lives end that the story of Forever Plaid begins… \nSinging in close harmony\, squabbling boyishly over the smallest intonations and executing their charmingly outlandish choreography with overzealous precision\, the “Plaids” are a guaranteed smash\, with a program of beloved songs and delightful patter that keeps audiences rolling in the aisles when they’re not humming along to some of the greatest hits of all time.
URL:https://thelaurelmagazine.com/local-event/mountain-theatre-company-presents-forever-plaid-at-highlands-pac/2025-07-13
LOCATION:Highlands PAC\, 507 Chestnut Street\, Highlands\, NC\, 28741\, United States
CATEGORIES:Performing Arts
ATTACH;FMTTYPE=image/jpeg:https://thelaurelmagazine.com/wp-content/uploads/2025/06/highlands-nc-PAC-mountain-theatre-company-forever-plaid.jpg
END:VEVENT
BEGIN:VEVENT
DTSTART;TZID=America/New_York:20250713T170000
DTEND;TZID=America/New_York:20250713T170000
DTSTAMP:20260420T030317
CREATED:20250618T171541Z
LAST-MODIFIED:20250628T161312Z
UID:91173-1752426000-1752426000@thelaurelmagazine.com
SUMMARY:HCCMF |  Kathy & Mark Whitehead Young Pianist Concert at The Village Green
DESCRIPTION:Kathy & Mark Whitehead Young Pianist Concert \nSonata in F# Major\, Op.78 — Beethoven \nScherzo #4 in E Major — Chopin \nFantasy on Themes from Mozart’s Marriage of Figaro — F. Liszt\, arr. Busoni \nPiano Trio in D Minor — Arensky \n  \nZitong Wang\, piano; Susie Park\, violin; James Kim\, cello
URL:https://thelaurelmagazine.com/local-event/hccmf-the-whitehead-family-young-pianist-concert-at-the-village-green
LOCATION:The Village Green\, 160 Frank Allen Road\, Cashiers\, NC\, 28717\, United States
CATEGORIES:Performing Arts
ATTACH;FMTTYPE=image/jpeg:https://thelaurelmagazine.com/wp-content/uploads/2025/06/HCCMF-piano.jpg
END:VEVENT
END:VCALENDAR