BEGIN:VCALENDAR
VERSION:2.0
PRODID:-//Laurel Magazine - ECPv6.15.16//NONSGML v1.0//EN
CALSCALE:GREGORIAN
METHOD:PUBLISH
X-WR-CALNAME:Laurel Magazine
X-ORIGINAL-URL:https://thelaurelmagazine.com
X-WR-CALDESC:Events for Laurel Magazine
REFRESH-INTERVAL;VALUE=DURATION:PT1H
X-Robots-Tag:noindex
X-PUBLISHED-TTL:PT1H
BEGIN:VTIMEZONE
TZID:America/New_York
BEGIN:DAYLIGHT
TZOFFSETFROM:-0500
TZOFFSETTO:-0400
TZNAME:EDT
DTSTART:20240310T070000
END:DAYLIGHT
BEGIN:STANDARD
TZOFFSETFROM:-0400
TZOFFSETTO:-0500
TZNAME:EST
DTSTART:20241103T060000
END:STANDARD
BEGIN:DAYLIGHT
TZOFFSETFROM:-0500
TZOFFSETTO:-0400
TZNAME:EDT
DTSTART:20250309T070000
END:DAYLIGHT
BEGIN:STANDARD
TZOFFSETFROM:-0400
TZOFFSETTO:-0500
TZNAME:EST
DTSTART:20251102T060000
END:STANDARD
BEGIN:DAYLIGHT
TZOFFSETFROM:-0500
TZOFFSETTO:-0400
TZNAME:EDT
DTSTART:20260308T070000
END:DAYLIGHT
BEGIN:STANDARD
TZOFFSETFROM:-0400
TZOFFSETTO:-0500
TZNAME:EST
DTSTART:20261101T060000
END:STANDARD
END:VTIMEZONE
BEGIN:VEVENT
DTSTART;TZID=America/New_York:20250714T170000
DTEND;TZID=America/New_York:20250714T170000
DTSTAMP:20260420T030052
CREATED:20250618T172248Z
LAST-MODIFIED:20250618T172248Z
UID:91176-1752512400-1752512400@thelaurelmagazine.com
SUMMARY:HCCMF | Strings Attached at Highlands PAC
DESCRIPTION:“Strings Attached” \nConcerto in D Major for Guitar and Strings — Vivaldi \nDanza espanola No. 5 “Addaluza” — Granados \nCapricho árabe — Terrega \nWaltz Opus 8 No. 4 — Mangore \nLa Oración del Torero\, Opus 34 — Turina \nFour for Tango — Piazzolla \nString Quartet in F Major\, Op. 96\,”American” — Dvorak \nGuitar Quintet No. 4 in D Major\, G448\,”Fandango” — Boccherini \n  \nSharon Isbin\, guitar; The Pacifica String Quartet
URL:https://thelaurelmagazine.com/local-event/hccmf-strings-attached-at-highlands-pac
LOCATION:Highlands PAC\, 507 Chestnut Street\, Highlands\, NC\, 28741\, United States
CATEGORIES:Performing Arts
ATTACH;FMTTYPE=image/jpeg:https://thelaurelmagazine.com/wp-content/uploads/2025/06/HCCMF-piano.jpg
ORGANIZER;CN="Highlands Cashiers Chamber Music Festival":MAILTO:hccmfnc@gmail.com
END:VEVENT
END:VCALENDAR