BEGIN:VCALENDAR
VERSION:2.0
PRODID:-//Laurel Magazine - ECPv6.15.16//NONSGML v1.0//EN
CALSCALE:GREGORIAN
METHOD:PUBLISH
X-ORIGINAL-URL:https://thelaurelmagazine.com
X-WR-CALDESC:Events for Laurel Magazine
REFRESH-INTERVAL;VALUE=DURATION:PT1H
X-Robots-Tag:noindex
X-PUBLISHED-TTL:PT1H
BEGIN:VTIMEZONE
TZID:America/New_York
BEGIN:DAYLIGHT
TZOFFSETFROM:-0500
TZOFFSETTO:-0400
TZNAME:EDT
DTSTART:20240310T070000
END:DAYLIGHT
BEGIN:STANDARD
TZOFFSETFROM:-0400
TZOFFSETTO:-0500
TZNAME:EST
DTSTART:20241103T060000
END:STANDARD
BEGIN:DAYLIGHT
TZOFFSETFROM:-0500
TZOFFSETTO:-0400
TZNAME:EDT
DTSTART:20250309T070000
END:DAYLIGHT
BEGIN:STANDARD
TZOFFSETFROM:-0400
TZOFFSETTO:-0500
TZNAME:EST
DTSTART:20251102T060000
END:STANDARD
BEGIN:DAYLIGHT
TZOFFSETFROM:-0500
TZOFFSETTO:-0400
TZNAME:EDT
DTSTART:20260308T070000
END:DAYLIGHT
BEGIN:STANDARD
TZOFFSETFROM:-0400
TZOFFSETTO:-0500
TZNAME:EST
DTSTART:20261101T060000
END:STANDARD
END:VTIMEZONE
BEGIN:VEVENT
DTSTART;TZID=America/New_York:20251120T170000
DTEND;TZID=America/New_York:20251120T170000
DTSTAMP:20260421T062934
CREATED:20251112T155459Z
LAST-MODIFIED:20251112T155459Z
UID:105138-1763658000-1763658000@thelaurelmagazine.com
SUMMARY:Frida: Viva La Vida at Highlands PAC
DESCRIPTION:Frida – Viva La Vida is a cinematic documentary event film that highlights the two sides of Frida Kahlo’s spirit: a revolutionary pioneering artist of contemporary feminism\, and on the other\, a human being tormented by agony and love. \nWith Asia Argento as narrator\, the two faces of the artist will be revealed\, by pursuing a common thread consisting of Frida’s own words: letters\, diaries and private confessions. The documentary film event will alternate interviews with historical documents\, captivating reconstructions\, and Frida Kahlo’s own paintings\, kept in some of the most amazing museums in Mexico.
URL:https://thelaurelmagazine.com/local-event/frida-viva-la-vida-at-highlands-pac
LOCATION:Highlands PAC\, 507 Chestnut Street\, Highlands\, NC\, 28741\, United States
CATEGORIES:Performing Arts
ATTACH;FMTTYPE=image/jpeg:https://thelaurelmagazine.com/wp-content/uploads/2025/11/highlands-nc-performing-arts-PAC-frida.jpg
END:VEVENT
END:VCALENDAR