BEGIN:VCALENDAR
VERSION:2.0
PRODID:-//Laurel Magazine - ECPv6.15.16//NONSGML v1.0//EN
CALSCALE:GREGORIAN
METHOD:PUBLISH
X-ORIGINAL-URL:https://thelaurelmagazine.com
X-WR-CALDESC:Events for Laurel Magazine
REFRESH-INTERVAL;VALUE=DURATION:PT1H
X-Robots-Tag:noindex
X-PUBLISHED-TTL:PT1H
BEGIN:VTIMEZONE
TZID:America/New_York
BEGIN:DAYLIGHT
TZOFFSETFROM:-0500
TZOFFSETTO:-0400
TZNAME:EDT
DTSTART:20240310T070000
END:DAYLIGHT
BEGIN:STANDARD
TZOFFSETFROM:-0400
TZOFFSETTO:-0500
TZNAME:EST
DTSTART:20241103T060000
END:STANDARD
BEGIN:DAYLIGHT
TZOFFSETFROM:-0500
TZOFFSETTO:-0400
TZNAME:EDT
DTSTART:20250309T070000
END:DAYLIGHT
BEGIN:STANDARD
TZOFFSETFROM:-0400
TZOFFSETTO:-0500
TZNAME:EST
DTSTART:20251102T060000
END:STANDARD
BEGIN:DAYLIGHT
TZOFFSETFROM:-0500
TZOFFSETTO:-0400
TZNAME:EDT
DTSTART:20260308T070000
END:DAYLIGHT
BEGIN:STANDARD
TZOFFSETFROM:-0400
TZOFFSETTO:-0500
TZNAME:EST
DTSTART:20261101T060000
END:STANDARD
END:VTIMEZONE
BEGIN:VEVENT
DTSTART;TZID=America/New_York:20251121T140000
DTEND;TZID=America/New_York:20251121T140000
DTSTAMP:20260421T062937
CREATED:20251112T163318Z
LAST-MODIFIED:20251112T163318Z
UID:105166-1763733600-1763733600@thelaurelmagazine.com
SUMMARY:Wicked: For Good at Highlands PAC
DESCRIPTION:Set in the Land of Oz\, before and after Dorothy Gale’s arrival from Kansas\, Elphaba and Glinda’s friendship is put to the test as they embrace their new respective identities as the Wicked Witch of the West and Glinda the Good Witch of the North\, and how the consequences of their actions will change all of Oz forever.
URL:https://thelaurelmagazine.com/local-event/wicked-for-good-at-highlands-pac/2025-11-21
LOCATION:Highlands PAC\, 507 Chestnut Street\, Highlands\, NC\, 28741\, United States
CATEGORIES:Performing Arts
ATTACH;FMTTYPE=image/jpeg:https://thelaurelmagazine.com/wp-content/uploads/2025/11/highlands-nc-performing-arts-pac-wicked-for-good.jpg
END:VEVENT
BEGIN:VEVENT
DTSTART;TZID=America/New_York:20251121T173000
DTEND;TZID=America/New_York:20251121T173000
DTSTAMP:20260421T062937
CREATED:20251112T163613Z
LAST-MODIFIED:20251112T163613Z
UID:105167-1763746200-1763746200@thelaurelmagazine.com
SUMMARY:Wicked: For Good at Highlands PAC
DESCRIPTION:Set in the Land of Oz\, before and after Dorothy Gale’s arrival from Kansas\, Elphaba and Glinda’s friendship is put to the test as they embrace their new respective identities as the Wicked Witch of the West and Glinda the Good Witch of the North\, and how the consequences of their actions will change all of Oz forever.
URL:https://thelaurelmagazine.com/local-event/wicked-for-good-at-highlands-pac-2/2025-11-21
LOCATION:Highlands PAC\, 507 Chestnut Street\, Highlands\, NC\, 28741\, United States
CATEGORIES:Performing Arts
ATTACH;FMTTYPE=image/jpeg:https://thelaurelmagazine.com/wp-content/uploads/2025/11/highlands-nc-performing-arts-pac-wicked-for-good.jpg
END:VEVENT
BEGIN:VEVENT
DTSTART;TZID=America/New_York:20251121T190000
DTEND;TZID=America/New_York:20251121T190000
DTSTAMP:20260421T062937
CREATED:20251112T155936Z
LAST-MODIFIED:20251112T155936Z
UID:105141-1763751600-1763751600@thelaurelmagazine.com
SUMMARY:Inspire School Dance Presents: The Nutcracker at Highlands PAC
DESCRIPTION:“Inspire School Dance”. Step into a world of holiday magic with this charming community production of The Nutcracker!  \nFollow young Natasha on her enchanting journey through the Land of Snow and the Kingdom of Sweets\, where toys come to life\, snowflakes dance\, and the Sugar Plum Fairy reigns supreme. \nFeaturing local dancers of all ages\, this heartfelt performance captures the wonder and joy of Tchaikovsky’s beloved ballet. A festive celebration for the whole family!
URL:https://thelaurelmagazine.com/local-event/inspire-school-dance-presents-the-nutcracker-at-highlands-pac/2025-11-21
LOCATION:Highlands PAC\, 507 Chestnut Street\, Highlands\, NC\, 28741\, United States
CATEGORIES:Performing Arts
ATTACH;FMTTYPE=image/jpeg:https://thelaurelmagazine.com/wp-content/uploads/2025/11/highlands-nc-pac-inspire-school-dance-nutcracker.jpg
END:VEVENT
END:VCALENDAR