BEGIN:VCALENDAR
VERSION:2.0
PRODID:-//Laurel Magazine - ECPv6.15.16//NONSGML v1.0//EN
CALSCALE:GREGORIAN
METHOD:PUBLISH
X-WR-CALNAME:Laurel Magazine
X-ORIGINAL-URL:https://thelaurelmagazine.com
X-WR-CALDESC:Events for Laurel Magazine
REFRESH-INTERVAL;VALUE=DURATION:PT1H
X-Robots-Tag:noindex
X-PUBLISHED-TTL:PT1H
BEGIN:VTIMEZONE
TZID:America/New_York
BEGIN:DAYLIGHT
TZOFFSETFROM:-0500
TZOFFSETTO:-0400
TZNAME:EDT
DTSTART:20240310T070000
END:DAYLIGHT
BEGIN:STANDARD
TZOFFSETFROM:-0400
TZOFFSETTO:-0500
TZNAME:EST
DTSTART:20241103T060000
END:STANDARD
BEGIN:DAYLIGHT
TZOFFSETFROM:-0500
TZOFFSETTO:-0400
TZNAME:EDT
DTSTART:20250309T070000
END:DAYLIGHT
BEGIN:STANDARD
TZOFFSETFROM:-0400
TZOFFSETTO:-0500
TZNAME:EST
DTSTART:20251102T060000
END:STANDARD
BEGIN:DAYLIGHT
TZOFFSETFROM:-0500
TZOFFSETTO:-0400
TZNAME:EDT
DTSTART:20260308T070000
END:DAYLIGHT
BEGIN:STANDARD
TZOFFSETFROM:-0400
TZOFFSETTO:-0500
TZNAME:EST
DTSTART:20261101T060000
END:STANDARD
END:VTIMEZONE
BEGIN:VEVENT
DTSTART;TZID=America/New_York:20251204T170000
DTEND;TZID=America/New_York:20251204T170000
DTSTAMP:20260421T045659
CREATED:20251112T161134Z
LAST-MODIFIED:20251112T161134Z
UID:105153-1764867600-1764867600@thelaurelmagazine.com
SUMMARY:NTL | The Fifth Step at Highlands PAC
DESCRIPTION:Olivier Award-winner Jack Lowden (Slow Horses\, Dunkirk) is joined by Emmy and BAFTA-winner Martin Freeman (The Hobbit\, The Responder) in the critically acclaimed and subversively funny new play by David Ireland. \nAfter years in the 12-step program of Alcoholics Anonymous\, James becomes a sponsor to newcomer Luka. The pair bond over black coffee\, trade stories and build a fragile friendship out of their shared experiences. But as Luka approaches step five – the moment of confession – dangerous truths emerge\, threatening the trust on which both of their recoveries depend. \nFinn den Hertog directs the provocative and entertaining production filmed live from @sohoplace on London’s West End. \nPlease note: this is a pre-recorded live performace.
URL:https://thelaurelmagazine.com/local-event/ntl-the-fifth-step-at-highlands-pac
LOCATION:Highlands PAC\, 507 Chestnut Street\, Highlands\, NC\, 28741\, United States
CATEGORIES:Performing Arts
ATTACH;FMTTYPE=image/jpeg:https://thelaurelmagazine.com/wp-content/uploads/2025/11/highlands-nc-performing-arts-pac-fifth-step.jpg
END:VEVENT
END:VCALENDAR