BEGIN:VCALENDAR
VERSION:2.0
PRODID:-//Laurel Magazine - ECPv6.15.16//NONSGML v1.0//EN
CALSCALE:GREGORIAN
METHOD:PUBLISH
X-ORIGINAL-URL:https://thelaurelmagazine.com
X-WR-CALDESC:Events for Laurel Magazine
REFRESH-INTERVAL;VALUE=DURATION:PT1H
X-Robots-Tag:noindex
X-PUBLISHED-TTL:PT1H
BEGIN:VTIMEZONE
TZID:America/New_York
BEGIN:DAYLIGHT
TZOFFSETFROM:-0500
TZOFFSETTO:-0400
TZNAME:EDT
DTSTART:20240310T070000
END:DAYLIGHT
BEGIN:STANDARD
TZOFFSETFROM:-0400
TZOFFSETTO:-0500
TZNAME:EST
DTSTART:20241103T060000
END:STANDARD
BEGIN:DAYLIGHT
TZOFFSETFROM:-0500
TZOFFSETTO:-0400
TZNAME:EDT
DTSTART:20250309T070000
END:DAYLIGHT
BEGIN:STANDARD
TZOFFSETFROM:-0400
TZOFFSETTO:-0500
TZNAME:EST
DTSTART:20251102T060000
END:STANDARD
BEGIN:DAYLIGHT
TZOFFSETFROM:-0500
TZOFFSETTO:-0400
TZNAME:EDT
DTSTART:20260308T070000
END:DAYLIGHT
BEGIN:STANDARD
TZOFFSETFROM:-0400
TZOFFSETTO:-0500
TZNAME:EST
DTSTART:20261101T060000
END:STANDARD
END:VTIMEZONE
BEGIN:VEVENT
DTSTART;TZID=America/New_York:20251216T190000
DTEND;TZID=America/New_York:20251216T190000
DTSTAMP:20260421T063005
CREATED:20251205T004431Z
LAST-MODIFIED:20251205T004431Z
UID:106934-1765911600-1765911600@thelaurelmagazine.com
SUMMARY:It's A Wonderful Life Radio Theater at Highlands PAC
DESCRIPTION:Experience the magic of “It’s a Wonderful Life” in a festive live radio theater performance by the Highlands Cashiers Players. Enjoy holiday music\, heartwarming storytelling\, and a joyful community celebration. This free December 16 show includes cake\, champagne\, and cheer. It is our gift to Highlands for 30 wonderful years.
URL:https://thelaurelmagazine.com/local-event/its-a-wonderful-life-radio-theater-at-highlands-pac
LOCATION:Highlands PAC\, 507 Chestnut Street\, Highlands\, NC\, 28741\, United States
CATEGORIES:Performing Arts
ATTACH;FMTTYPE=image/jpeg:https://thelaurelmagazine.com/wp-content/uploads/2025/12/highlands-nc-performing-arts-pac-its-a-wonderful-life-radio-theater.jpg
END:VEVENT
END:VCALENDAR