BEGIN:VCALENDAR
VERSION:2.0
PRODID:-//Laurel Magazine - ECPv6.15.16//NONSGML v1.0//EN
CALSCALE:GREGORIAN
METHOD:PUBLISH
X-ORIGINAL-URL:https://thelaurelmagazine.com
X-WR-CALDESC:Events for Laurel Magazine
REFRESH-INTERVAL;VALUE=DURATION:PT1H
X-Robots-Tag:noindex
X-PUBLISHED-TTL:PT1H
BEGIN:VTIMEZONE
TZID:America/New_York
BEGIN:DAYLIGHT
TZOFFSETFROM:-0500
TZOFFSETTO:-0400
TZNAME:EDT
DTSTART:20250309T070000
END:DAYLIGHT
BEGIN:STANDARD
TZOFFSETFROM:-0400
TZOFFSETTO:-0500
TZNAME:EST
DTSTART:20251102T060000
END:STANDARD
BEGIN:DAYLIGHT
TZOFFSETFROM:-0500
TZOFFSETTO:-0400
TZNAME:EDT
DTSTART:20260308T070000
END:DAYLIGHT
BEGIN:STANDARD
TZOFFSETFROM:-0400
TZOFFSETTO:-0500
TZNAME:EST
DTSTART:20261101T060000
END:STANDARD
BEGIN:DAYLIGHT
TZOFFSETFROM:-0500
TZOFFSETTO:-0400
TZNAME:EDT
DTSTART:20270314T070000
END:DAYLIGHT
BEGIN:STANDARD
TZOFFSETFROM:-0400
TZOFFSETTO:-0500
TZNAME:EST
DTSTART:20271107T060000
END:STANDARD
END:VTIMEZONE
BEGIN:VEVENT
DTSTART;TZID=America/New_York:20260524T140000
DTEND;TZID=America/New_York:20260524T140000
DTSTAMP:20260421T045911
CREATED:20260417T170833Z
LAST-MODIFIED:20260417T170833Z
UID:117263-1779631200-1779631200@thelaurelmagazine.com
SUMMARY:Highlands Cashiers Players | Blithe Spirit at Highlands PAC
DESCRIPTION:Highlands Cashiers Players present Blithe Spirit at Highlands PAC! \nBlithe Spirit by Noël Coward is a witty supernatural comedy about novelist Charles Condomine\, whose quiet life is upended when a séance summons the ghost of his mischievous first wife. Her unexpected return creates chaos in his household—especially when she decides she’s not leaving. Full of sparkling dialogue and farcical situations\, Blithe Spirit is a delightful clash between the living and the dead that delivers nonstop laughs and classic Coward charm.
URL:https://thelaurelmagazine.com/local-event/highlands-cashiers-players-blithe-spirit-at-highlands-pac/2026-05-24
LOCATION:Highlands PAC\, 507 Chestnut Street\, Highlands\, NC\, 28741\, United States
CATEGORIES:Performing Arts
ATTACH;FMTTYPE=image/jpeg:https://thelaurelmagazine.com/wp-content/uploads/2026/04/highlands-nc-performing-arts-pac-players-blithe-spirit.jpg
END:VEVENT
END:VCALENDAR