BEGIN:VCALENDAR
VERSION:2.0
PRODID:-//Laurel Magazine - ECPv6.15.16//NONSGML v1.0//EN
CALSCALE:GREGORIAN
METHOD:PUBLISH
X-ORIGINAL-URL:https://thelaurelmagazine.com
X-WR-CALDESC:Events for Laurel Magazine
REFRESH-INTERVAL;VALUE=DURATION:PT1H
X-Robots-Tag:noindex
X-PUBLISHED-TTL:PT1H
BEGIN:VTIMEZONE
TZID:America/New_York
BEGIN:DAYLIGHT
TZOFFSETFROM:-0500
TZOFFSETTO:-0400
TZNAME:EDT
DTSTART:20240310T070000
END:DAYLIGHT
BEGIN:STANDARD
TZOFFSETFROM:-0400
TZOFFSETTO:-0500
TZNAME:EST
DTSTART:20241103T060000
END:STANDARD
BEGIN:DAYLIGHT
TZOFFSETFROM:-0500
TZOFFSETTO:-0400
TZNAME:EDT
DTSTART:20250309T070000
END:DAYLIGHT
BEGIN:STANDARD
TZOFFSETFROM:-0400
TZOFFSETTO:-0500
TZNAME:EST
DTSTART:20251102T060000
END:STANDARD
BEGIN:DAYLIGHT
TZOFFSETFROM:-0500
TZOFFSETTO:-0400
TZNAME:EDT
DTSTART:20260308T070000
END:DAYLIGHT
BEGIN:STANDARD
TZOFFSETFROM:-0400
TZOFFSETTO:-0500
TZNAME:EST
DTSTART:20261101T060000
END:STANDARD
END:VTIMEZONE
BEGIN:VEVENT
DTSTART;TZID=America/New_York:20250720T160000
DTEND;TZID=America/New_York:20250720T160000
DTSTAMP:20260420T095628
CREATED:20250618T193432Z
LAST-MODIFIED:20250618T193432Z
UID:91207-1753027200-1753027200@thelaurelmagazine.com
SUMMARY:The Modern Gentlemen at Highlands PAC
DESCRIPTION:Brothers Brian and Brandon Brigham and Landon Beard and Todd Fournier rose to prominence as longtime members of the Rock and Roll Hall of Fame group Frankie Valli & The Four Seasons. Heralded as “The MODERN Day Keepers of the Classics\,” they’ve earned acclaim for their timeless vocal harmonies and dedication to preserving classic hits. Individually\, they each possess their own distinctive voice and charismatic charm. Together\, their harmonies are unparalleled\, seamlessly transitioning between genres and eras that transcend time. What sets “TMG” apart is their ability to bridge the gap between generations with a genuine camaraderie and music pedigree that features their artistic prowess.
URL:https://thelaurelmagazine.com/local-event/the-modern-gentlemen-at-highlands-pac
LOCATION:Highlands PAC\, 507 Chestnut Street\, Highlands\, NC\, 28741\, United States
CATEGORIES:Performing Arts
ATTACH;FMTTYPE=image/jpeg:https://thelaurelmagazine.com/wp-content/uploads/2025/06/highlands-nc-Highlands-pac-modern-gentlemen.jpg
END:VEVENT
BEGIN:VEVENT
DTSTART;TZID=America/New_York:20250720T170000
DTEND;TZID=America/New_York:20250720T170000
DTSTAMP:20260420T095628
CREATED:20250618T191225Z
LAST-MODIFIED:20250618T191225Z
UID:91196-1753030800-1753030800@thelaurelmagazine.com
SUMMARY:HCCMF |  The Rites of Spring at The Village Green
DESCRIPTION:“The Rites of Spring” \nSpring from the Four Seasons — Vivaldi \nTo Spring — Grieg \nSpring Sonata — Beethoven \nThe Rite of Spring for Piano 4 hands — Stravinsky \n  \nJulie Coucheron & Elizabeth Pridgen\, piano; Chee-Yun\, violin
URL:https://thelaurelmagazine.com/local-event/hccmf-the-rites-of-spring-at-the-village-green
LOCATION:The Village Green\, 160 Frank Allen Road\, Cashiers\, NC\, 28717\, United States
CATEGORIES:Performing Arts
ATTACH;FMTTYPE=image/jpeg:https://thelaurelmagazine.com/wp-content/uploads/2025/06/HCCMF-piano.jpg
ORGANIZER;CN="Highlands Cashiers Chamber Music Festival":MAILTO:hccmfnc@gmail.com
END:VEVENT
BEGIN:VEVENT
DTSTART;TZID=America/New_York:20250721T170000
DTEND;TZID=America/New_York:20250721T170000
DTSTAMP:20260420T095628
CREATED:20250618T195101Z
LAST-MODIFIED:20250627T141614Z
UID:91210-1753117200-1753117200@thelaurelmagazine.com
SUMMARY:HCCMF | Musical Stories at Highlands PAC
DESCRIPTION:“Musical Stories” \nFerdinand the Bull — Ridout \nBabar the Little Elephant — Poulenc \nThe Soldier’s Tale — Stravinsky
URL:https://thelaurelmagazine.com/local-event/hccmf-musical-stories-at-highlands-pac
LOCATION:Highlands PAC\, 507 Chestnut Street\, Highlands\, NC\, 28741\, United States
CATEGORIES:Performing Arts
ATTACH;FMTTYPE=image/jpeg:https://thelaurelmagazine.com/wp-content/uploads/2025/06/HCCMF-piano.jpg
ORGANIZER;CN="Highlands Cashiers Chamber Music Festival":MAILTO:hccmfnc@gmail.com
END:VEVENT
BEGIN:VEVENT
DTSTART;TZID=America/New_York:20250722T170000
DTEND;TZID=America/New_York:20250722T170000
DTSTAMP:20260420T095628
CREATED:20250618T195059Z
LAST-MODIFIED:20250627T141621Z
UID:91211-1753203600-1753203600@thelaurelmagazine.com
SUMMARY:HCCMF | Musical Stories at The Village Green
DESCRIPTION:“Musical Stories” \nFerdinand the Bull — Ridout \nBabar the Little Elephant — Poulenc \nThe Soldier’s Tale — Stravinsky
URL:https://thelaurelmagazine.com/local-event/hccmf-musical-stories-at-the-village-green
LOCATION:The Village Green\, 160 Frank Allen Road\, Cashiers\, NC\, 28717\, United States
CATEGORIES:Performing Arts
ATTACH;FMTTYPE=image/jpeg:https://thelaurelmagazine.com/wp-content/uploads/2025/06/HCCMF-piano.jpg
ORGANIZER;CN="Highlands Cashiers Chamber Music Festival":MAILTO:hccmfnc@gmail.com
END:VEVENT
BEGIN:VEVENT
DTSTART;TZID=America/New_York:20250724T173000
DTEND;TZID=America/New_York:20250724T173000
DTSTAMP:20260420T095628
CREATED:20250618T201342Z
LAST-MODIFIED:20250618T201342Z
UID:91216-1753378200-1753378200@thelaurelmagazine.com
SUMMARY:HCCMF | Martinis\, Mozart and More! at The Farm at Old Edwards
DESCRIPTION:HCCMF presents\, in collaboration with Old Edwards Hospitality Group a special event featuring Elisabeth Remy Johnson\, harp; Ransom Wilson\, flute; Vega Quartet. \nConcert for Harp and Flute: Mozart\nSonatine for Flute\, Cello\, & Harp – Ravel\nHalleluiah: Leonard Cohen \nRefreshments will be served before the concert; a cash bar will be available. \n$125/per person which includes two (2) drink tickets\nCall for reservations – 828-526-9060 \nOrder online starting March 15 or call for required reservations \nSponsored by Dianne & Myron Mall; Jack Sapolsky & Richard Bordeaux
URL:https://thelaurelmagazine.com/local-event/hccmf-martinis-mozart-and-more-at-the-farm-at-old-edwards
LOCATION:The Farm at Old Edwards\, 336 Arnold Road\, Highlands\, NC\, 28741\, United States
CATEGORIES:Performing Arts
ATTACH;FMTTYPE=image/jpeg:https://thelaurelmagazine.com/wp-content/uploads/2025/06/HCCMF-piano.jpg
ORGANIZER;CN="Highlands Cashiers Chamber Music Festival":MAILTO:hccmfnc@gmail.com
END:VEVENT
BEGIN:VEVENT
DTSTART;TZID=America/New_York:20250726T170000
DTEND;TZID=America/New_York:20250726T170000
DTSTAMP:20260420T095628
CREATED:20250618T203553Z
LAST-MODIFIED:20250618T203553Z
UID:91227-1753549200-1753549200@thelaurelmagazine.com
SUMMARY:HCCMF | The Enchanted Harp at Highlands PAC
DESCRIPTION:“The Enchanted Harp” \nElegiac Trio — Arnold Bax \nNuntii — Catrin Finch \nVocalise — Cheryl France Hoad \nSonata. No. 1 — Damase \nSacred and Profane Dances — Debussy \nAlborada del Gracioso — Ravel \nIntroduction and Allegro — Ravel \nElisabeth Remy Johnson\, harp; Ransom Wilson\, flute; Jesse McCandless\, clarinet; Vega Quartet
URL:https://thelaurelmagazine.com/local-event/hccmf-the-enchanted-harp-at-highlands-pac
LOCATION:Highlands PAC\, 507 Chestnut Street\, Highlands\, NC\, 28741\, United States
CATEGORIES:Performing Arts
ATTACH;FMTTYPE=image/jpeg:https://thelaurelmagazine.com/wp-content/uploads/2025/06/HCCMF-piano.jpg
ORGANIZER;CN="Highlands Cashiers Chamber Music Festival":MAILTO:hccmfnc@gmail.com
END:VEVENT
END:VCALENDAR