BEGIN:VCALENDAR
VERSION:2.0
PRODID:-//Laurel Magazine - ECPv6.15.16//NONSGML v1.0//EN
CALSCALE:GREGORIAN
METHOD:PUBLISH
X-ORIGINAL-URL:https://thelaurelmagazine.com
X-WR-CALDESC:Events for Laurel Magazine
REFRESH-INTERVAL;VALUE=DURATION:PT1H
X-Robots-Tag:noindex
X-PUBLISHED-TTL:PT1H
BEGIN:VTIMEZONE
TZID:America/New_York
BEGIN:DAYLIGHT
TZOFFSETFROM:-0500
TZOFFSETTO:-0400
TZNAME:EDT
DTSTART:20240310T070000
END:DAYLIGHT
BEGIN:STANDARD
TZOFFSETFROM:-0400
TZOFFSETTO:-0500
TZNAME:EST
DTSTART:20241103T060000
END:STANDARD
BEGIN:DAYLIGHT
TZOFFSETFROM:-0500
TZOFFSETTO:-0400
TZNAME:EDT
DTSTART:20250309T070000
END:DAYLIGHT
BEGIN:STANDARD
TZOFFSETFROM:-0400
TZOFFSETTO:-0500
TZNAME:EST
DTSTART:20251102T060000
END:STANDARD
BEGIN:DAYLIGHT
TZOFFSETFROM:-0500
TZOFFSETTO:-0400
TZNAME:EDT
DTSTART:20260308T070000
END:DAYLIGHT
BEGIN:STANDARD
TZOFFSETFROM:-0400
TZOFFSETTO:-0500
TZNAME:EST
DTSTART:20261101T060000
END:STANDARD
END:VTIMEZONE
BEGIN:VEVENT
DTSTART;TZID=America/New_York:20250727T170000
DTEND;TZID=America/New_York:20250727T170000
DTSTAMP:20260420T095632
CREATED:20250618T203548Z
LAST-MODIFIED:20250618T203548Z
UID:91226-1753635600-1753635600@thelaurelmagazine.com
SUMMARY:HCCMF | The Enchanted Harp at The Village Green
DESCRIPTION:“The Enchanted Harp” \nElegiac Trio — Arnold Bax \nNuntii — Catrin Finch \nVocalise — Cheryl France Hoad \nSonata. No. 1 — Damase \nSacred and Profane Dances — Debussy \nAlborada del Gracioso — Ravel \nIntroduction and Allegro — Ravel \nElisabeth Remy Johnson\, harp; Ransom Wilson\, flute; Jesse McCandless\, clarinet; Vega Quartet
URL:https://thelaurelmagazine.com/local-event/hccmf-the-enchanted-harp-at-the-village-green
LOCATION:The Village Green\, 160 Frank Allen Road\, Cashiers\, NC\, 28717\, United States
CATEGORIES:Performing Arts
ATTACH;FMTTYPE=image/jpeg:https://thelaurelmagazine.com/wp-content/uploads/2025/06/HCCMF-piano.jpg
ORGANIZER;CN="Highlands Cashiers Chamber Music Festival":MAILTO:hccmfnc@gmail.com
END:VEVENT
BEGIN:VEVENT
DTSTART;TZID=America/New_York:20250728T170000
DTEND;TZID=America/New_York:20250728T170000
DTSTAMP:20260420T095632
CREATED:20250618T210948Z
LAST-MODIFIED:20250618T210948Z
UID:91235-1753722000-1753722000@thelaurelmagazine.com
SUMMARY:HCCMF | Eternal Love Triangle at Highlands PAC
DESCRIPTION:“Eternal Love Triangle” \nThree Romances — Clara Schumann \nString Quartet in A Major — Robert Schumann \nSonata in F Minor — Brahms \nVijay Venkatesh\, piano; Jesse McCandless\, clarinet; Vega Quartet
URL:https://thelaurelmagazine.com/local-event/hccmf-eternal-love-triangle-at-highlands-pac
LOCATION:Highlands PAC\, 507 Chestnut Street\, Highlands\, NC\, 28741\, United States
CATEGORIES:Performing Arts
ATTACH;FMTTYPE=image/jpeg:https://thelaurelmagazine.com/wp-content/uploads/2025/06/HCCMF-piano.jpg
END:VEVENT
BEGIN:VEVENT
DTSTART;TZID=America/New_York:20250729T170000
DTEND;TZID=America/New_York:20250729T170000
DTSTAMP:20260420T095632
CREATED:20250618T210955Z
LAST-MODIFIED:20250618T210955Z
UID:91231-1753808400-1753808400@thelaurelmagazine.com
SUMMARY:HCCMF | Eternal Love Triangle at The Village Green
DESCRIPTION:“Eternal Love Triangle” \nThree Romances — Clara Schumann \nString Quartet in A Major — Robert Schumann \nSonata in F Minor — Brahms \nVijay Venkatesh\, piano; Jesse McCandless\, clarinet; Vega Quartet \n 
URL:https://thelaurelmagazine.com/local-event/hccmf-eternal-love-triangle-at-the-village-green
LOCATION:The Village Green\, 160 Frank Allen Road\, Cashiers\, NC\, 28717\, United States
CATEGORIES:Performing Arts
ATTACH;FMTTYPE=image/jpeg:https://thelaurelmagazine.com/wp-content/uploads/2025/06/HCCMF-piano.jpg
ORGANIZER;CN="Highlands Cashiers Chamber Music Festival":MAILTO:hccmfnc@gmail.com
END:VEVENT
BEGIN:VEVENT
DTSTART;TZID=America/New_York:20250802T163000
DTEND;TZID=America/New_York:20250802T170000
DTSTAMP:20260420T095632
CREATED:20250605T204410Z
LAST-MODIFIED:20250929T194513Z
UID:90447-1754152200-1754154000@thelaurelmagazine.com
SUMMARY:Pop Up Pipers in Downtown Highlands
DESCRIPTION:The Pop-Up Pipers will appear in unexpected locations throughout downtown Highlands on select Saturdays from 4:30 to 5:00 P.M. \nKeep an ear out on the following dates:  June 7\, July 12\, August 2\, September 6\, and October 4\, but exactly where they’ll play remains a mystery\, adding an element of spontaneous joy to each performance.
URL:https://thelaurelmagazine.com/local-event/pop-up-pipers-in-downtown-highlands/2025-08-02
LOCATION:NC
CATEGORIES:Live Music,Performing Arts
ATTACH;FMTTYPE=image/jpeg:https://thelaurelmagazine.com/wp-content/uploads/2024/04/highlands-nc-Bag-Pipers.jpg
END:VEVENT
BEGIN:VEVENT
DTSTART;TZID=America/New_York:20250802T170000
DTEND;TZID=America/New_York:20250802T170000
DTSTAMP:20260420T095632
CREATED:20250715T162856Z
LAST-MODIFIED:20250715T162856Z
UID:93215-1754154000-1754154000@thelaurelmagazine.com
SUMMARY:HCCMF | Sonata Mulattica at Highlands PAC
DESCRIPTION: “Sonata Mulattica” \nRita Dove\, poet; Nijoma Grevious\, violin; William Ransom\, piano  \n 
URL:https://thelaurelmagazine.com/local-event/hccmf-sonata-mulattica-at-highlands-pac
LOCATION:Highlands PAC\, 507 Chestnut Street\, Highlands\, NC\, 28741\, United States
CATEGORIES:Live Music,Performing Arts
ATTACH;FMTTYPE=image/jpeg:https://thelaurelmagazine.com/wp-content/uploads/2025/06/HCCMF-piano.jpg
ORGANIZER;CN="Highlands Cashiers Chamber Music Festival":MAILTO:hccmfnc@gmail.com
END:VEVENT
END:VCALENDAR