BEGIN:VCALENDAR
VERSION:2.0
PRODID:-//Laurel Magazine - ECPv6.15.16//NONSGML v1.0//EN
CALSCALE:GREGORIAN
METHOD:PUBLISH
X-ORIGINAL-URL:https://thelaurelmagazine.com
X-WR-CALDESC:Events for Laurel Magazine
REFRESH-INTERVAL;VALUE=DURATION:PT1H
X-Robots-Tag:noindex
X-PUBLISHED-TTL:PT1H
BEGIN:VTIMEZONE
TZID:America/New_York
BEGIN:DAYLIGHT
TZOFFSETFROM:-0500
TZOFFSETTO:-0400
TZNAME:EDT
DTSTART:20240310T070000
END:DAYLIGHT
BEGIN:STANDARD
TZOFFSETFROM:-0400
TZOFFSETTO:-0500
TZNAME:EST
DTSTART:20241103T060000
END:STANDARD
BEGIN:DAYLIGHT
TZOFFSETFROM:-0500
TZOFFSETTO:-0400
TZNAME:EDT
DTSTART:20250309T070000
END:DAYLIGHT
BEGIN:STANDARD
TZOFFSETFROM:-0400
TZOFFSETTO:-0500
TZNAME:EST
DTSTART:20251102T060000
END:STANDARD
BEGIN:DAYLIGHT
TZOFFSETFROM:-0500
TZOFFSETTO:-0400
TZNAME:EDT
DTSTART:20260308T070000
END:DAYLIGHT
BEGIN:STANDARD
TZOFFSETFROM:-0400
TZOFFSETTO:-0500
TZNAME:EST
DTSTART:20261101T060000
END:STANDARD
END:VTIMEZONE
BEGIN:VEVENT
DTSTART;TZID=America/New_York:20250921T090000
DTEND;TZID=America/New_York:20250921T123000
DTSTAMP:20260420T114756
CREATED:20250903T143739Z
LAST-MODIFIED:20250903T143739Z
UID:96133-1758445200-1758457800@thelaurelmagazine.com
SUMMARY:Highlands Cashiers Film Festival at Highlands PAC
DESCRIPTION:The Highlands-Cashiers Film Festival will be held September 18 – 21\, 2025 in the towns of Highlands and Cashiers\, North Carolina. \nFilm\, filmmakers\, actors\, directors\, producers\, and writers will be promoted at this 4-day event\, featuring screenings of the film festival finalists\, an industry professional panel\, a Director and Film Critic workshop\, and an awards ceremony celebrating the winners of the festival. \nAll proceeds from the Highlands-Cashiers Film Festival will be used to support the performing arts within Highlands\, including the PAC Educational Theatre programs at the Highlands Performing Arts Center\, a 501(c)3 not-for-profit organization. \nFor more event information including a full schedule\, please visit https://www.highlandscashiersfilmfestival.com/
URL:https://thelaurelmagazine.com/local-event/highlands-cashiers-film-festival-at-highlands-pac/2025-09-21
LOCATION:Highlands PAC\, 507 Chestnut Street\, Highlands\, NC\, 28741\, United States
CATEGORIES:Performing Arts,Visual Arts
ATTACH;FMTTYPE=image/jpeg:https://thelaurelmagazine.com/wp-content/uploads/2025/09/highlands-nc-cashiers-nc-film-festival-cropped.jpg
END:VEVENT
BEGIN:VEVENT
DTSTART;TZID=America/New_York:20250921T113000
DTEND;TZID=America/New_York:20250921T113000
DTSTAMP:20260420T114756
CREATED:20250903T164549Z
LAST-MODIFIED:20250903T164549Z
UID:96150-1758454200-1758454200@thelaurelmagazine.com
SUMMARY:HCFF | "Best of" Awards and People's Choice Award at Highlands PAC
DESCRIPTION:Viewers at each individual film will get a chance to vote.  The winning film will be announced on Sunday. \nWinners will receive $1000 and a custom designed art piece which was made by a local artist from the The Bascom\, a Center for the Visual Arts in Highlands\, NC.
URL:https://thelaurelmagazine.com/local-event/hcff-best-of-awards-and-peoples-choice-award-at-highlands-pac
LOCATION:Highlands PAC\, 507 Chestnut Street\, Highlands\, NC\, 28741\, United States
CATEGORIES:Performing Arts
ATTACH;FMTTYPE=image/jpeg:https://thelaurelmagazine.com/wp-content/uploads/2025/09/highlands-nc-cashiers-nc-film-festival-cropped.jpg
END:VEVENT
BEGIN:VEVENT
DTSTART;TZID=America/New_York:20250927T193000
DTEND;TZID=America/New_York:20250927T193000
DTSTAMP:20260420T114756
CREATED:20250814T010744Z
LAST-MODIFIED:20250814T010744Z
UID:95490-1759001400-1759001400@thelaurelmagazine.com
SUMMARY:Brubeck Brothers Quartet at Highlands PAC
DESCRIPTION:Chris and Dan Brubeck have been making music together practically all their lives. Drummer Dan and bassist\, trombonist\, and composer Chris cut their first record together in 1966 more than a half-century ago. They’ve subsequently played a variety of styles in several different groups\, as well as with their father\, jazz giant Dave Brubeck\, and their own Brubeck Brothers Quartet. With Dan and Chris as the foundation\, guitarist Mike DeMicco and pianist Chuck Lamb complete this dynamic Quartet. They perform at concert series\, colleges\, and jazz festivals across North America and Europe\, including the Newport\, Detroit\, Montreal\, Playboy/Hollywood Bowl\, and Monterey Jazz Festivals.
URL:https://thelaurelmagazine.com/local-event/brubeck-brothers-quartet-at-highlands-pac
LOCATION:Highlands PAC\, 507 Chestnut Street\, Highlands\, NC\, 28741\, United States
CATEGORIES:Performing Arts
ATTACH;FMTTYPE=image/jpeg:https://thelaurelmagazine.com/wp-content/uploads/2025/08/highlands-nc-pac-performing-arts-brubeck-brothers-quartet.jpg
END:VEVENT
END:VCALENDAR