BEGIN:VCALENDAR
VERSION:2.0
PRODID:-//Laurel Magazine - ECPv6.15.16//NONSGML v1.0//EN
CALSCALE:GREGORIAN
METHOD:PUBLISH
X-ORIGINAL-URL:https://thelaurelmagazine.com
X-WR-CALDESC:Events for Laurel Magazine
REFRESH-INTERVAL;VALUE=DURATION:PT1H
X-Robots-Tag:noindex
X-PUBLISHED-TTL:PT1H
BEGIN:VTIMEZONE
TZID:America/New_York
BEGIN:DAYLIGHT
TZOFFSETFROM:-0500
TZOFFSETTO:-0400
TZNAME:EDT
DTSTART:20240310T070000
END:DAYLIGHT
BEGIN:STANDARD
TZOFFSETFROM:-0400
TZOFFSETTO:-0500
TZNAME:EST
DTSTART:20241103T060000
END:STANDARD
BEGIN:DAYLIGHT
TZOFFSETFROM:-0500
TZOFFSETTO:-0400
TZNAME:EDT
DTSTART:20250309T070000
END:DAYLIGHT
BEGIN:STANDARD
TZOFFSETFROM:-0400
TZOFFSETTO:-0500
TZNAME:EST
DTSTART:20251102T060000
END:STANDARD
BEGIN:DAYLIGHT
TZOFFSETFROM:-0500
TZOFFSETTO:-0400
TZNAME:EDT
DTSTART:20260308T070000
END:DAYLIGHT
BEGIN:STANDARD
TZOFFSETFROM:-0400
TZOFFSETTO:-0500
TZNAME:EST
DTSTART:20261101T060000
END:STANDARD
END:VTIMEZONE
BEGIN:VEVENT
DTSTART;TZID=America/New_York:20251030T190000
DTEND;TZID=America/New_York:20251030T190000
DTSTAMP:20260420T224017
CREATED:20251030T123136Z
LAST-MODIFIED:20251030T123136Z
UID:104558-1761850800-1761850800@thelaurelmagazine.com
SUMMARY:Highlands Cashiers Players | Deathtrap at Highlands PAC
DESCRIPTION:The Highlands Cashiers Players end their 30th season with Deathtrap\, a suspenseful thriller opening October 30. \nDirected by Michael Lanzilotta\, the show blends dark comedy and mystery\, perfect for spooky season. \nPerformances run through November 9.
URL:https://thelaurelmagazine.com/local-event/highlands-cashiers-players-deathtrap-at-highlands-pac/2025-10-30
LOCATION:Highlands PAC\, 507 Chestnut Street\, Highlands\, NC\, 28741\, United States
CATEGORIES:Performing Arts
ATTACH;FMTTYPE=image/jpeg:https://thelaurelmagazine.com/wp-content/uploads/2025/10/highlands-nc-cashiers-players-pac-deathtrap.jpg
END:VEVENT
BEGIN:VEVENT
DTSTART;TZID=America/New_York:20251101T170000
DTEND;TZID=America/New_York:20251101T170000
DTSTAMP:20260420T224017
CREATED:20251030T123136Z
LAST-MODIFIED:20251030T123136Z
UID:104561-1762016400-1762016400@thelaurelmagazine.com
SUMMARY:Highlands Cashiers Players | Deathtrap at Highlands PAC
DESCRIPTION:The Highlands Cashiers Players end their 30th season with Deathtrap\, a suspenseful thriller opening October 30. \nDirected by Michael Lanzilotta\, the show blends dark comedy and mystery\, perfect for spooky season. \nPerformances run through November 9.
URL:https://thelaurelmagazine.com/local-event/highlands-cashiers-players-deathtrap-at-highlands-pac/2025-11-01
LOCATION:Highlands PAC\, 507 Chestnut Street\, Highlands\, NC\, 28741\, United States
CATEGORIES:Performing Arts
ATTACH;FMTTYPE=image/jpeg:https://thelaurelmagazine.com/wp-content/uploads/2025/10/highlands-nc-cashiers-players-pac-deathtrap.jpg
END:VEVENT
END:VCALENDAR