BEGIN:VCALENDAR
VERSION:2.0
PRODID:-//Laurel Magazine - ECPv6.15.16//NONSGML v1.0//EN
CALSCALE:GREGORIAN
METHOD:PUBLISH
X-ORIGINAL-URL:https://thelaurelmagazine.com
X-WR-CALDESC:Events for Laurel Magazine
REFRESH-INTERVAL;VALUE=DURATION:PT1H
X-Robots-Tag:noindex
X-PUBLISHED-TTL:PT1H
BEGIN:VTIMEZONE
TZID:America/New_York
BEGIN:DAYLIGHT
TZOFFSETFROM:-0500
TZOFFSETTO:-0400
TZNAME:EDT
DTSTART:20240310T070000
END:DAYLIGHT
BEGIN:STANDARD
TZOFFSETFROM:-0400
TZOFFSETTO:-0500
TZNAME:EST
DTSTART:20241103T060000
END:STANDARD
BEGIN:DAYLIGHT
TZOFFSETFROM:-0500
TZOFFSETTO:-0400
TZNAME:EDT
DTSTART:20250309T070000
END:DAYLIGHT
BEGIN:STANDARD
TZOFFSETFROM:-0400
TZOFFSETTO:-0500
TZNAME:EST
DTSTART:20251102T060000
END:STANDARD
BEGIN:DAYLIGHT
TZOFFSETFROM:-0500
TZOFFSETTO:-0400
TZNAME:EDT
DTSTART:20260308T070000
END:DAYLIGHT
BEGIN:STANDARD
TZOFFSETFROM:-0400
TZOFFSETTO:-0500
TZNAME:EST
DTSTART:20261101T060000
END:STANDARD
END:VTIMEZONE
BEGIN:VEVENT
DTSTART;TZID=America/New_York:20251123T140000
DTEND;TZID=America/New_York:20251123T140000
DTSTAMP:20260421T181226
CREATED:20251112T163318Z
LAST-MODIFIED:20251112T163318Z
UID:105170-1763906400-1763906400@thelaurelmagazine.com
SUMMARY:Wicked: For Good at Highlands PAC
DESCRIPTION:Set in the Land of Oz\, before and after Dorothy Gale’s arrival from Kansas\, Elphaba and Glinda’s friendship is put to the test as they embrace their new respective identities as the Wicked Witch of the West and Glinda the Good Witch of the North\, and how the consequences of their actions will change all of Oz forever.
URL:https://thelaurelmagazine.com/local-event/wicked-for-good-at-highlands-pac/2025-11-23
LOCATION:Highlands PAC\, 507 Chestnut Street\, Highlands\, NC\, 28741\, United States
CATEGORIES:Performing Arts
ATTACH;FMTTYPE=image/jpeg:https://thelaurelmagazine.com/wp-content/uploads/2025/11/highlands-nc-performing-arts-pac-wicked-for-good.jpg
END:VEVENT
BEGIN:VEVENT
DTSTART;TZID=America/New_York:20251123T173000
DTEND;TZID=America/New_York:20251123T173000
DTSTAMP:20260421T181226
CREATED:20251112T163613Z
LAST-MODIFIED:20251112T163613Z
UID:105180-1763919000-1763919000@thelaurelmagazine.com
SUMMARY:Wicked: For Good at Highlands PAC
DESCRIPTION:Set in the Land of Oz\, before and after Dorothy Gale’s arrival from Kansas\, Elphaba and Glinda’s friendship is put to the test as they embrace their new respective identities as the Wicked Witch of the West and Glinda the Good Witch of the North\, and how the consequences of their actions will change all of Oz forever.
URL:https://thelaurelmagazine.com/local-event/wicked-for-good-at-highlands-pac-2/2025-11-23
LOCATION:Highlands PAC\, 507 Chestnut Street\, Highlands\, NC\, 28741\, United States
CATEGORIES:Performing Arts
ATTACH;FMTTYPE=image/jpeg:https://thelaurelmagazine.com/wp-content/uploads/2025/11/highlands-nc-performing-arts-pac-wicked-for-good.jpg
END:VEVENT
BEGIN:VEVENT
DTSTART;TZID=America/New_York:20251124T140000
DTEND;TZID=America/New_York:20251124T140000
DTSTAMP:20260421T181226
CREATED:20251112T163318Z
LAST-MODIFIED:20251112T163318Z
UID:105171-1763992800-1763992800@thelaurelmagazine.com
SUMMARY:Wicked: For Good at Highlands PAC
DESCRIPTION:Set in the Land of Oz\, before and after Dorothy Gale’s arrival from Kansas\, Elphaba and Glinda’s friendship is put to the test as they embrace their new respective identities as the Wicked Witch of the West and Glinda the Good Witch of the North\, and how the consequences of their actions will change all of Oz forever.
URL:https://thelaurelmagazine.com/local-event/wicked-for-good-at-highlands-pac/2025-11-24
LOCATION:Highlands PAC\, 507 Chestnut Street\, Highlands\, NC\, 28741\, United States
CATEGORIES:Performing Arts
ATTACH;FMTTYPE=image/jpeg:https://thelaurelmagazine.com/wp-content/uploads/2025/11/highlands-nc-performing-arts-pac-wicked-for-good.jpg
END:VEVENT
BEGIN:VEVENT
DTSTART;TZID=America/New_York:20251124T173000
DTEND;TZID=America/New_York:20251124T173000
DTSTAMP:20260421T181226
CREATED:20251112T163613Z
LAST-MODIFIED:20251112T163613Z
UID:105181-1764005400-1764005400@thelaurelmagazine.com
SUMMARY:Wicked: For Good at Highlands PAC
DESCRIPTION:Set in the Land of Oz\, before and after Dorothy Gale’s arrival from Kansas\, Elphaba and Glinda’s friendship is put to the test as they embrace their new respective identities as the Wicked Witch of the West and Glinda the Good Witch of the North\, and how the consequences of their actions will change all of Oz forever.
URL:https://thelaurelmagazine.com/local-event/wicked-for-good-at-highlands-pac-2/2025-11-24
LOCATION:Highlands PAC\, 507 Chestnut Street\, Highlands\, NC\, 28741\, United States
CATEGORIES:Performing Arts
ATTACH;FMTTYPE=image/jpeg:https://thelaurelmagazine.com/wp-content/uploads/2025/11/highlands-nc-performing-arts-pac-wicked-for-good.jpg
END:VEVENT
BEGIN:VEVENT
DTSTART;TZID=America/New_York:20251128T193000
DTEND;TZID=America/New_York:20251128T193000
DTSTAMP:20260421T181226
CREATED:20251112T160748Z
LAST-MODIFIED:20251112T160748Z
UID:105149-1764358200-1764358200@thelaurelmagazine.com
SUMMARY:Nashville NOEL at Highlands PAC
DESCRIPTION:A Country Christmas Spectacular is a dazzling holiday extravaganza that brings the spirit of Nashville and the magic of Christmas together in a heartwarming and unforgettable show. \nThis spectacular production showcases the best of Country music and the joy of the holiday season\, creating a truly enchanting experience for audiences of all ages. Since its inception\, Nashville Noel has become a beloved tradition for fans of Country music and Christmas enthusiasts alike. The show features a talented cast of musicians\, singers\, and dancers from the South who come together to deliver a high-energy performance that captures the essence of Nashville’s rich musical heritage and the warmth of the holiday season. With a mix of classic Country hits and beloved Christmas carols\, Nashville Noel takes audiences on a musical journey that celebrates the magic of both genres. From toe-tapping renditions of iconic Country songs to heartwarming performances of beloved holiday classics\, the show offers a perfect blend of nostalgia\, joy\, and festive cheer. Nashville Noel: A Country Christmas Spectacular has become a must-see event during the holiday season\, delighting audiences with its infectious energy\, top-notch performances\, and heartwarming moments. \nWhether you’re a fan of Country music\, a lover of Christmas\, or simply looking for a show that will leave you feeling uplifted and filled with holiday spirit\, Nashville Noel is the perfect choice.
URL:https://thelaurelmagazine.com/local-event/nashville-noel-at-highlands-pac
LOCATION:Highlands PAC\, 507 Chestnut Street\, Highlands\, NC\, 28741\, United States
CATEGORIES:Performing Arts
ATTACH;FMTTYPE=image/jpeg:https://thelaurelmagazine.com/wp-content/uploads/2025/11/highlands-nc-performing-arts-pac-nashville-noel.jpg
END:VEVENT
BEGIN:VEVENT
DTSTART;TZID=America/New_York:20251129T140000
DTEND;TZID=America/New_York:20251129T140000
DTSTAMP:20260421T181226
CREATED:20251112T163318Z
LAST-MODIFIED:20251112T163318Z
UID:105172-1764424800-1764424800@thelaurelmagazine.com
SUMMARY:Wicked: For Good at Highlands PAC
DESCRIPTION:Set in the Land of Oz\, before and after Dorothy Gale’s arrival from Kansas\, Elphaba and Glinda’s friendship is put to the test as they embrace their new respective identities as the Wicked Witch of the West and Glinda the Good Witch of the North\, and how the consequences of their actions will change all of Oz forever.
URL:https://thelaurelmagazine.com/local-event/wicked-for-good-at-highlands-pac/2025-11-29
LOCATION:Highlands PAC\, 507 Chestnut Street\, Highlands\, NC\, 28741\, United States
CATEGORIES:Performing Arts
ATTACH;FMTTYPE=image/jpeg:https://thelaurelmagazine.com/wp-content/uploads/2025/11/highlands-nc-performing-arts-pac-wicked-for-good.jpg
END:VEVENT
BEGIN:VEVENT
DTSTART;TZID=America/New_York:20251129T173000
DTEND;TZID=America/New_York:20251129T173000
DTSTAMP:20260421T181226
CREATED:20251112T163613Z
LAST-MODIFIED:20251112T163613Z
UID:105182-1764437400-1764437400@thelaurelmagazine.com
SUMMARY:Wicked: For Good at Highlands PAC
DESCRIPTION:Set in the Land of Oz\, before and after Dorothy Gale’s arrival from Kansas\, Elphaba and Glinda’s friendship is put to the test as they embrace their new respective identities as the Wicked Witch of the West and Glinda the Good Witch of the North\, and how the consequences of their actions will change all of Oz forever.
URL:https://thelaurelmagazine.com/local-event/wicked-for-good-at-highlands-pac-2/2025-11-29
LOCATION:Highlands PAC\, 507 Chestnut Street\, Highlands\, NC\, 28741\, United States
CATEGORIES:Performing Arts
ATTACH;FMTTYPE=image/jpeg:https://thelaurelmagazine.com/wp-content/uploads/2025/11/highlands-nc-performing-arts-pac-wicked-for-good.jpg
END:VEVENT
END:VCALENDAR