BEGIN:VCALENDAR
VERSION:2.0
PRODID:-//Laurel Magazine - ECPv6.15.16//NONSGML v1.0//EN
CALSCALE:GREGORIAN
METHOD:PUBLISH
X-ORIGINAL-URL:https://thelaurelmagazine.com
X-WR-CALDESC:Events for Laurel Magazine
REFRESH-INTERVAL;VALUE=DURATION:PT1H
X-Robots-Tag:noindex
X-PUBLISHED-TTL:PT1H
BEGIN:VTIMEZONE
TZID:America/New_York
BEGIN:DAYLIGHT
TZOFFSETFROM:-0500
TZOFFSETTO:-0400
TZNAME:EDT
DTSTART:20240310T070000
END:DAYLIGHT
BEGIN:STANDARD
TZOFFSETFROM:-0400
TZOFFSETTO:-0500
TZNAME:EST
DTSTART:20241103T060000
END:STANDARD
BEGIN:DAYLIGHT
TZOFFSETFROM:-0500
TZOFFSETTO:-0400
TZNAME:EDT
DTSTART:20250309T070000
END:DAYLIGHT
BEGIN:STANDARD
TZOFFSETFROM:-0400
TZOFFSETTO:-0500
TZNAME:EST
DTSTART:20251102T060000
END:STANDARD
BEGIN:DAYLIGHT
TZOFFSETFROM:-0500
TZOFFSETTO:-0400
TZNAME:EDT
DTSTART:20260308T070000
END:DAYLIGHT
BEGIN:STANDARD
TZOFFSETFROM:-0400
TZOFFSETTO:-0500
TZNAME:EST
DTSTART:20261101T060000
END:STANDARD
END:VTIMEZONE
BEGIN:VEVENT
DTSTART;TZID=America/New_York:20251207T140000
DTEND;TZID=America/New_York:20251207T140000
DTSTAMP:20260421T105000
CREATED:20251112T163318Z
LAST-MODIFIED:20251112T163318Z
UID:105177-1765116000-1765116000@thelaurelmagazine.com
SUMMARY:Wicked: For Good at Highlands PAC
DESCRIPTION:Set in the Land of Oz\, before and after Dorothy Gale’s arrival from Kansas\, Elphaba and Glinda’s friendship is put to the test as they embrace their new respective identities as the Wicked Witch of the West and Glinda the Good Witch of the North\, and how the consequences of their actions will change all of Oz forever.
URL:https://thelaurelmagazine.com/local-event/wicked-for-good-at-highlands-pac/2025-12-07
LOCATION:Highlands PAC\, 507 Chestnut Street\, Highlands\, NC\, 28741\, United States
CATEGORIES:Performing Arts
ATTACH;FMTTYPE=image/jpeg:https://thelaurelmagazine.com/wp-content/uploads/2025/11/highlands-nc-performing-arts-pac-wicked-for-good.jpg
END:VEVENT
BEGIN:VEVENT
DTSTART;TZID=America/New_York:20251207T150000
DTEND;TZID=America/New_York:20251207T150000
DTSTAMP:20260421T105000
CREATED:20251205T005324Z
LAST-MODIFIED:20251205T005324Z
UID:106944-1765119600-1765119600@thelaurelmagazine.com
SUMMARY:Home For The Holidays 2025 at Highlands PAC
DESCRIPTION:Purchase tickets to Mountain Theatre Company’s production of HOME FOR THE HOLIDAYS 2025 here:  https://www.mountaintheatre.com/ \nAn Original Musical Revue Written & Created by Scott Daniel \nCelebrate the most wonderful time of the year with Mountain Theatre Company at our annual holiday spectacular! Fun for all ages\, this ALL-NEW festive seasonal music revue promises dazzling costumes\, high energy choreography\, and is sure to fill audiences with plenty of good\, old-fashioned holiday cheer!
URL:https://thelaurelmagazine.com/local-event/home-for-the-holidays-2025-at-highlands-pac-2/2025-12-07
LOCATION:Highlands PAC\, 507 Chestnut Street\, Highlands\, NC\, 28741\, United States
CATEGORIES:Performing Arts
ATTACH;FMTTYPE=image/jpeg:https://thelaurelmagazine.com/wp-content/uploads/2025/12/highlands-nc-performing-arts-highlands-pac-home-for-the-holidays.jpg
END:VEVENT
BEGIN:VEVENT
DTSTART;TZID=America/New_York:20251207T173000
DTEND;TZID=America/New_York:20251207T173000
DTSTAMP:20260421T105000
CREATED:20251112T163613Z
LAST-MODIFIED:20251112T163613Z
UID:105187-1765128600-1765128600@thelaurelmagazine.com
SUMMARY:Wicked: For Good at Highlands PAC
DESCRIPTION:Set in the Land of Oz\, before and after Dorothy Gale’s arrival from Kansas\, Elphaba and Glinda’s friendship is put to the test as they embrace their new respective identities as the Wicked Witch of the West and Glinda the Good Witch of the North\, and how the consequences of their actions will change all of Oz forever.
URL:https://thelaurelmagazine.com/local-event/wicked-for-good-at-highlands-pac-2/2025-12-07
LOCATION:Highlands PAC\, 507 Chestnut Street\, Highlands\, NC\, 28741\, United States
CATEGORIES:Performing Arts
ATTACH;FMTTYPE=image/jpeg:https://thelaurelmagazine.com/wp-content/uploads/2025/11/highlands-nc-performing-arts-pac-wicked-for-good.jpg
END:VEVENT
BEGIN:VEVENT
DTSTART;TZID=America/New_York:20251210T150000
DTEND;TZID=America/New_York:20251210T150000
DTSTAMP:20260421T105000
CREATED:20251205T005324Z
LAST-MODIFIED:20251205T005324Z
UID:106945-1765378800-1765378800@thelaurelmagazine.com
SUMMARY:Home For The Holidays 2025 at Highlands PAC
DESCRIPTION:Purchase tickets to Mountain Theatre Company’s production of HOME FOR THE HOLIDAYS 2025 here:  https://www.mountaintheatre.com/ \nAn Original Musical Revue Written & Created by Scott Daniel \nCelebrate the most wonderful time of the year with Mountain Theatre Company at our annual holiday spectacular! Fun for all ages\, this ALL-NEW festive seasonal music revue promises dazzling costumes\, high energy choreography\, and is sure to fill audiences with plenty of good\, old-fashioned holiday cheer!
URL:https://thelaurelmagazine.com/local-event/home-for-the-holidays-2025-at-highlands-pac-2/2025-12-10
LOCATION:Highlands PAC\, 507 Chestnut Street\, Highlands\, NC\, 28741\, United States
CATEGORIES:Performing Arts
ATTACH;FMTTYPE=image/jpeg:https://thelaurelmagazine.com/wp-content/uploads/2025/12/highlands-nc-performing-arts-highlands-pac-home-for-the-holidays.jpg
END:VEVENT
BEGIN:VEVENT
DTSTART;TZID=America/New_York:20251211T150000
DTEND;TZID=America/New_York:20251211T150000
DTSTAMP:20260421T105000
CREATED:20251205T005324Z
LAST-MODIFIED:20251205T005324Z
UID:106946-1765465200-1765465200@thelaurelmagazine.com
SUMMARY:Home For The Holidays 2025 at Highlands PAC
DESCRIPTION:Purchase tickets to Mountain Theatre Company’s production of HOME FOR THE HOLIDAYS 2025 here:  https://www.mountaintheatre.com/ \nAn Original Musical Revue Written & Created by Scott Daniel \nCelebrate the most wonderful time of the year with Mountain Theatre Company at our annual holiday spectacular! Fun for all ages\, this ALL-NEW festive seasonal music revue promises dazzling costumes\, high energy choreography\, and is sure to fill audiences with plenty of good\, old-fashioned holiday cheer!
URL:https://thelaurelmagazine.com/local-event/home-for-the-holidays-2025-at-highlands-pac-2/2025-12-11
LOCATION:Highlands PAC\, 507 Chestnut Street\, Highlands\, NC\, 28741\, United States
CATEGORIES:Performing Arts
ATTACH;FMTTYPE=image/jpeg:https://thelaurelmagazine.com/wp-content/uploads/2025/12/highlands-nc-performing-arts-highlands-pac-home-for-the-holidays.jpg
END:VEVENT
BEGIN:VEVENT
DTSTART;TZID=America/New_York:20251211T170000
DTEND;TZID=America/New_York:20251211T170000
DTSTAMP:20260421T105000
CREATED:20251112T161556Z
LAST-MODIFIED:20251112T161556Z
UID:105156-1765472400-1765472400@thelaurelmagazine.com
SUMMARY:Lotto & Berenson: Crossed Destinies at Highlands PAC
DESCRIPTION:Lotto and Berenson: Crossed Destinies follows the intertwined journeys of Lorenzo Lotto\, a forgotten Renaissance master\, and Bernard Berenson\, the American Jewish art critic who resurrected his legacy. Through the eyes of actor Alessandro Sperduti\, the film retraces Lotto’s artistic path across Italy\, uncovering the painter’s personal and professional struggles. At the same time\, it explores Berenson’s fascination with Lotto’s ability to capture the human soul\, creating a profound reflection on art\, ambition\, and the fear of being forgotten.
URL:https://thelaurelmagazine.com/local-event/lotto-berenson-crossed-destinies-at-highlands-pac
LOCATION:Highlands PAC\, 507 Chestnut Street\, Highlands\, NC\, 28741\, United States
CATEGORIES:Performing Arts
ATTACH;FMTTYPE=image/jpeg:https://thelaurelmagazine.com/wp-content/uploads/2025/11/highlands-nc-performing-arts-pac-lotto-berenson.jpg
END:VEVENT
BEGIN:VEVENT
DTSTART;TZID=America/New_York:20251211T190000
DTEND;TZID=America/New_York:20251211T190000
DTSTAMP:20260421T105000
CREATED:20251124T062210Z
LAST-MODIFIED:20251207T145319Z
UID:105835-1765479600-1765479600@thelaurelmagazine.com
SUMMARY:Mountain Voices Community Chorus presents “A Very Merry Christmas” at First United Methodist Church - Franklin
DESCRIPTION:Mountain Voices Community Chorus will perform their annual winter concert on Thursday\, December 11 beginning at 7 pm at First United Methodist Church located at 66 Harrison Avenue in Franklin NC. \nPlease join Mountain Voices for an evening of familiar carols – a mountain tradition you don’t want to miss; this year’s “A Very Merry Christmas” concert is sure to bring holiday cheer!! The performance includes jazzy arrangements\, big band orchestral scores\, twists on holiday favorites and traditional anthems. \nThe concert is FREE (donations are appreciated)
URL:https://thelaurelmagazine.com/local-event/mountain-voices-community-chorus-presents-a-very-merry-christmas-at-first-united-methodist-church-franklin
LOCATION:First United Methodist Church\, 66 Harrison Avenue\, Franklin\, NC\, 28734\, United States
CATEGORIES:Community,Performing Arts
ATTACH;FMTTYPE=image/jpeg:https://thelaurelmagazine.com/wp-content/uploads/2025/11/franklin-nc-mountain-voices-community-chorus-very-merry-christmas-concert.jpg
END:VEVENT
BEGIN:VEVENT
DTSTART;TZID=America/New_York:20251212T140000
DTEND;TZID=America/New_York:20251212T140000
DTSTAMP:20260421T105000
CREATED:20251205T004007Z
LAST-MODIFIED:20251205T004007Z
UID:106926-1765548000-1765548000@thelaurelmagazine.com
SUMMARY:A Big Bold Beautiful Journey at Highlands PAC
DESCRIPTION:Sarah and David are single strangers who meet at a mutual friend’s wedding and soon\, through a surprising twist of fate\, find themselves on a funny\, fantastical\, sweeping adventure together where they get to re-live important moments from their respective pasts\, illuminating how they got to where they are in the present… and possibly getting a chance to alter their futures.
URL:https://thelaurelmagazine.com/local-event/a-big-bold-beautiful-journey-at-highlands-pac/2025-12-12
LOCATION:Highlands PAC\, 507 Chestnut Street\, Highlands\, NC\, 28741\, United States
CATEGORIES:Performing Arts
ATTACH;FMTTYPE=image/jpeg:https://thelaurelmagazine.com/wp-content/uploads/2025/12/highlands-nc-performing-arts-highlands-pac-a-big-bold-beautiful-journey.jpg
END:VEVENT
BEGIN:VEVENT
DTSTART;TZID=America/New_York:20251212T150000
DTEND;TZID=America/New_York:20251212T150000
DTSTAMP:20260421T105000
CREATED:20251205T005324Z
LAST-MODIFIED:20251205T005324Z
UID:106947-1765551600-1765551600@thelaurelmagazine.com
SUMMARY:Home For The Holidays 2025 at Highlands PAC
DESCRIPTION:Purchase tickets to Mountain Theatre Company’s production of HOME FOR THE HOLIDAYS 2025 here:  https://www.mountaintheatre.com/ \nAn Original Musical Revue Written & Created by Scott Daniel \nCelebrate the most wonderful time of the year with Mountain Theatre Company at our annual holiday spectacular! Fun for all ages\, this ALL-NEW festive seasonal music revue promises dazzling costumes\, high energy choreography\, and is sure to fill audiences with plenty of good\, old-fashioned holiday cheer!
URL:https://thelaurelmagazine.com/local-event/home-for-the-holidays-2025-at-highlands-pac-2/2025-12-12
LOCATION:Highlands PAC\, 507 Chestnut Street\, Highlands\, NC\, 28741\, United States
CATEGORIES:Performing Arts
ATTACH;FMTTYPE=image/jpeg:https://thelaurelmagazine.com/wp-content/uploads/2025/12/highlands-nc-performing-arts-highlands-pac-home-for-the-holidays.jpg
END:VEVENT
BEGIN:VEVENT
DTSTART;TZID=America/New_York:20251212T173000
DTEND;TZID=America/New_York:20251212T173000
DTSTAMP:20260421T105000
CREATED:20251205T004015Z
LAST-MODIFIED:20251205T004015Z
UID:106927-1765560600-1765560600@thelaurelmagazine.com
SUMMARY:A Big Bold Beautiful Journey at Highlands PAC
DESCRIPTION:Sarah and David are single strangers who meet at a mutual friend’s wedding and soon\, through a surprising twist of fate\, find themselves on a funny\, fantastical\, sweeping adventure together where they get to re-live important moments from their respective pasts\, illuminating how they got to where they are in the present… and possibly getting a chance to alter their futures.
URL:https://thelaurelmagazine.com/local-event/a-big-bold-beautiful-journey-at-highlands-pac-2/2025-12-12
LOCATION:Highlands PAC\, 507 Chestnut Street\, Highlands\, NC\, 28741\, United States
CATEGORIES:Performing Arts
ATTACH;FMTTYPE=image/jpeg:https://thelaurelmagazine.com/wp-content/uploads/2025/12/highlands-nc-performing-arts-highlands-pac-a-big-bold-beautiful-journey.jpg
END:VEVENT
BEGIN:VEVENT
DTSTART;TZID=America/New_York:20251213T130000
DTEND;TZID=America/New_York:20251213T130000
DTSTAMP:20260421T105000
CREATED:20251112T162046Z
LAST-MODIFIED:20251112T162046Z
UID:105159-1765630800-1765630800@thelaurelmagazine.com
SUMMARY:Umberto Giordano's Andrea Chénier at Highlands PAC
DESCRIPTION:Giordano’s passionate tragedy stars tenor Piotr Beczala as the virtuous poet who falls victim to the intrigue and violence of the French Revolution. \nFollowing their celebrated recent partnership in Giordano’s Fedora\, Beczala reunites with soprano Sonya Yoncheva as Chénier’s aristocratic lover\, Maddalena di Coigny\, with baritone Igor Golovatenko as Carlo Gérard\, the agent of the Reign of Terror who seals their fates. Daniele Rustioni takes the podium to lead Nicolas Joël’s gripping staging.
URL:https://thelaurelmagazine.com/local-event/umberto-giordanos-andrea-chenier-at-highlands-pac
LOCATION:Highlands PAC\, 507 Chestnut Street\, Highlands\, NC\, 28741\, United States
CATEGORIES:Performing Arts
ATTACH;FMTTYPE=image/jpeg:https://thelaurelmagazine.com/wp-content/uploads/2025/11/highlands-nc-performing-arts-pac-umberto-giordano-andrea-chenier.jpg
END:VEVENT
BEGIN:VEVENT
DTSTART;TZID=America/New_York:20251213T150000
DTEND;TZID=America/New_York:20251213T150000
DTSTAMP:20260421T105000
CREATED:20251205T005324Z
LAST-MODIFIED:20251205T005324Z
UID:106948-1765638000-1765638000@thelaurelmagazine.com
SUMMARY:Home For The Holidays 2025 at Highlands PAC
DESCRIPTION:Purchase tickets to Mountain Theatre Company’s production of HOME FOR THE HOLIDAYS 2025 here:  https://www.mountaintheatre.com/ \nAn Original Musical Revue Written & Created by Scott Daniel \nCelebrate the most wonderful time of the year with Mountain Theatre Company at our annual holiday spectacular! Fun for all ages\, this ALL-NEW festive seasonal music revue promises dazzling costumes\, high energy choreography\, and is sure to fill audiences with plenty of good\, old-fashioned holiday cheer!
URL:https://thelaurelmagazine.com/local-event/home-for-the-holidays-2025-at-highlands-pac-2/2025-12-13
LOCATION:Highlands PAC\, 507 Chestnut Street\, Highlands\, NC\, 28741\, United States
CATEGORIES:Performing Arts
ATTACH;FMTTYPE=image/jpeg:https://thelaurelmagazine.com/wp-content/uploads/2025/12/highlands-nc-performing-arts-highlands-pac-home-for-the-holidays.jpg
END:VEVENT
BEGIN:VEVENT
DTSTART;TZID=America/New_York:20251213T173000
DTEND;TZID=America/New_York:20251213T173000
DTSTAMP:20260421T105000
CREATED:20251205T004015Z
LAST-MODIFIED:20251205T004015Z
UID:106932-1765647000-1765647000@thelaurelmagazine.com
SUMMARY:A Big Bold Beautiful Journey at Highlands PAC
DESCRIPTION:Sarah and David are single strangers who meet at a mutual friend’s wedding and soon\, through a surprising twist of fate\, find themselves on a funny\, fantastical\, sweeping adventure together where they get to re-live important moments from their respective pasts\, illuminating how they got to where they are in the present… and possibly getting a chance to alter their futures.
URL:https://thelaurelmagazine.com/local-event/a-big-bold-beautiful-journey-at-highlands-pac-2/2025-12-13
LOCATION:Highlands PAC\, 507 Chestnut Street\, Highlands\, NC\, 28741\, United States
CATEGORIES:Performing Arts
ATTACH;FMTTYPE=image/jpeg:https://thelaurelmagazine.com/wp-content/uploads/2025/12/highlands-nc-performing-arts-highlands-pac-a-big-bold-beautiful-journey.jpg
END:VEVENT
BEGIN:VEVENT
DTSTART;TZID=America/New_York:20251213T193000
DTEND;TZID=America/New_York:20251213T193000
DTSTAMP:20260421T105000
CREATED:20251205T005051Z
LAST-MODIFIED:20251205T005051Z
UID:106941-1765654200-1765654200@thelaurelmagazine.com
SUMMARY:Home For The Holidays 2025 at Highlands PAC
DESCRIPTION:Purchase tickets to Mountain Theatre Company’s production of HOME FOR THE HOLIDAYS 2025 here:  https://www.mountaintheatre.com/ \nAn Original Musical Revue Written & Created by Scott Daniel \nCelebrate the most wonderful time of the year with Mountain Theatre Company at our annual holiday spectacular! Fun for all ages\, this ALL-NEW festive seasonal music revue promises dazzling costumes\, high energy choreography\, and is sure to fill audiences with plenty of good\, old-fashioned holiday cheer!
URL:https://thelaurelmagazine.com/local-event/home-for-the-holidays-2025-at-highlands-pac/2025-12-13
LOCATION:Highlands PAC\, 507 Chestnut Street\, Highlands\, NC\, 28741\, United States
CATEGORIES:Performing Arts
ATTACH;FMTTYPE=image/jpeg:https://thelaurelmagazine.com/wp-content/uploads/2025/12/highlands-nc-performing-arts-highlands-pac-home-for-the-holidays.jpg
END:VEVENT
END:VCALENDAR