BEGIN:VCALENDAR
VERSION:2.0
PRODID:-//Laurel Magazine - ECPv6.15.16//NONSGML v1.0//EN
CALSCALE:GREGORIAN
METHOD:PUBLISH
X-WR-CALNAME:Laurel Magazine
X-ORIGINAL-URL:https://thelaurelmagazine.com
X-WR-CALDESC:Events for Laurel Magazine
REFRESH-INTERVAL;VALUE=DURATION:PT1H
X-Robots-Tag:noindex
X-PUBLISHED-TTL:PT1H
BEGIN:VTIMEZONE
TZID:America/New_York
BEGIN:DAYLIGHT
TZOFFSETFROM:-0500
TZOFFSETTO:-0400
TZNAME:EDT
DTSTART:20230312T070000
END:DAYLIGHT
BEGIN:STANDARD
TZOFFSETFROM:-0400
TZOFFSETTO:-0500
TZNAME:EST
DTSTART:20231105T060000
END:STANDARD
BEGIN:DAYLIGHT
TZOFFSETFROM:-0500
TZOFFSETTO:-0400
TZNAME:EDT
DTSTART:20240310T070000
END:DAYLIGHT
BEGIN:STANDARD
TZOFFSETFROM:-0400
TZOFFSETTO:-0500
TZNAME:EST
DTSTART:20241103T060000
END:STANDARD
BEGIN:DAYLIGHT
TZOFFSETFROM:-0500
TZOFFSETTO:-0400
TZNAME:EDT
DTSTART:20250309T070000
END:DAYLIGHT
BEGIN:STANDARD
TZOFFSETFROM:-0400
TZOFFSETTO:-0500
TZNAME:EST
DTSTART:20251102T060000
END:STANDARD
END:VTIMEZONE
BEGIN:VEVENT
DTSTART;TZID=America/New_York:20240701T100000
DTEND;TZID=America/New_York:20240701T170000
DTSTAMP:20260422T101331
CREATED:20240516T161942Z
LAST-MODIFIED:20240525T172115Z
UID:69555-1719828000-1719853200@thelaurelmagazine.com
SUMMARY:Designer Pop-up: Ali & Bird Jewelry
DESCRIPTION:Acorns’ annual designer pop-ups and showcases are sure to please with unique offerings and opportunities to meet some of the region’s most respected artisans. \nAli & Bird Jewelry was founded by Ali Howell\, an Atlanta resident\, and Memphis native\, in 2009. Ali brings her passion for bold color combinations and timeless design to the creation of each piece of Ali & Bird Jewelry. She designs unique jewelry that brings a modern flair to classic looks; no two Ali & Bird pieces are ever the same and all materials are real\, unique\, and sometimes quite rare.
URL:https://thelaurelmagazine.com/local-event/designer-pop-up-ali-bird-jewelry/2024-07-01
LOCATION:Acorns\, 212 S 4th St\, Highlands\, NC\, 28741\, United States
CATEGORIES:Shopping
ATTACH;FMTTYPE=image/jpeg:https://thelaurelmagazine.com/wp-content/uploads/2024/05/highlands-nc-shopping-acorns-designer-pop-up-ali-bird.jpg
END:VEVENT
BEGIN:VEVENT
DTSTART;TZID=America/New_York:20240702T100000
DTEND;TZID=America/New_York:20240702T170000
DTSTAMP:20260422T101331
CREATED:20240516T161942Z
LAST-MODIFIED:20240525T172207Z
UID:69556-1719914400-1719939600@thelaurelmagazine.com
SUMMARY:Designer Pop-up: Ali & Bird Jewelry
DESCRIPTION:Acorns’ annual designer pop-ups and showcases are sure to please with unique offerings and opportunities to meet some of the region’s most respected artisans. \nAli & Bird Jewelry was founded by Ali Howell\, an Atlanta resident\, and Memphis native\, in 2009. Ali brings her passion for bold color combinations and timeless design to the creation of each piece of Ali & Bird Jewelry. She designs unique jewelry that brings a modern flair to classic looks; no two Ali & Bird pieces are ever the same and all materials are real\, unique\, and sometimes quite rare.
URL:https://thelaurelmagazine.com/local-event/designer-pop-up-ali-bird-jewelry/2024-07-02
LOCATION:Acorns\, 212 S 4th St\, Highlands\, NC\, 28741\, United States
CATEGORIES:Shopping
ATTACH;FMTTYPE=image/jpeg:https://thelaurelmagazine.com/wp-content/uploads/2024/05/highlands-nc-shopping-acorns-designer-pop-up-ali-bird.jpg
END:VEVENT
BEGIN:VEVENT
DTSTART;TZID=America/New_York:20240703T100000
DTEND;TZID=America/New_York:20240703T170000
DTSTAMP:20260422T101331
CREATED:20240516T161942Z
LAST-MODIFIED:20240525T172220Z
UID:69557-1720000800-1720026000@thelaurelmagazine.com
SUMMARY:Designer Pop-up: Ali & Bird Jewelry
DESCRIPTION:Acorns’ annual designer pop-ups and showcases are sure to please with unique offerings and opportunities to meet some of the region’s most respected artisans. \nAli & Bird Jewelry was founded by Ali Howell\, an Atlanta resident\, and Memphis native\, in 2009. Ali brings her passion for bold color combinations and timeless design to the creation of each piece of Ali & Bird Jewelry. She designs unique jewelry that brings a modern flair to classic looks; no two Ali & Bird pieces are ever the same and all materials are real\, unique\, and sometimes quite rare.
URL:https://thelaurelmagazine.com/local-event/designer-pop-up-ali-bird-jewelry/2024-07-03
LOCATION:Acorns\, 212 S 4th St\, Highlands\, NC\, 28741\, United States
CATEGORIES:Shopping
ATTACH;FMTTYPE=image/jpeg:https://thelaurelmagazine.com/wp-content/uploads/2024/05/highlands-nc-shopping-acorns-designer-pop-up-ali-bird.jpg
END:VEVENT
BEGIN:VEVENT
DTSTART;TZID=America/New_York:20240704T100000
DTEND;TZID=America/New_York:20240704T170000
DTSTAMP:20260422T101331
CREATED:20240516T161942Z
LAST-MODIFIED:20240525T172344Z
UID:69558-1720087200-1720112400@thelaurelmagazine.com
SUMMARY:Designer Pop-up: Ali & Bird Jewelry
DESCRIPTION:Acorns’ annual designer pop-ups and showcases are sure to please with unique offerings and opportunities to meet some of the region’s most respected artisans. \nAli & Bird Jewelry was founded by Ali Howell\, an Atlanta resident\, and Memphis native\, in 2009. Ali brings her passion for bold color combinations and timeless design to the creation of each piece of Ali & Bird Jewelry. She designs unique jewelry that brings a modern flair to classic looks; no two Ali & Bird pieces are ever the same and all materials are real\, unique\, and sometimes quite rare.
URL:https://thelaurelmagazine.com/local-event/designer-pop-up-ali-bird-jewelry/2024-07-04
CATEGORIES:Shopping
ATTACH;FMTTYPE=image/jpeg:https://thelaurelmagazine.com/wp-content/uploads/2024/05/highlands-nc-shopping-acorns-designer-pop-up-ali-bird.jpg
END:VEVENT
BEGIN:VEVENT
DTSTART;TZID=America/New_York:20240705T100000
DTEND;TZID=America/New_York:20240705T170000
DTSTAMP:20260422T101331
CREATED:20240516T161942Z
LAST-MODIFIED:20240516T161942Z
UID:69559-1720173600-1720198800@thelaurelmagazine.com
SUMMARY:Designer Pop-up: Ali & Bird Jewelry
DESCRIPTION:Acorns’ annual designer pop-ups are sure to please with unique offerings and opportunities to meet some of the region’s most respected artisans. \nAli & Bird Jewelry was founded by Ali Howell\, an Atlanta resident\, and Memphis native\, in 2009. Ali brings her passion for bold color combinations and timeless design to the creation of each piece of Ali & Bird Jewelry. She designs unique jewelry that brings a modern flair to classic looks; no two Ali & Bird pieces are ever the same and all materials are real\, unique\, and sometimes quite rare.
URL:https://thelaurelmagazine.com/local-event/designer-pop-up-ali-bird-jewelry/2024-07-05
LOCATION:Acorns\, 212 S 4th St\, Highlands\, NC\, 28741\, United States
CATEGORIES:Shopping
ATTACH;FMTTYPE=image/jpeg:https://thelaurelmagazine.com/wp-content/uploads/2024/05/highlands-nc-shopping-acorns-designer-pop-up-ali-bird.jpg
END:VEVENT
BEGIN:VEVENT
DTSTART;TZID=America/New_York:20240706T100000
DTEND;TZID=America/New_York:20240706T170000
DTSTAMP:20260422T101331
CREATED:20240516T161942Z
LAST-MODIFIED:20240516T161942Z
UID:69560-1720260000-1720285200@thelaurelmagazine.com
SUMMARY:Designer Pop-up: Ali & Bird Jewelry
DESCRIPTION:Acorns’ annual designer pop-ups are sure to please with unique offerings and opportunities to meet some of the region’s most respected artisans. \nAli & Bird Jewelry was founded by Ali Howell\, an Atlanta resident\, and Memphis native\, in 2009. Ali brings her passion for bold color combinations and timeless design to the creation of each piece of Ali & Bird Jewelry. She designs unique jewelry that brings a modern flair to classic looks; no two Ali & Bird pieces are ever the same and all materials are real\, unique\, and sometimes quite rare.
URL:https://thelaurelmagazine.com/local-event/designer-pop-up-ali-bird-jewelry/2024-07-06
LOCATION:Acorns\, 212 S 4th St\, Highlands\, NC\, 28741\, United States
CATEGORIES:Shopping
ATTACH;FMTTYPE=image/jpeg:https://thelaurelmagazine.com/wp-content/uploads/2024/05/highlands-nc-shopping-acorns-designer-pop-up-ali-bird.jpg
END:VEVENT
BEGIN:VEVENT
DTSTART;TZID=America/New_York:20240707T100000
DTEND;TZID=America/New_York:20240707T170000
DTSTAMP:20260422T101331
CREATED:20240516T161942Z
LAST-MODIFIED:20240516T161942Z
UID:69561-1720346400-1720371600@thelaurelmagazine.com
SUMMARY:Designer Pop-up: Ali & Bird Jewelry
DESCRIPTION:Acorns’ annual designer pop-ups are sure to please with unique offerings and opportunities to meet some of the region’s most respected artisans. \nAli & Bird Jewelry was founded by Ali Howell\, an Atlanta resident\, and Memphis native\, in 2009. Ali brings her passion for bold color combinations and timeless design to the creation of each piece of Ali & Bird Jewelry. She designs unique jewelry that brings a modern flair to classic looks; no two Ali & Bird pieces are ever the same and all materials are real\, unique\, and sometimes quite rare.
URL:https://thelaurelmagazine.com/local-event/designer-pop-up-ali-bird-jewelry/2024-07-07
LOCATION:Acorns\, 212 S 4th St\, Highlands\, NC\, 28741\, United States
CATEGORIES:Shopping
ATTACH;FMTTYPE=image/jpeg:https://thelaurelmagazine.com/wp-content/uploads/2024/05/highlands-nc-shopping-acorns-designer-pop-up-ali-bird.jpg
END:VEVENT
BEGIN:VEVENT
DTSTART;TZID=America/New_York:20240726T100000
DTEND;TZID=America/New_York:20240726T170000
DTSTAMP:20260422T101331
CREATED:20240516T165252Z
LAST-MODIFIED:20240525T173151Z
UID:69576-1721988000-1722013200@thelaurelmagazine.com
SUMMARY:Designer Showcase: Michael Hofman Pottery at Acorns
DESCRIPTION:Acorns’ annual designer pop-ups and showcases are sure to please with unique offerings and opportunities to meet some of the region’s most respected artisans. \nMichael Hofman graduated from the University of Notre Dame with a BFA in Industrial Design and then received a Masters Degree in Fine Arts from The Ohio State University. He has called Asheville his home for the last 20 years. In 2007 he opened his studio in the historic River Arts District\, where he produces beautiful\, lace impressed\, handbill porcelain for the table and home.
URL:https://thelaurelmagazine.com/local-event/designer-pop-up-michael-hofman-pottery-at-acorns/2024-07-26
LOCATION:Acorns\, 212 S 4th St\, Highlands\, NC\, 28741\, United States
CATEGORIES:Shopping
ATTACH;FMTTYPE=image/jpeg:https://thelaurelmagazine.com/wp-content/uploads/2024/05/highlands-nc-shopping-acorns-michael-hofman-pottery.jpg
END:VEVENT
BEGIN:VEVENT
DTSTART;TZID=America/New_York:20240727T100000
DTEND;TZID=America/New_York:20240727T170000
DTSTAMP:20260422T101331
CREATED:20240516T165252Z
LAST-MODIFIED:20240525T173153Z
UID:69579-1722074400-1722099600@thelaurelmagazine.com
SUMMARY:Designer Showcase: Michael Hofman Pottery at Acorns
DESCRIPTION:Acorns’ annual designer pop-ups and showcases are sure to please with unique offerings and opportunities to meet some of the region’s most respected artisans. \nMichael Hofman graduated from the University of Notre Dame with a BFA in Industrial Design and then received a Masters Degree in Fine Arts from The Ohio State University. He has called Asheville his home for the last 20 years. In 2007 he opened his studio in the historic River Arts District\, where he produces beautiful\, lace impressed\, handbill porcelain for the table and home.
URL:https://thelaurelmagazine.com/local-event/designer-pop-up-michael-hofman-pottery-at-acorns/2024-07-27
LOCATION:Acorns\, 212 S 4th St\, Highlands\, NC\, 28741\, United States
CATEGORIES:Shopping
ATTACH;FMTTYPE=image/jpeg:https://thelaurelmagazine.com/wp-content/uploads/2024/05/highlands-nc-shopping-acorns-michael-hofman-pottery.jpg
END:VEVENT
BEGIN:VEVENT
DTSTART;TZID=America/New_York:20240728T100000
DTEND;TZID=America/New_York:20240728T170000
DTSTAMP:20260422T101331
CREATED:20240516T165252Z
LAST-MODIFIED:20240525T173154Z
UID:69580-1722160800-1722186000@thelaurelmagazine.com
SUMMARY:Designer Showcase: Michael Hofman Pottery at Acorns
DESCRIPTION:Acorns’ annual designer pop-ups and showcases are sure to please with unique offerings and opportunities to meet some of the region’s most respected artisans. \nMichael Hofman graduated from the University of Notre Dame with a BFA in Industrial Design and then received a Masters Degree in Fine Arts from The Ohio State University. He has called Asheville his home for the last 20 years. In 2007 he opened his studio in the historic River Arts District\, where he produces beautiful\, lace impressed\, handbill porcelain for the table and home.
URL:https://thelaurelmagazine.com/local-event/designer-pop-up-michael-hofman-pottery-at-acorns/2024-07-28
LOCATION:Acorns\, 212 S 4th St\, Highlands\, NC\, 28741\, United States
CATEGORIES:Shopping
ATTACH;FMTTYPE=image/jpeg:https://thelaurelmagazine.com/wp-content/uploads/2024/05/highlands-nc-shopping-acorns-michael-hofman-pottery.jpg
END:VEVENT
BEGIN:VEVENT
DTSTART;TZID=America/New_York:20240729T100000
DTEND;TZID=America/New_York:20240729T170000
DTSTAMP:20260422T101331
CREATED:20240718T162000Z
LAST-MODIFIED:20240718T162153Z
UID:71653-1722247200-1722272400@thelaurelmagazine.com
SUMMARY:Hanro Trunk Show at Lenz Gifts & Luxury Linens
DESCRIPTION:HANRO has been producing high-quality underwear\, nightwear and loungewear for over 140 years.\nCharacterized by first-class quality\, the highest quality craftsmanship and great attention to detail.\n\nThe result: unmistakable\, high-quality and sustainable underwear creations that embody elegance and aesthetics with every fiber – for discerning women and men all over the world.\n\nPlease call 828-743-5900 for more information.
URL:https://thelaurelmagazine.com/local-event/hanro-trunk-show-at-lenz-gifts-luxury-linens/2024-07-29
LOCATION:Lenz Gifts & Luxury Linens\, 1473 US-64\, Cashiers\, NC\, 28717\, United States
CATEGORIES:Shopping
ATTACH;FMTTYPE=image/jpeg:https://thelaurelmagazine.com/wp-content/uploads/2024/07/cashiers-nc-shopping-lenz-gifts.jpg
END:VEVENT
BEGIN:VEVENT
DTSTART;TZID=America/New_York:20240730T100000
DTEND;TZID=America/New_York:20240730T170000
DTSTAMP:20260422T101331
CREATED:20240718T162011Z
LAST-MODIFIED:20240718T162011Z
UID:71664-1722333600-1722358800@thelaurelmagazine.com
SUMMARY:Hanro Trunk Show at Lenz Gifts & Luxury Linens
DESCRIPTION:HANRO has been producing high-quality underwear\, nightwear and loungewear for over 140 years.\nCharacterized by first-class quality\, the highest quality craftsmanship and great attention to detail.\n\nThe result: unmistakable\, high-quality and sustainable underwear creations that embody elegance and aesthetics with every fiber – for discerning women and men all over the world.\n\nPlease call 828-743-5900 for more information.
URL:https://thelaurelmagazine.com/local-event/hanro-trunk-show-at-lenz-gifts-luxury-linens/2024-07-30
LOCATION:Lenz Gifts & Luxury Linens\, 1473 US-64\, Cashiers\, NC\, 28717\, United States
CATEGORIES:Shopping
ATTACH;FMTTYPE=image/jpeg:https://thelaurelmagazine.com/wp-content/uploads/2024/07/cashiers-nc-shopping-lenz-gifts.jpg
END:VEVENT
BEGIN:VEVENT
DTSTART;TZID=America/New_York:20240731T100000
DTEND;TZID=America/New_York:20240731T170000
DTSTAMP:20260422T101331
CREATED:20240718T162123Z
LAST-MODIFIED:20240718T162123Z
UID:71665-1722420000-1722445200@thelaurelmagazine.com
SUMMARY:Hanro Trunk Show at Lenz Gifts & Luxury Linens
DESCRIPTION:HANRO has been producing high-quality underwear\, nightwear and loungewear for over 140 years.\nCharacterized by first-class quality\, the highest quality craftsmanship and great attention to detail.\n\nThe result: unmistakable\, high-quality and sustainable underwear creations that embody elegance and aesthetics with every fiber – for discerning women and men all over the world.\n\nPlease call 828-743-5900 for more information.
URL:https://thelaurelmagazine.com/local-event/hanro-trunk-show-at-lenz-gifts-luxury-linens/2024-07-31
LOCATION:Lenz Gifts & Luxury Linens\, 1473 US-64\, Cashiers\, NC\, 28717\, United States
CATEGORIES:Shopping
ATTACH;FMTTYPE=image/jpeg:https://thelaurelmagazine.com/wp-content/uploads/2024/07/cashiers-nc-shopping-lenz-gifts.jpg
END:VEVENT
END:VCALENDAR