BEGIN:VCALENDAR
VERSION:2.0
PRODID:-//Laurel Magazine - ECPv6.15.16//NONSGML v1.0//EN
CALSCALE:GREGORIAN
METHOD:PUBLISH
X-WR-CALNAME:Laurel Magazine
X-ORIGINAL-URL:https://thelaurelmagazine.com
X-WR-CALDESC:Events for Laurel Magazine
REFRESH-INTERVAL;VALUE=DURATION:PT1H
X-Robots-Tag:noindex
X-PUBLISHED-TTL:PT1H
BEGIN:VTIMEZONE
TZID:America/New_York
BEGIN:DAYLIGHT
TZOFFSETFROM:-0500
TZOFFSETTO:-0400
TZNAME:EDT
DTSTART:20230312T070000
END:DAYLIGHT
BEGIN:STANDARD
TZOFFSETFROM:-0400
TZOFFSETTO:-0500
TZNAME:EST
DTSTART:20231105T060000
END:STANDARD
BEGIN:DAYLIGHT
TZOFFSETFROM:-0500
TZOFFSETTO:-0400
TZNAME:EDT
DTSTART:20240310T070000
END:DAYLIGHT
BEGIN:STANDARD
TZOFFSETFROM:-0400
TZOFFSETTO:-0500
TZNAME:EST
DTSTART:20241103T060000
END:STANDARD
BEGIN:DAYLIGHT
TZOFFSETFROM:-0500
TZOFFSETTO:-0400
TZNAME:EDT
DTSTART:20250309T070000
END:DAYLIGHT
BEGIN:STANDARD
TZOFFSETFROM:-0400
TZOFFSETTO:-0500
TZNAME:EST
DTSTART:20251102T060000
END:STANDARD
END:VTIMEZONE
BEGIN:VEVENT
DTSTART;TZID=America/New_York:20240622T100000
DTEND;TZID=America/New_York:20240622T170000
DTSTAMP:20260422T221525
CREATED:20240516T160759Z
LAST-MODIFIED:20240525T171905Z
UID:69547-1719050400-1719075600@thelaurelmagazine.com
SUMMARY:Designer Showcase: Elizabeth Locke Jewelry at Acorns
DESCRIPTION:Acorns’ annual designer pop-ups and showcases are sure to please with unique offerings and opportunities to meet some of the region’s most respected artisans. \nElizabeth Locke draws on a lifelong fascination with the antique jewelry of the Etruscans\, Greeks and Romans as she creates her own neo-classical hand-made 19k gold jewelry. She selects every stone and designs every piece herself. While many covet the luminescent stones or the Venetian glass intaglios in her designs\, Elizabeth’s deepest passion is for one-of-a-kind antiquities: 19th-century micromosaics and pietra duras\, 18-century Chinese gambling counters\, Essex crystals\, miniature paintings or antique Japanese porcelain buttons.
URL:https://thelaurelmagazine.com/local-event/designer-pop-up-elizabeth-locke-jewelry-at-acorns/2024-06-22
LOCATION:Acorns\, 212 S 4th St\, Highlands\, NC\, 28741\, United States
CATEGORIES:Shopping
ATTACH;FMTTYPE=image/jpeg:https://thelaurelmagazine.com/wp-content/uploads/2024/05/highlands-nc-shopping-acorns-elizabeth-locke-jewelry.jpg
END:VEVENT
END:VCALENDAR