BEGIN:VCALENDAR
VERSION:2.0
PRODID:-//Laurel Magazine - ECPv6.15.16//NONSGML v1.0//EN
CALSCALE:GREGORIAN
METHOD:PUBLISH
X-ORIGINAL-URL:https://thelaurelmagazine.com
X-WR-CALDESC:Events for Laurel Magazine
REFRESH-INTERVAL;VALUE=DURATION:PT1H
X-Robots-Tag:noindex
X-PUBLISHED-TTL:PT1H
BEGIN:VTIMEZONE
TZID:America/New_York
BEGIN:DAYLIGHT
TZOFFSETFROM:-0500
TZOFFSETTO:-0400
TZNAME:EDT
DTSTART:20240310T070000
END:DAYLIGHT
BEGIN:STANDARD
TZOFFSETFROM:-0400
TZOFFSETTO:-0500
TZNAME:EST
DTSTART:20241103T060000
END:STANDARD
BEGIN:DAYLIGHT
TZOFFSETFROM:-0500
TZOFFSETTO:-0400
TZNAME:EDT
DTSTART:20250309T070000
END:DAYLIGHT
BEGIN:STANDARD
TZOFFSETFROM:-0400
TZOFFSETTO:-0500
TZNAME:EST
DTSTART:20251102T060000
END:STANDARD
BEGIN:DAYLIGHT
TZOFFSETFROM:-0500
TZOFFSETTO:-0400
TZNAME:EDT
DTSTART:20260308T070000
END:DAYLIGHT
BEGIN:STANDARD
TZOFFSETFROM:-0400
TZOFFSETTO:-0500
TZNAME:EST
DTSTART:20261101T060000
END:STANDARD
END:VTIMEZONE
BEGIN:VEVENT
DTSTART;TZID=America/New_York:20250617T110000
DTEND;TZID=America/New_York:20250617T180000
DTSTAMP:20260421T210657
CREATED:20250603T164151Z
LAST-MODIFIED:20250603T164151Z
UID:89974-1750158000-1750183200@thelaurelmagazine.com
SUMMARY:Bloom Bar with R & R Farms at The Molly Grace
DESCRIPTION:We’ve made it to year 10 thanks to YOU! We’re so blessed & celebrating BIG! Shop sales\, enjoy some sips & snacks + build your own bouquet of beautiful\, locally grown flowers. \nR & R Farms is joining us with their Bloom Bar from 11 am to 6 pm on Tuesday\, June 17th\, the day of our actual anniversary to kick off a week of celebrating!
URL:https://thelaurelmagazine.com/local-event/bloom-bar-with-r-r-farms-at-the-molly-grace
LOCATION:The Molly Grace\, 207 N 4th St\, Highlands\, NC\, 28741\, United States
CATEGORIES:Community,Shopping
ATTACH;FMTTYPE=image/jpeg:https://thelaurelmagazine.com/wp-content/uploads/2025/06/highlands-nc-molly-grace-build-own-bouquet.jpg
END:VEVENT
BEGIN:VEVENT
DTSTART;TZID=America/New_York:20250617T160000
DTEND;TZID=America/New_York:20250617T160000
DTSTAMP:20260421T210657
CREATED:20250603T170626Z
LAST-MODIFIED:20250603T170626Z
UID:89983-1750176000-1750176000@thelaurelmagazine.com
SUMMARY:Ribbon Cutting and Celebration at Allison Diane Clothing
DESCRIPTION:On Tuesday June 17th\, join us for our annual celebration and ribbon cutting. \nReception starts at 4 PM\, ribbon cutting at 4:30 PM. \n15% off all day (exclusions apply)\nDrawing for a Brighton Necklace! \nWe look forward to seeing you there!
URL:https://thelaurelmagazine.com/local-event/ribbon-cutting-and-celebration-at-allison-diane-clothing
LOCATION:Allison Diane Clothing\, 114 N 4th S\, Highlands\, NC\, 28741\, United States
CATEGORIES:Shopping
ATTACH;FMTTYPE=image/jpeg:https://thelaurelmagazine.com/wp-content/uploads/2025/06/highlands-nc-allison-diane-clothing-ribbon-cutting.jpg
END:VEVENT
BEGIN:VEVENT
DTSTART;TZID=America/New_York:20250617T160000
DTEND;TZID=America/New_York:20250617T180000
DTSTAMP:20260421T210657
CREATED:20250616T170725Z
LAST-MODIFIED:20250616T170725Z
UID:91070-1750176000-1750183200@thelaurelmagazine.com
SUMMARY:Live Music with Andrew Wooten at The Molly Grace
DESCRIPTION:Andrew Wooten will be performing live music at 207 North 4th Street\, Tuesday\, June 17th from 4 pm to 6 pm to help us celebrate our 10 year anniversary!
URL:https://thelaurelmagazine.com/local-event/live-music-with-andrew-wooten-at-the-molly-grace
LOCATION:The Molly Grace\, 207 N 4th St\, Highlands\, NC\, 28741\, United States
CATEGORIES:Community,Shopping
ATTACH;FMTTYPE=image/jpeg:https://thelaurelmagazine.com/wp-content/uploads/2025/06/highlands-nc-molly-grace-andrew-wooten-live-music.jpg
END:VEVENT
END:VCALENDAR