BEGIN:VCALENDAR
VERSION:2.0
PRODID:-//Laurel Magazine - ECPv6.15.16//NONSGML v1.0//EN
CALSCALE:GREGORIAN
METHOD:PUBLISH
X-ORIGINAL-URL:https://thelaurelmagazine.com
X-WR-CALDESC:Events for Laurel Magazine
REFRESH-INTERVAL;VALUE=DURATION:PT1H
X-Robots-Tag:noindex
X-PUBLISHED-TTL:PT1H
BEGIN:VTIMEZONE
TZID:America/New_York
BEGIN:DAYLIGHT
TZOFFSETFROM:-0500
TZOFFSETTO:-0400
TZNAME:EDT
DTSTART:20240310T070000
END:DAYLIGHT
BEGIN:STANDARD
TZOFFSETFROM:-0400
TZOFFSETTO:-0500
TZNAME:EST
DTSTART:20241103T060000
END:STANDARD
BEGIN:DAYLIGHT
TZOFFSETFROM:-0500
TZOFFSETTO:-0400
TZNAME:EDT
DTSTART:20250309T070000
END:DAYLIGHT
BEGIN:STANDARD
TZOFFSETFROM:-0400
TZOFFSETTO:-0500
TZNAME:EST
DTSTART:20251102T060000
END:STANDARD
BEGIN:DAYLIGHT
TZOFFSETFROM:-0500
TZOFFSETTO:-0400
TZNAME:EDT
DTSTART:20260308T070000
END:DAYLIGHT
BEGIN:STANDARD
TZOFFSETFROM:-0400
TZOFFSETTO:-0500
TZNAME:EST
DTSTART:20261101T060000
END:STANDARD
END:VTIMEZONE
BEGIN:VEVENT
DTSTART;TZID=America/New_York:20250810T100000
DTEND;TZID=America/New_York:20250810T170000
DTSTAMP:20260422T192857
CREATED:20250731T143641Z
LAST-MODIFIED:20250731T143714Z
UID:94255-1754820000-1754845200@thelaurelmagazine.com
SUMMARY:Elizabeth Locke Jewelry Showcase at Acorns
DESCRIPTION:All of Elizabeth Locke’s pieces are handmade in 19K gold using coins from Greece\, Rome\, and forgotten empires\, as well as luminous pearls from the South Seas.
URL:https://thelaurelmagazine.com/local-event/elizabeth-locke-jewelry-showcase-at-acorns-2/2025-08-10
LOCATION:Acorns\, 212 S 4th St\, Highlands\, NC\, 28741\, United States
CATEGORIES:Shopping
ATTACH;FMTTYPE=image/jpeg:https://thelaurelmagazine.com/wp-content/uploads/2025/07/highlands-nc-shopping-acorns-elizabeth-locke-jewelry-8-25.jpg
END:VEVENT
END:VCALENDAR