BEGIN:VCALENDAR
VERSION:2.0
PRODID:-//Laurel Magazine - ECPv6.15.16//NONSGML v1.0//EN
CALSCALE:GREGORIAN
METHOD:PUBLISH
X-WR-CALNAME:Laurel Magazine
X-ORIGINAL-URL:https://thelaurelmagazine.com
X-WR-CALDESC:Events for Laurel Magazine
REFRESH-INTERVAL;VALUE=DURATION:PT1H
X-Robots-Tag:noindex
X-PUBLISHED-TTL:PT1H
BEGIN:VTIMEZONE
TZID:America/New_York
BEGIN:DAYLIGHT
TZOFFSETFROM:-0500
TZOFFSETTO:-0400
TZNAME:EDT
DTSTART:20210314T070000
END:DAYLIGHT
BEGIN:STANDARD
TZOFFSETFROM:-0400
TZOFFSETTO:-0500
TZNAME:EST
DTSTART:20211107T060000
END:STANDARD
BEGIN:DAYLIGHT
TZOFFSETFROM:-0500
TZOFFSETTO:-0400
TZNAME:EDT
DTSTART:20220313T070000
END:DAYLIGHT
BEGIN:STANDARD
TZOFFSETFROM:-0400
TZOFFSETTO:-0500
TZNAME:EST
DTSTART:20221106T060000
END:STANDARD
BEGIN:DAYLIGHT
TZOFFSETFROM:-0500
TZOFFSETTO:-0400
TZNAME:EDT
DTSTART:20230312T070000
END:DAYLIGHT
BEGIN:STANDARD
TZOFFSETFROM:-0400
TZOFFSETTO:-0500
TZNAME:EST
DTSTART:20231105T060000
END:STANDARD
END:VTIMEZONE
BEGIN:VEVENT
DTSTART;TZID=America/New_York:20220611T080000
DTEND;TZID=America/New_York:20220611T123000
DTSTAMP:20260425T062058
CREATED:20220607T162215Z
LAST-MODIFIED:20221016T190140Z
UID:39905-1654934400-1654950600@thelaurelmagazine.com
SUMMARY:Highlands Marketplace
DESCRIPTION:This local market opens Saturdays from 8:00 a.m. until 12:30 p.m. in Kelsey-Hutchinson Founders Park on Pine Street and you’ll want to arrive early for the best selections.  Not only will you see your neighbors there shopping\, but you’ll see local farmers\, crafters\, growers\, artists\, and bakers.
URL:https://thelaurelmagazine.com/local-event/highlands-marketplace-2/2022-06-11
LOCATION:Kelsey-Hutchinson Founders Park\, 411 Pine St.\, Highlands\, NC\, 28741\, United States
CATEGORIES:Community,Shopping
END:VEVENT
END:VCALENDAR