BEGIN:VCALENDAR
VERSION:2.0
PRODID:-//Laurel Magazine - ECPv6.15.16//NONSGML v1.0//EN
CALSCALE:GREGORIAN
METHOD:PUBLISH
X-WR-CALNAME:Laurel Magazine
X-ORIGINAL-URL:https://thelaurelmagazine.com
X-WR-CALDESC:Events for Laurel Magazine
REFRESH-INTERVAL;VALUE=DURATION:PT1H
X-Robots-Tag:noindex
X-PUBLISHED-TTL:PT1H
BEGIN:VTIMEZONE
TZID:America/New_York
BEGIN:DAYLIGHT
TZOFFSETFROM:-0500
TZOFFSETTO:-0400
TZNAME:EDT
DTSTART:20230312T070000
END:DAYLIGHT
BEGIN:STANDARD
TZOFFSETFROM:-0400
TZOFFSETTO:-0500
TZNAME:EST
DTSTART:20231105T060000
END:STANDARD
BEGIN:DAYLIGHT
TZOFFSETFROM:-0500
TZOFFSETTO:-0400
TZNAME:EDT
DTSTART:20240310T070000
END:DAYLIGHT
BEGIN:STANDARD
TZOFFSETFROM:-0400
TZOFFSETTO:-0500
TZNAME:EST
DTSTART:20241103T060000
END:STANDARD
BEGIN:DAYLIGHT
TZOFFSETFROM:-0500
TZOFFSETTO:-0400
TZNAME:EDT
DTSTART:20250309T070000
END:DAYLIGHT
BEGIN:STANDARD
TZOFFSETFROM:-0400
TZOFFSETTO:-0500
TZNAME:EST
DTSTART:20251102T060000
END:STANDARD
END:VTIMEZONE
BEGIN:VEVENT
DTSTART;TZID=America/New_York:20240728T100000
DTEND;TZID=America/New_York:20240728T170000
DTSTAMP:20260422T133744
CREATED:20240516T165252Z
LAST-MODIFIED:20240525T173154Z
UID:69580-1722160800-1722186000@thelaurelmagazine.com
SUMMARY:Designer Showcase: Michael Hofman Pottery at Acorns
DESCRIPTION:Acorns’ annual designer pop-ups and showcases are sure to please with unique offerings and opportunities to meet some of the region’s most respected artisans. \nMichael Hofman graduated from the University of Notre Dame with a BFA in Industrial Design and then received a Masters Degree in Fine Arts from The Ohio State University. He has called Asheville his home for the last 20 years. In 2007 he opened his studio in the historic River Arts District\, where he produces beautiful\, lace impressed\, handbill porcelain for the table and home.
URL:https://thelaurelmagazine.com/local-event/designer-pop-up-michael-hofman-pottery-at-acorns/2024-07-28
LOCATION:Acorns\, 212 S 4th St\, Highlands\, NC\, 28741\, United States
CATEGORIES:Shopping
ATTACH;FMTTYPE=image/jpeg:https://thelaurelmagazine.com/wp-content/uploads/2024/05/highlands-nc-shopping-acorns-michael-hofman-pottery.jpg
END:VEVENT
BEGIN:VEVENT
DTSTART;TZID=America/New_York:20240729T100000
DTEND;TZID=America/New_York:20240729T170000
DTSTAMP:20260422T133744
CREATED:20240718T162000Z
LAST-MODIFIED:20240718T162153Z
UID:71653-1722247200-1722272400@thelaurelmagazine.com
SUMMARY:Hanro Trunk Show at Lenz Gifts & Luxury Linens
DESCRIPTION:HANRO has been producing high-quality underwear\, nightwear and loungewear for over 140 years.\nCharacterized by first-class quality\, the highest quality craftsmanship and great attention to detail.\n\nThe result: unmistakable\, high-quality and sustainable underwear creations that embody elegance and aesthetics with every fiber – for discerning women and men all over the world.\n\nPlease call 828-743-5900 for more information.
URL:https://thelaurelmagazine.com/local-event/hanro-trunk-show-at-lenz-gifts-luxury-linens/2024-07-29
LOCATION:Lenz Gifts & Luxury Linens\, 1473 US-64\, Cashiers\, NC\, 28717\, United States
CATEGORIES:Shopping
ATTACH;FMTTYPE=image/jpeg:https://thelaurelmagazine.com/wp-content/uploads/2024/07/cashiers-nc-shopping-lenz-gifts.jpg
END:VEVENT
BEGIN:VEVENT
DTSTART;TZID=America/New_York:20240730T100000
DTEND;TZID=America/New_York:20240730T170000
DTSTAMP:20260422T133744
CREATED:20240718T162011Z
LAST-MODIFIED:20240718T162011Z
UID:71664-1722333600-1722358800@thelaurelmagazine.com
SUMMARY:Hanro Trunk Show at Lenz Gifts & Luxury Linens
DESCRIPTION:HANRO has been producing high-quality underwear\, nightwear and loungewear for over 140 years.\nCharacterized by first-class quality\, the highest quality craftsmanship and great attention to detail.\n\nThe result: unmistakable\, high-quality and sustainable underwear creations that embody elegance and aesthetics with every fiber – for discerning women and men all over the world.\n\nPlease call 828-743-5900 for more information.
URL:https://thelaurelmagazine.com/local-event/hanro-trunk-show-at-lenz-gifts-luxury-linens/2024-07-30
LOCATION:Lenz Gifts & Luxury Linens\, 1473 US-64\, Cashiers\, NC\, 28717\, United States
CATEGORIES:Shopping
ATTACH;FMTTYPE=image/jpeg:https://thelaurelmagazine.com/wp-content/uploads/2024/07/cashiers-nc-shopping-lenz-gifts.jpg
END:VEVENT
BEGIN:VEVENT
DTSTART;TZID=America/New_York:20240731T100000
DTEND;TZID=America/New_York:20240731T170000
DTSTAMP:20260422T133744
CREATED:20240718T162123Z
LAST-MODIFIED:20240718T162123Z
UID:71665-1722420000-1722445200@thelaurelmagazine.com
SUMMARY:Hanro Trunk Show at Lenz Gifts & Luxury Linens
DESCRIPTION:HANRO has been producing high-quality underwear\, nightwear and loungewear for over 140 years.\nCharacterized by first-class quality\, the highest quality craftsmanship and great attention to detail.\n\nThe result: unmistakable\, high-quality and sustainable underwear creations that embody elegance and aesthetics with every fiber – for discerning women and men all over the world.\n\nPlease call 828-743-5900 for more information.
URL:https://thelaurelmagazine.com/local-event/hanro-trunk-show-at-lenz-gifts-luxury-linens/2024-07-31
LOCATION:Lenz Gifts & Luxury Linens\, 1473 US-64\, Cashiers\, NC\, 28717\, United States
CATEGORIES:Shopping
ATTACH;FMTTYPE=image/jpeg:https://thelaurelmagazine.com/wp-content/uploads/2024/07/cashiers-nc-shopping-lenz-gifts.jpg
END:VEVENT
BEGIN:VEVENT
DTSTART;TZID=America/New_York:20240801T100000
DTEND;TZID=America/New_York:20240801T170000
DTSTAMP:20260422T133744
CREATED:20240718T162305Z
LAST-MODIFIED:20240718T162305Z
UID:71666-1722506400-1722531600@thelaurelmagazine.com
SUMMARY:Hanro Trunk Show at Lenz Gifts & Luxury Linens
DESCRIPTION:HANRO has been producing high-quality underwear\, nightwear and loungewear for over 140 years.\nCharacterized by first-class quality\, the highest quality craftsmanship and great attention to detail.\n\nThe result: unmistakable\, high-quality and sustainable underwear creations that embody elegance and aesthetics with every fiber – for discerning women and men all over the world.\n\nPlease call 828-743-5900 for more information.
URL:https://thelaurelmagazine.com/local-event/hanro-trunk-show-at-lenz-gifts-luxury-linens/2024-08-01
LOCATION:Lenz Gifts & Luxury Linens\, 1473 US-64\, Cashiers\, NC\, 28717\, United States
CATEGORIES:Shopping
ATTACH;FMTTYPE=image/jpeg:https://thelaurelmagazine.com/wp-content/uploads/2024/07/cashiers-nc-shopping-lenz-gifts.jpg
END:VEVENT
BEGIN:VEVENT
DTSTART;TZID=America/New_York:20240802T100000
DTEND;TZID=America/New_York:20240802T170000
DTSTAMP:20260422T133744
CREATED:20240718T162406Z
LAST-MODIFIED:20240718T162406Z
UID:71667-1722592800-1722618000@thelaurelmagazine.com
SUMMARY:Hanro Trunk Show at Lenz Gifts & Luxury Linens
DESCRIPTION:HANRO has been producing high-quality underwear\, nightwear and loungewear for over 140 years.\nCharacterized by first-class quality\, the highest quality craftsmanship and great attention to detail.\n\nThe result: unmistakable\, high-quality and sustainable underwear creations that embody elegance and aesthetics with every fiber – for discerning women and men all over the world.\n\nPlease call 828-743-5900 for more information.
URL:https://thelaurelmagazine.com/local-event/hanro-trunk-show-at-lenz-gifts-luxury-linens/2024-08-02
LOCATION:Lenz Gifts & Luxury Linens\, 1473 US-64\, Cashiers\, NC\, 28717\, United States
CATEGORIES:Shopping
ATTACH;FMTTYPE=image/jpeg:https://thelaurelmagazine.com/wp-content/uploads/2024/07/cashiers-nc-shopping-lenz-gifts.jpg
END:VEVENT
BEGIN:VEVENT
DTSTART;TZID=America/New_York:20240802T100000
DTEND;TZID=America/New_York:20240802T170000
DTSTAMP:20260422T133744
CREATED:20240718T183838Z
LAST-MODIFIED:20240718T183838Z
UID:71708-1722592800-1722618000@thelaurelmagazine.com
SUMMARY:JudeFrances Designer Showcase at Acorns
DESCRIPTION:Combining classic elegance with on-trend shapes and styles\, JudeFrances Jewelry offers something for women of all ages. \nThe endless combinations of the Jude Frances categories including the signature earring hoop and charm concept\, stackable gold bangles\, layering chains and pendants\, stylish cocktail rings and simple gold stackers\, allow the JudeFrances collector to create a style distinct to her. \nAcorns’ Annual season of designer pop-ups highlights the talented creators of fine art\, designer jewelry\, and home goods.
URL:https://thelaurelmagazine.com/local-event/judefrances-designer-showcase-at-acorns/2024-08-02
LOCATION:Acorns\, 212 S 4th St\, Highlands\, NC\, 28741\, United States
CATEGORIES:Shopping
ATTACH;FMTTYPE=image/jpeg:https://thelaurelmagazine.com/wp-content/uploads/2024/07/highlands-nc-shopping-acorns-judefrances.jpg
END:VEVENT
BEGIN:VEVENT
DTSTART;TZID=America/New_York:20240803T100000
DTEND;TZID=America/New_York:20240803T170000
DTSTAMP:20260422T133744
CREATED:20240718T162459Z
LAST-MODIFIED:20240718T162459Z
UID:71668-1722679200-1722704400@thelaurelmagazine.com
SUMMARY:Hanro Trunk Show at Lenz Gifts & Luxury Linens
DESCRIPTION:HANRO has been producing high-quality underwear\, nightwear and loungewear for over 140 years.\nCharacterized by first-class quality\, the highest quality craftsmanship and great attention to detail.\n\nThe result: unmistakable\, high-quality and sustainable underwear creations that embody elegance and aesthetics with every fiber – for discerning women and men all over the world.\n\nPlease call 828-743-5900 for more information.
URL:https://thelaurelmagazine.com/local-event/hanro-trunk-show-at-lenz-gifts-luxury-linens/2024-08-03
LOCATION:Lenz Gifts & Luxury Linens\, 1473 US-64\, Cashiers\, NC\, 28717\, United States
CATEGORIES:Shopping
ATTACH;FMTTYPE=image/jpeg:https://thelaurelmagazine.com/wp-content/uploads/2024/07/cashiers-nc-shopping-lenz-gifts.jpg
END:VEVENT
BEGIN:VEVENT
DTSTART;TZID=America/New_York:20240803T100000
DTEND;TZID=America/New_York:20240803T170000
DTSTAMP:20260422T133744
CREATED:20240718T183838Z
LAST-MODIFIED:20240718T183838Z
UID:71711-1722679200-1722704400@thelaurelmagazine.com
SUMMARY:JudeFrances Designer Showcase at Acorns
DESCRIPTION:Combining classic elegance with on-trend shapes and styles\, JudeFrances Jewelry offers something for women of all ages. \nThe endless combinations of the Jude Frances categories including the signature earring hoop and charm concept\, stackable gold bangles\, layering chains and pendants\, stylish cocktail rings and simple gold stackers\, allow the JudeFrances collector to create a style distinct to her. \nAcorns’ Annual season of designer pop-ups highlights the talented creators of fine art\, designer jewelry\, and home goods.
URL:https://thelaurelmagazine.com/local-event/judefrances-designer-showcase-at-acorns/2024-08-03
LOCATION:Acorns\, 212 S 4th St\, Highlands\, NC\, 28741\, United States
CATEGORIES:Shopping
ATTACH;FMTTYPE=image/jpeg:https://thelaurelmagazine.com/wp-content/uploads/2024/07/highlands-nc-shopping-acorns-judefrances.jpg
END:VEVENT
END:VCALENDAR