BEGIN:VCALENDAR
VERSION:2.0
PRODID:-//Laurel Magazine - ECPv6.15.16//NONSGML v1.0//EN
CALSCALE:GREGORIAN
METHOD:PUBLISH
X-ORIGINAL-URL:https://thelaurelmagazine.com
X-WR-CALDESC:Events for Laurel Magazine
REFRESH-INTERVAL;VALUE=DURATION:PT1H
X-Robots-Tag:noindex
X-PUBLISHED-TTL:PT1H
BEGIN:VTIMEZONE
TZID:America/New_York
BEGIN:DAYLIGHT
TZOFFSETFROM:-0500
TZOFFSETTO:-0400
TZNAME:EDT
DTSTART:20230312T070000
END:DAYLIGHT
BEGIN:STANDARD
TZOFFSETFROM:-0400
TZOFFSETTO:-0500
TZNAME:EST
DTSTART:20231105T060000
END:STANDARD
BEGIN:DAYLIGHT
TZOFFSETFROM:-0500
TZOFFSETTO:-0400
TZNAME:EDT
DTSTART:20240310T070000
END:DAYLIGHT
BEGIN:STANDARD
TZOFFSETFROM:-0400
TZOFFSETTO:-0500
TZNAME:EST
DTSTART:20241103T060000
END:STANDARD
BEGIN:DAYLIGHT
TZOFFSETFROM:-0500
TZOFFSETTO:-0400
TZNAME:EDT
DTSTART:20250309T070000
END:DAYLIGHT
BEGIN:STANDARD
TZOFFSETFROM:-0400
TZOFFSETTO:-0500
TZNAME:EST
DTSTART:20251102T060000
END:STANDARD
END:VTIMEZONE
BEGIN:VEVENT
DTSTART;TZID=America/New_York:20240804T100000
DTEND;TZID=America/New_York:20240804T170000
DTSTAMP:20260422T133828
CREATED:20240718T183838Z
LAST-MODIFIED:20240718T183838Z
UID:71712-1722765600-1722790800@thelaurelmagazine.com
SUMMARY:JudeFrances Designer Showcase at Acorns
DESCRIPTION:Combining classic elegance with on-trend shapes and styles\, JudeFrances Jewelry offers something for women of all ages. \nThe endless combinations of the Jude Frances categories including the signature earring hoop and charm concept\, stackable gold bangles\, layering chains and pendants\, stylish cocktail rings and simple gold stackers\, allow the JudeFrances collector to create a style distinct to her. \nAcorns’ Annual season of designer pop-ups highlights the talented creators of fine art\, designer jewelry\, and home goods.
URL:https://thelaurelmagazine.com/local-event/judefrances-designer-showcase-at-acorns/2024-08-04
LOCATION:Acorns\, 212 S 4th St\, Highlands\, NC\, 28741\, United States
CATEGORIES:Shopping
ATTACH;FMTTYPE=image/jpeg:https://thelaurelmagazine.com/wp-content/uploads/2024/07/highlands-nc-shopping-acorns-judefrances.jpg
END:VEVENT
BEGIN:VEVENT
DTSTART;TZID=America/New_York:20240805T100000
DTEND;TZID=America/New_York:20240805T170000
DTSTAMP:20260422T133828
CREATED:20240718T162517Z
LAST-MODIFIED:20240718T162517Z
UID:71669-1722852000-1722877200@thelaurelmagazine.com
SUMMARY:Hanro Trunk Show at Lenz Gifts & Luxury Linens
DESCRIPTION:HANRO has been producing high-quality underwear\, nightwear and loungewear for over 140 years.\nCharacterized by first-class quality\, the highest quality craftsmanship and great attention to detail.\n\nThe result: unmistakable\, high-quality and sustainable underwear creations that embody elegance and aesthetics with every fiber – for discerning women and men all over the world.\n\nPlease call 828-743-5900 for more information.
URL:https://thelaurelmagazine.com/local-event/hanro-trunk-show-at-lenz-gifts-luxury-linens/2024-08-05
LOCATION:Lenz Gifts & Luxury Linens\, 1473 US-64\, Cashiers\, NC\, 28717\, United States
CATEGORIES:Shopping
ATTACH;FMTTYPE=image/jpeg:https://thelaurelmagazine.com/wp-content/uploads/2024/07/cashiers-nc-shopping-lenz-gifts.jpg
END:VEVENT
BEGIN:VEVENT
DTSTART;TZID=America/New_York:20240809T100000
DTEND;TZID=America/New_York:20240809T170000
DTSTAMP:20260422T133828
CREATED:20240723T161444Z
LAST-MODIFIED:20240723T161621Z
UID:71758-1723197600-1723222800@thelaurelmagazine.com
SUMMARY:Elizabeth Locke Jewelry Showcase at Acorns
DESCRIPTION:Elizabeth Locke draws on a lifelong fascination with the antique jewelry of the Etruscans\, Greeks and Romans as she creates her own neo-classical hand-made 19k gold jewelry. She selects every stone and designs every piece herself. While many covet the luminescent stones or the Venetian glass intaglios in her designs\, Elizabeth’s deepest passion is for one-of-a-kind antiquities: 19th-century micromosaics and pietra duras\, 18-century Chinese gambling counters\, Essex crystals\, miniature paintings or antique Japanese porcelain buttons.
URL:https://thelaurelmagazine.com/local-event/elizabeth-locke-jewelry-showcase-at-acorns/2024-08-09
LOCATION:Acorns\, 212 S 4th St\, Highlands\, NC\, 28741\, United States
CATEGORIES:Shopping
ATTACH;FMTTYPE=image/jpeg:https://thelaurelmagazine.com/wp-content/uploads/2024/07/highlands-nc-acorns-elizabeth-locke.jpg
END:VEVENT
BEGIN:VEVENT
DTSTART;TZID=America/New_York:20240810T100000
DTEND;TZID=America/New_York:20240810T170000
DTSTAMP:20260422T133828
CREATED:20240723T161447Z
LAST-MODIFIED:20240723T161447Z
UID:71762-1723284000-1723309200@thelaurelmagazine.com
SUMMARY:Elizabeth Locke Jewelry Showcase at Acorns
DESCRIPTION:Elizabeth Locke draws on a lifelong fascination with the antique jewelry of the Etruscans\, Greeks and Romans as she creates her own neo-classical hand-made 19k gold jewelry. She selects every stone and designs every piece herself. While many covet the luminescent stones or the Venetian glass intaglios in her designs\, Elizabeth’s deepest passion is for one-of-a-kind antiquities: 19th-century micromosaics and pietra duras\, 18-century Chinese gambling counters\, Essex crystals\, miniature paintings or antique Japanese porcelain buttons.
URL:https://thelaurelmagazine.com/local-event/elizabeth-locke-jewelry-showcase-at-acorns/2024-08-10
CATEGORIES:Shopping
END:VEVENT
END:VCALENDAR