BEGIN:VCALENDAR
VERSION:2.0
PRODID:-//Laurel Magazine - ECPv6.15.16//NONSGML v1.0//EN
CALSCALE:GREGORIAN
METHOD:PUBLISH
X-ORIGINAL-URL:https://thelaurelmagazine.com
X-WR-CALDESC:Events for Laurel Magazine
REFRESH-INTERVAL;VALUE=DURATION:PT1H
X-Robots-Tag:noindex
X-PUBLISHED-TTL:PT1H
BEGIN:VTIMEZONE
TZID:America/New_York
BEGIN:DAYLIGHT
TZOFFSETFROM:-0500
TZOFFSETTO:-0400
TZNAME:EDT
DTSTART:20240310T070000
END:DAYLIGHT
BEGIN:STANDARD
TZOFFSETFROM:-0400
TZOFFSETTO:-0500
TZNAME:EST
DTSTART:20241103T060000
END:STANDARD
BEGIN:DAYLIGHT
TZOFFSETFROM:-0500
TZOFFSETTO:-0400
TZNAME:EDT
DTSTART:20250309T070000
END:DAYLIGHT
BEGIN:STANDARD
TZOFFSETFROM:-0400
TZOFFSETTO:-0500
TZNAME:EST
DTSTART:20251102T060000
END:STANDARD
BEGIN:DAYLIGHT
TZOFFSETFROM:-0500
TZOFFSETTO:-0400
TZNAME:EDT
DTSTART:20260308T070000
END:DAYLIGHT
BEGIN:STANDARD
TZOFFSETFROM:-0400
TZOFFSETTO:-0500
TZNAME:EST
DTSTART:20261101T060000
END:STANDARD
END:VTIMEZONE
BEGIN:VEVENT
DTSTART;TZID=America/New_York:20250710T093000
DTEND;TZID=America/New_York:20250710T170000
DTSTAMP:20260422T023229
CREATED:20250702T154923Z
LAST-MODIFIED:20250702T154923Z
UID:92531-1752139800-1752166800@thelaurelmagazine.com
SUMMARY:Bob's 75th Birthday Blowout Sale at The Exchange for Men
DESCRIPTION:In celebration of Bob’s 75th (!!!) birthday\, enjoy 75% off men’s clothing and accessories at The Exchange for Men! Located at 2060 Dillard Road in Highlands. *Some exclusions apply—but most of our finest finds are fair game!
URL:https://thelaurelmagazine.com/local-event/bobs-75th-birthday-blowout-sale-at-the-exchange-for-men/2025-07-10
LOCATION:Nancy’s Fancys and The Exchange for Men\, 2060 Dillard Rd\, Highlands\, NC\, 28741\, United States
CATEGORIES:Shopping
END:VEVENT
BEGIN:VEVENT
DTSTART;TZID=America/New_York:20250710T110000
DTEND;TZID=America/New_York:20250710T170000
DTSTAMP:20260422T023229
CREATED:20250702T154320Z
LAST-MODIFIED:20250702T154320Z
UID:92493-1752145200-1752166800@thelaurelmagazine.com
SUMMARY:Beth Poindexter Luxe Trunk Show at Josephine's Emporium
DESCRIPTION:“Vintage Fashion At Its Best” \nTHURSDAY\, July 10\, FRIDAY\, July 11\, SATURDAY\, July 12 11a – 5p \nat Josephine’s Emporium at 40 Burns St.\, Cashiers. bwpoindexter1217@gmail.com\, 336-420-6054
URL:https://thelaurelmagazine.com/local-event/beth-poindexter-luxe-trunk-show-at-josephines-emporium/2025-07-10
LOCATION:Josephine’s Emporium\, 40 Burns St\,\, Cashiers\, NC\, 28741\, United States
CATEGORIES:Community,Shopping
ATTACH;FMTTYPE=image/jpeg:https://thelaurelmagazine.com/wp-content/uploads/2025/07/cashiers-nc-josephines-emporium-beth-poindexter-luxe-trunk-show.jpg
END:VEVENT
BEGIN:VEVENT
DTSTART;TZID=America/New_York:20250711T093000
DTEND;TZID=America/New_York:20250711T170000
DTSTAMP:20260422T023229
CREATED:20250702T154923Z
LAST-MODIFIED:20250702T154923Z
UID:92567-1752226200-1752253200@thelaurelmagazine.com
SUMMARY:Bob's 75th Birthday Blowout Sale at The Exchange for Men
DESCRIPTION:In celebration of Bob’s 75th (!!!) birthday\, enjoy 75% off men’s clothing and accessories at The Exchange for Men! Located at 2060 Dillard Road in Highlands. *Some exclusions apply—but most of our finest finds are fair game!
URL:https://thelaurelmagazine.com/local-event/bobs-75th-birthday-blowout-sale-at-the-exchange-for-men/2025-07-11
LOCATION:Nancy’s Fancys and The Exchange for Men\, 2060 Dillard Rd\, Highlands\, NC\, 28741\, United States
CATEGORIES:Shopping
END:VEVENT
BEGIN:VEVENT
DTSTART;TZID=America/New_York:20250711T100000
DTEND;TZID=America/New_York:20250711T170000
DTSTAMP:20260422T023229
CREATED:20250702T155353Z
LAST-MODIFIED:20250702T155353Z
UID:92561-1752228000-1752253200@thelaurelmagazine.com
SUMMARY:Trunk Show with Andrea at Main Street Gifts
DESCRIPTION:Silicone Jar Openers & Trivets for Every Occasion at Main Street Gifts\, located at 364 Main Street in Highlands. \nCall 828-482-1414 for more information.
URL:https://thelaurelmagazine.com/local-event/trunk-show-with-andrea-at-main-street-gifts/2025-07-11
LOCATION:Main Street Gifts\, 364 Main St\, Highlands\, NC\, 28741\, United States
CATEGORIES:Shopping
END:VEVENT
BEGIN:VEVENT
DTSTART;TZID=America/New_York:20250711T110000
DTEND;TZID=America/New_York:20250711T170000
DTSTAMP:20260422T023229
CREATED:20250702T154320Z
LAST-MODIFIED:20250702T154320Z
UID:92529-1752231600-1752253200@thelaurelmagazine.com
SUMMARY:Beth Poindexter Luxe Trunk Show at Josephine's Emporium
DESCRIPTION:“Vintage Fashion At Its Best” \nTHURSDAY\, July 10\, FRIDAY\, July 11\, SATURDAY\, July 12 11a – 5p \nat Josephine’s Emporium at 40 Burns St.\, Cashiers. bwpoindexter1217@gmail.com\, 336-420-6054
URL:https://thelaurelmagazine.com/local-event/beth-poindexter-luxe-trunk-show-at-josephines-emporium/2025-07-11
LOCATION:Josephine’s Emporium\, 40 Burns St\,\, Cashiers\, NC\, 28741\, United States
CATEGORIES:Community,Shopping
ATTACH;FMTTYPE=image/jpeg:https://thelaurelmagazine.com/wp-content/uploads/2025/07/cashiers-nc-josephines-emporium-beth-poindexter-luxe-trunk-show.jpg
END:VEVENT
BEGIN:VEVENT
DTSTART;TZID=America/New_York:20250712T093000
DTEND;TZID=America/New_York:20250712T170000
DTSTAMP:20260422T023229
CREATED:20250702T154923Z
LAST-MODIFIED:20250702T154923Z
UID:92568-1752312600-1752339600@thelaurelmagazine.com
SUMMARY:Bob's 75th Birthday Blowout Sale at The Exchange for Men
DESCRIPTION:In celebration of Bob’s 75th (!!!) birthday\, enjoy 75% off men’s clothing and accessories at The Exchange for Men! Located at 2060 Dillard Road in Highlands. *Some exclusions apply—but most of our finest finds are fair game!
URL:https://thelaurelmagazine.com/local-event/bobs-75th-birthday-blowout-sale-at-the-exchange-for-men/2025-07-12
LOCATION:Nancy’s Fancys and The Exchange for Men\, 2060 Dillard Rd\, Highlands\, NC\, 28741\, United States
CATEGORIES:Shopping
END:VEVENT
BEGIN:VEVENT
DTSTART;TZID=America/New_York:20250712T100000
DTEND;TZID=America/New_York:20250712T170000
DTSTAMP:20260422T023229
CREATED:20250702T155353Z
LAST-MODIFIED:20250702T155353Z
UID:92612-1752314400-1752339600@thelaurelmagazine.com
SUMMARY:Trunk Show with Andrea at Main Street Gifts
DESCRIPTION:Silicone Jar Openers & Trivets for Every Occasion at Main Street Gifts\, located at 364 Main Street in Highlands. \nCall 828-482-1414 for more information.
URL:https://thelaurelmagazine.com/local-event/trunk-show-with-andrea-at-main-street-gifts/2025-07-12
LOCATION:Main Street Gifts\, 364 Main St\, Highlands\, NC\, 28741\, United States
CATEGORIES:Shopping
END:VEVENT
BEGIN:VEVENT
DTSTART;TZID=America/New_York:20250712T100000
DTEND;TZID=America/New_York:20250712T170000
DTSTAMP:20260422T023229
CREATED:20250708T163352Z
LAST-MODIFIED:20250708T163352Z
UID:92957-1752314400-1752339600@thelaurelmagazine.com
SUMMARY:Theresa Forman Art Showcase at Acorns
DESCRIPTION:As a child\, Theresa always had a passion for art through the process of creating something beautiful. To this day\, she enjoys drawing inspiration from the subtle nuances in color in both still lives and landscapes. These pieces reflect the harmony found in nature while simultaneously echoing a sense of peace and elegance.
URL:https://thelaurelmagazine.com/local-event/theresa-forman-art-showcase-at-acorns
LOCATION:Acorns\, 212 S 4th St\, Highlands\, NC\, 28741\, United States
CATEGORIES:Shopping
ATTACH;FMTTYPE=image/jpeg:https://thelaurelmagazine.com/wp-content/uploads/2025/07/highlands-nc-acorns-theresa-forman-art-showcase.jpg
END:VEVENT
BEGIN:VEVENT
DTSTART;TZID=America/New_York:20250712T110000
DTEND;TZID=America/New_York:20250712T170000
DTSTAMP:20260422T023229
CREATED:20250702T154320Z
LAST-MODIFIED:20250702T154320Z
UID:92530-1752318000-1752339600@thelaurelmagazine.com
SUMMARY:Beth Poindexter Luxe Trunk Show at Josephine's Emporium
DESCRIPTION:“Vintage Fashion At Its Best” \nTHURSDAY\, July 10\, FRIDAY\, July 11\, SATURDAY\, July 12 11a – 5p \nat Josephine’s Emporium at 40 Burns St.\, Cashiers. bwpoindexter1217@gmail.com\, 336-420-6054
URL:https://thelaurelmagazine.com/local-event/beth-poindexter-luxe-trunk-show-at-josephines-emporium/2025-07-12
LOCATION:Josephine’s Emporium\, 40 Burns St\,\, Cashiers\, NC\, 28741\, United States
CATEGORIES:Community,Shopping
ATTACH;FMTTYPE=image/jpeg:https://thelaurelmagazine.com/wp-content/uploads/2025/07/cashiers-nc-josephines-emporium-beth-poindexter-luxe-trunk-show.jpg
END:VEVENT
END:VCALENDAR