BEGIN:VCALENDAR
VERSION:2.0
PRODID:-//Laurel Magazine - ECPv6.15.16//NONSGML v1.0//EN
CALSCALE:GREGORIAN
METHOD:PUBLISH
X-ORIGINAL-URL:https://thelaurelmagazine.com
X-WR-CALDESC:Events for Laurel Magazine
REFRESH-INTERVAL;VALUE=DURATION:PT1H
X-Robots-Tag:noindex
X-PUBLISHED-TTL:PT1H
BEGIN:VTIMEZONE
TZID:America/New_York
BEGIN:DAYLIGHT
TZOFFSETFROM:-0500
TZOFFSETTO:-0400
TZNAME:EDT
DTSTART:20240310T070000
END:DAYLIGHT
BEGIN:STANDARD
TZOFFSETFROM:-0400
TZOFFSETTO:-0500
TZNAME:EST
DTSTART:20241103T060000
END:STANDARD
BEGIN:DAYLIGHT
TZOFFSETFROM:-0500
TZOFFSETTO:-0400
TZNAME:EDT
DTSTART:20250309T070000
END:DAYLIGHT
BEGIN:STANDARD
TZOFFSETFROM:-0400
TZOFFSETTO:-0500
TZNAME:EST
DTSTART:20251102T060000
END:STANDARD
BEGIN:DAYLIGHT
TZOFFSETFROM:-0500
TZOFFSETTO:-0400
TZNAME:EDT
DTSTART:20260308T070000
END:DAYLIGHT
BEGIN:STANDARD
TZOFFSETFROM:-0400
TZOFFSETTO:-0500
TZNAME:EST
DTSTART:20261101T060000
END:STANDARD
END:VTIMEZONE
BEGIN:VEVENT
DTSTART;TZID=America/New_York:20250806T110000
DTEND;TZID=America/New_York:20250806T170000
DTSTAMP:20260422T120650
CREATED:20250731T140124Z
LAST-MODIFIED:20250731T140124Z
UID:94147-1754478000-1754499600@thelaurelmagazine.com
SUMMARY:Rug Show at Josephine’s Emporium
DESCRIPTION:Come see Oriental Rug Specialist rugs on display at Josephine’s Emporium. \nFree rug pad with each purchase! \n40 Burns Street\, Cashiers.
URL:https://thelaurelmagazine.com/local-event/rug-show-at-josephines-emporium/2025-08-06
LOCATION:Josephine’s Emporium\, 40 Burns St\,\, Cashiers\, NC\, 28741\, United States
CATEGORIES:Shopping
ATTACH;FMTTYPE=image/jpeg:https://thelaurelmagazine.com/wp-content/uploads/2025/07/cashiers-nc-josephines-emporium-rug-sale.jpg
END:VEVENT
BEGIN:VEVENT
DTSTART;TZID=America/New_York:20250807T110000
DTEND;TZID=America/New_York:20250807T170000
DTSTAMP:20260422T120650
CREATED:20250731T140124Z
LAST-MODIFIED:20250731T140124Z
UID:94148-1754564400-1754586000@thelaurelmagazine.com
SUMMARY:Rug Show at Josephine’s Emporium
DESCRIPTION:Come see Oriental Rug Specialist rugs on display at Josephine’s Emporium. \nFree rug pad with each purchase! \n40 Burns Street\, Cashiers.
URL:https://thelaurelmagazine.com/local-event/rug-show-at-josephines-emporium/2025-08-07
LOCATION:Josephine’s Emporium\, 40 Burns St\,\, Cashiers\, NC\, 28741\, United States
CATEGORIES:Shopping
ATTACH;FMTTYPE=image/jpeg:https://thelaurelmagazine.com/wp-content/uploads/2025/07/cashiers-nc-josephines-emporium-rug-sale.jpg
END:VEVENT
BEGIN:VEVENT
DTSTART;TZID=America/New_York:20250808T100000
DTEND;TZID=America/New_York:20250808T170000
DTSTAMP:20260422T120650
CREATED:20250731T143641Z
LAST-MODIFIED:20250731T143707Z
UID:94251-1754647200-1754672400@thelaurelmagazine.com
SUMMARY:Elizabeth Locke Jewelry Showcase at Acorns
DESCRIPTION:All of Elizabeth Locke’s pieces are handmade in 19K gold using coins from Greece\, Rome\, and forgotten empires\, as well as luminous pearls from the South Seas.
URL:https://thelaurelmagazine.com/local-event/elizabeth-locke-jewelry-showcase-at-acorns-2/2025-08-08
LOCATION:Acorns\, 212 S 4th St\, Highlands\, NC\, 28741\, United States
CATEGORIES:Shopping
ATTACH;FMTTYPE=image/jpeg:https://thelaurelmagazine.com/wp-content/uploads/2025/07/highlands-nc-shopping-acorns-elizabeth-locke-jewelry-8-25.jpg
END:VEVENT
BEGIN:VEVENT
DTSTART;TZID=America/New_York:20250808T110000
DTEND;TZID=America/New_York:20250808T170000
DTSTAMP:20260422T120650
CREATED:20250731T140124Z
LAST-MODIFIED:20250731T140124Z
UID:94149-1754650800-1754672400@thelaurelmagazine.com
SUMMARY:Rug Show at Josephine’s Emporium
DESCRIPTION:Come see Oriental Rug Specialist rugs on display at Josephine’s Emporium. \nFree rug pad with each purchase! \n40 Burns Street\, Cashiers.
URL:https://thelaurelmagazine.com/local-event/rug-show-at-josephines-emporium/2025-08-08
LOCATION:Josephine’s Emporium\, 40 Burns St\,\, Cashiers\, NC\, 28741\, United States
CATEGORIES:Shopping
ATTACH;FMTTYPE=image/jpeg:https://thelaurelmagazine.com/wp-content/uploads/2025/07/cashiers-nc-josephines-emporium-rug-sale.jpg
END:VEVENT
BEGIN:VEVENT
DTSTART;TZID=America/New_York:20250809T100000
DTEND;TZID=America/New_York:20250809T170000
DTSTAMP:20260422T120650
CREATED:20250731T143641Z
LAST-MODIFIED:20250731T143709Z
UID:94254-1754733600-1754758800@thelaurelmagazine.com
SUMMARY:Elizabeth Locke Jewelry Showcase at Acorns
DESCRIPTION:All of Elizabeth Locke’s pieces are handmade in 19K gold using coins from Greece\, Rome\, and forgotten empires\, as well as luminous pearls from the South Seas.
URL:https://thelaurelmagazine.com/local-event/elizabeth-locke-jewelry-showcase-at-acorns-2/2025-08-09
LOCATION:Acorns\, 212 S 4th St\, Highlands\, NC\, 28741\, United States
CATEGORIES:Shopping
ATTACH;FMTTYPE=image/jpeg:https://thelaurelmagazine.com/wp-content/uploads/2025/07/highlands-nc-shopping-acorns-elizabeth-locke-jewelry-8-25.jpg
END:VEVENT
BEGIN:VEVENT
DTSTART;TZID=America/New_York:20250809T110000
DTEND;TZID=America/New_York:20250809T170000
DTSTAMP:20260422T120650
CREATED:20250731T140124Z
LAST-MODIFIED:20250731T140124Z
UID:94150-1754737200-1754758800@thelaurelmagazine.com
SUMMARY:Rug Show at Josephine’s Emporium
DESCRIPTION:Come see Oriental Rug Specialist rugs on display at Josephine’s Emporium. \nFree rug pad with each purchase! \n40 Burns Street\, Cashiers.
URL:https://thelaurelmagazine.com/local-event/rug-show-at-josephines-emporium/2025-08-09
LOCATION:Josephine’s Emporium\, 40 Burns St\,\, Cashiers\, NC\, 28741\, United States
CATEGORIES:Shopping
ATTACH;FMTTYPE=image/jpeg:https://thelaurelmagazine.com/wp-content/uploads/2025/07/cashiers-nc-josephines-emporium-rug-sale.jpg
END:VEVENT
END:VCALENDAR