BEGIN:VCALENDAR
VERSION:2.0
PRODID:-//Laurel Magazine - ECPv6.15.16//NONSGML v1.0//EN
CALSCALE:GREGORIAN
METHOD:PUBLISH
X-ORIGINAL-URL:https://thelaurelmagazine.com
X-WR-CALDESC:Events for Laurel Magazine
REFRESH-INTERVAL;VALUE=DURATION:PT1H
X-Robots-Tag:noindex
X-PUBLISHED-TTL:PT1H
BEGIN:VTIMEZONE
TZID:America/New_York
BEGIN:DAYLIGHT
TZOFFSETFROM:-0500
TZOFFSETTO:-0400
TZNAME:EDT
DTSTART:20240310T070000
END:DAYLIGHT
BEGIN:STANDARD
TZOFFSETFROM:-0400
TZOFFSETTO:-0500
TZNAME:EST
DTSTART:20241103T060000
END:STANDARD
BEGIN:DAYLIGHT
TZOFFSETFROM:-0500
TZOFFSETTO:-0400
TZNAME:EDT
DTSTART:20250309T070000
END:DAYLIGHT
BEGIN:STANDARD
TZOFFSETFROM:-0400
TZOFFSETTO:-0500
TZNAME:EST
DTSTART:20251102T060000
END:STANDARD
BEGIN:DAYLIGHT
TZOFFSETFROM:-0500
TZOFFSETTO:-0400
TZNAME:EDT
DTSTART:20260308T070000
END:DAYLIGHT
BEGIN:STANDARD
TZOFFSETFROM:-0400
TZOFFSETTO:-0500
TZNAME:EST
DTSTART:20261101T060000
END:STANDARD
END:VTIMEZONE
BEGIN:VEVENT
DTSTART;TZID=America/New_York:20250810T100000
DTEND;TZID=America/New_York:20250810T170000
DTSTAMP:20260422T175756
CREATED:20250731T143641Z
LAST-MODIFIED:20250731T143714Z
UID:94255-1754820000-1754845200@thelaurelmagazine.com
SUMMARY:Elizabeth Locke Jewelry Showcase at Acorns
DESCRIPTION:All of Elizabeth Locke’s pieces are handmade in 19K gold using coins from Greece\, Rome\, and forgotten empires\, as well as luminous pearls from the South Seas.
URL:https://thelaurelmagazine.com/local-event/elizabeth-locke-jewelry-showcase-at-acorns-2/2025-08-10
LOCATION:Acorns\, 212 S 4th St\, Highlands\, NC\, 28741\, United States
CATEGORIES:Shopping
ATTACH;FMTTYPE=image/jpeg:https://thelaurelmagazine.com/wp-content/uploads/2025/07/highlands-nc-shopping-acorns-elizabeth-locke-jewelry-8-25.jpg
END:VEVENT
BEGIN:VEVENT
DTSTART;TZID=America/New_York:20250815T100000
DTEND;TZID=America/New_York:20250815T170000
DTSTAMP:20260422T175756
CREATED:20250801T221911Z
LAST-MODIFIED:20250801T221911Z
UID:94438-1755252000-1755277200@thelaurelmagazine.com
SUMMARY:Sip and Shop at Wit's End
DESCRIPTION:Join us for a two day trunk show event featuring Kinross Cashmere at Wit’s End.
URL:https://thelaurelmagazine.com/local-event/sip-and-shop-at-wits-end/2025-08-15
LOCATION:Wit’s End\, 382 Mainstreet\, Highlands\, NC\, 28741\, United States
CATEGORIES:Shopping
ATTACH;FMTTYPE=image/jpeg:https://thelaurelmagazine.com/wp-content/uploads/2025/08/highlands-nc-wits-end-cashmere-trunk-show.jpg
END:VEVENT
BEGIN:VEVENT
DTSTART;TZID=America/New_York:20250816T100000
DTEND;TZID=America/New_York:20250816T170000
DTSTAMP:20260422T175756
CREATED:20250801T221911Z
LAST-MODIFIED:20250801T221911Z
UID:94441-1755338400-1755363600@thelaurelmagazine.com
SUMMARY:Sip and Shop at Wit's End
DESCRIPTION:Join us for a two day trunk show event featuring Kinross Cashmere at Wit’s End.
URL:https://thelaurelmagazine.com/local-event/sip-and-shop-at-wits-end/2025-08-16
LOCATION:Wit’s End\, 382 Mainstreet\, Highlands\, NC\, 28741\, United States
CATEGORIES:Shopping
ATTACH;FMTTYPE=image/jpeg:https://thelaurelmagazine.com/wp-content/uploads/2025/08/highlands-nc-wits-end-cashmere-trunk-show.jpg
END:VEVENT
BEGIN:VEVENT
DTSTART;TZID=America/New_York:20250816T100000
DTEND;TZID=America/New_York:20250816T170000
DTSTAMP:20260422T175756
CREATED:20250812T152510Z
LAST-MODIFIED:20250812T152510Z
UID:95405-1755338400-1755363600@thelaurelmagazine.com
SUMMARY:Southern Bungalow at Acorns
DESCRIPTION:Southern Bungalow’s wax is organic and renewable. It’s odorless until scented with cosmetic-grade fragrances and essential oils\, and it dries to a beautiful\, creamy white consistency. A Southern Bungalow candle is not only beautiful\, but it will also fill your room with fragrance and burn longer and cleaner than any of the other waxes.
URL:https://thelaurelmagazine.com/local-event/southern-bungalow-at-acorns/2025-08-16
LOCATION:Acorns\, 212 S 4th St\, Highlands\, NC\, 28741\, United States
CATEGORIES:Shopping
ATTACH;FMTTYPE=image/jpeg:https://thelaurelmagazine.com/wp-content/uploads/2025/08/highlands-nc-shopping-acorns-southern-botanics.jpg
END:VEVENT
END:VCALENDAR