BEGIN:VCALENDAR
VERSION:2.0
PRODID:-//Laurel Magazine - ECPv6.15.16//NONSGML v1.0//EN
CALSCALE:GREGORIAN
METHOD:PUBLISH
X-ORIGINAL-URL:https://thelaurelmagazine.com
X-WR-CALDESC:Events for Laurel Magazine
REFRESH-INTERVAL;VALUE=DURATION:PT1H
X-Robots-Tag:noindex
X-PUBLISHED-TTL:PT1H
BEGIN:VTIMEZONE
TZID:America/New_York
BEGIN:DAYLIGHT
TZOFFSETFROM:-0500
TZOFFSETTO:-0400
TZNAME:EDT
DTSTART:20240310T070000
END:DAYLIGHT
BEGIN:STANDARD
TZOFFSETFROM:-0400
TZOFFSETTO:-0500
TZNAME:EST
DTSTART:20241103T060000
END:STANDARD
BEGIN:DAYLIGHT
TZOFFSETFROM:-0500
TZOFFSETTO:-0400
TZNAME:EDT
DTSTART:20250309T070000
END:DAYLIGHT
BEGIN:STANDARD
TZOFFSETFROM:-0400
TZOFFSETTO:-0500
TZNAME:EST
DTSTART:20251102T060000
END:STANDARD
BEGIN:DAYLIGHT
TZOFFSETFROM:-0500
TZOFFSETTO:-0400
TZNAME:EDT
DTSTART:20260308T070000
END:DAYLIGHT
BEGIN:STANDARD
TZOFFSETFROM:-0400
TZOFFSETTO:-0500
TZNAME:EST
DTSTART:20261101T060000
END:STANDARD
END:VTIMEZONE
BEGIN:VEVENT
DTSTART;TZID=America/New_York:20250817T100000
DTEND;TZID=America/New_York:20250817T170000
DTSTAMP:20260422T135930
CREATED:20250812T152510Z
LAST-MODIFIED:20250812T152510Z
UID:95407-1755424800-1755450000@thelaurelmagazine.com
SUMMARY:Southern Bungalow at Acorns
DESCRIPTION:Southern Bungalow’s wax is organic and renewable. It’s odorless until scented with cosmetic-grade fragrances and essential oils\, and it dries to a beautiful\, creamy white consistency. A Southern Bungalow candle is not only beautiful\, but it will also fill your room with fragrance and burn longer and cleaner than any of the other waxes.
URL:https://thelaurelmagazine.com/local-event/southern-bungalow-at-acorns/2025-08-17
LOCATION:Acorns\, 212 S 4th St\, Highlands\, NC\, 28741\, United States
CATEGORIES:Shopping
ATTACH;FMTTYPE=image/jpeg:https://thelaurelmagazine.com/wp-content/uploads/2025/08/highlands-nc-shopping-acorns-southern-botanics.jpg
END:VEVENT
BEGIN:VEVENT
DTSTART;TZID=America/New_York:20250822T100000
DTEND;TZID=America/New_York:20250822T170000
DTSTAMP:20260422T135930
CREATED:20250812T153743Z
LAST-MODIFIED:20250812T153743Z
UID:95412-1755856800-1755882000@thelaurelmagazine.com
SUMMARY:Suzy Landa Jewelry Trunk Show at Peak Experience
DESCRIPTION:Jewelry Artist Suzy Landa will be returning to Peak Experience for her Sixth Anniversary Trunk Show! August 22 and 23 from 10 a.m. to 5 p.m.. \nDon’t miss this opportunity to meet Suzy and see her gorgeous jewelry collection in person!
URL:https://thelaurelmagazine.com/local-event/suzy-landa-jewelry-trunk-show-at-peak-experience/2025-08-22
LOCATION:Peak Experience\, 2820 Dillard Road\, Highlands\, NC\, 28741\, United States
CATEGORIES:Shopping
ATTACH;FMTTYPE=image/jpeg:https://thelaurelmagazine.com/wp-content/uploads/2025/08/highlands-nc-shopping-peak-experience-suzy-landa-trunk-show.jpg
END:VEVENT
BEGIN:VEVENT
DTSTART;TZID=America/New_York:20250823T090000
DTEND;TZID=America/New_York:20250823T170000
DTSTAMP:20260422T135930
CREATED:20250610T182212Z
LAST-MODIFIED:20250610T182212Z
UID:90964-1755939600-1755968400@thelaurelmagazine.com
SUMMARY:The Mountaintop Art and Craft Show at Kelsey Hutchinson Founders Park
DESCRIPTION:The Mountaintop Art and Craft Show is a premier outdoor event held annually in the beautiful mountain town of Highlands\, NC. Known for its high-quality\, original\, and traditional artwork\, the event draws hundreds of visitors and loyal customers year after year. \nThis two-day event is an excellent opportunity for exhibitors to showcase their work in a scenic\, vibrant setting.
URL:https://thelaurelmagazine.com/local-event/the-mountaintop-art-and-craft-show-at-kelsey-hutchinson-founders-park/2025-08-23
LOCATION:Kelsey-Hutchinson Founders Park\, 411 Pine St.\, Highlands\, NC\, 28741\, United States
CATEGORIES:Community,Shopping
ATTACH;FMTTYPE=image/jpeg:https://thelaurelmagazine.com/wp-content/uploads/2024/03/highlands-nc-mountaintop-art-crafts-event.jpg
END:VEVENT
BEGIN:VEVENT
DTSTART;TZID=America/New_York:20250823T100000
DTEND;TZID=America/New_York:20250823T170000
DTSTAMP:20260422T135930
CREATED:20250812T153743Z
LAST-MODIFIED:20250812T153743Z
UID:95415-1755943200-1755968400@thelaurelmagazine.com
SUMMARY:Suzy Landa Jewelry Trunk Show at Peak Experience
DESCRIPTION:Jewelry Artist Suzy Landa will be returning to Peak Experience for her Sixth Anniversary Trunk Show! August 22 and 23 from 10 a.m. to 5 p.m.. \nDon’t miss this opportunity to meet Suzy and see her gorgeous jewelry collection in person!
URL:https://thelaurelmagazine.com/local-event/suzy-landa-jewelry-trunk-show-at-peak-experience/2025-08-23
LOCATION:Peak Experience\, 2820 Dillard Road\, Highlands\, NC\, 28741\, United States
CATEGORIES:Shopping
ATTACH;FMTTYPE=image/jpeg:https://thelaurelmagazine.com/wp-content/uploads/2025/08/highlands-nc-shopping-peak-experience-suzy-landa-trunk-show.jpg
END:VEVENT
END:VCALENDAR