BEGIN:VCALENDAR
VERSION:2.0
PRODID:-//Laurel Magazine - ECPv6.15.16//NONSGML v1.0//EN
CALSCALE:GREGORIAN
METHOD:PUBLISH
X-ORIGINAL-URL:https://thelaurelmagazine.com
X-WR-CALDESC:Events for Laurel Magazine
REFRESH-INTERVAL;VALUE=DURATION:PT1H
X-Robots-Tag:noindex
X-PUBLISHED-TTL:PT1H
BEGIN:VTIMEZONE
TZID:America/New_York
BEGIN:DAYLIGHT
TZOFFSETFROM:-0500
TZOFFSETTO:-0400
TZNAME:EDT
DTSTART:20240310T070000
END:DAYLIGHT
BEGIN:STANDARD
TZOFFSETFROM:-0400
TZOFFSETTO:-0500
TZNAME:EST
DTSTART:20241103T060000
END:STANDARD
BEGIN:DAYLIGHT
TZOFFSETFROM:-0500
TZOFFSETTO:-0400
TZNAME:EDT
DTSTART:20250309T070000
END:DAYLIGHT
BEGIN:STANDARD
TZOFFSETFROM:-0400
TZOFFSETTO:-0500
TZNAME:EST
DTSTART:20251102T060000
END:STANDARD
BEGIN:DAYLIGHT
TZOFFSETFROM:-0500
TZOFFSETTO:-0400
TZNAME:EDT
DTSTART:20260308T070000
END:DAYLIGHT
BEGIN:STANDARD
TZOFFSETFROM:-0400
TZOFFSETTO:-0500
TZNAME:EST
DTSTART:20261101T060000
END:STANDARD
END:VTIMEZONE
BEGIN:VEVENT
DTSTART;TZID=America/New_York:20250928T100000
DTEND;TZID=America/New_York:20250928T180000
DTSTAMP:20260422T134011
CREATED:20250910T130635Z
LAST-MODIFIED:20250910T130635Z
UID:96872-1759053600-1759082400@thelaurelmagazine.com
SUMMARY:Grand Opening of TJ Baileys Cashiers
DESCRIPTION:Join us for the  Grand Opening of our new TJ Bailey’s location in Cashiers on Friday\, September 26th – Sunday\, September 28th. \nThis special weekend will feature: \nLive music from local talents between 3–6 PM. Refreshments for our guests\, A tour of the new store and a look at our curated collection of men’s and women’s fashion \n\n\nWe will also be having a trunk show all weekend with Loretta for Caliban Men’s and Women’s.\n\n\nAs a long-standing boutique with roots in Highlands\, celebrating 40 years\, we are excited to expand into our own space in the Cashiers community. Continuing to offer the classic\, spirited\, and curated style that defines TJ Bailey’s.
URL:https://thelaurelmagazine.com/local-event/grand-opening-of-tj-baileys-cashiers/2025-09-28
LOCATION:TJ Baileys Cashiers\, 95 NC-107\, Cashiers\, NC\, 28717\, United States
CATEGORIES:Community,Shopping
ATTACH;FMTTYPE=image/jpeg:https://thelaurelmagazine.com/wp-content/uploads/2025/09/cashiers-nc-shopping-tj-baileys-exterior.jpg
END:VEVENT
BEGIN:VEVENT
DTSTART;TZID=America/New_York:20251003T110000
DTEND;TZID=America/New_York:20251003T160000
DTSTAMP:20260422T134011
CREATED:20251003T232347Z
LAST-MODIFIED:20251003T232347Z
UID:102030-1759489200-1759507200@thelaurelmagazine.com
SUMMARY:Fine and Estate Jewelry Sale Extravaganza at M&CO
DESCRIPTION:Once again our yearly Fine and Estate Jewelry Sale Extravaganza \nJoin us at M&CO Friday October 3 and Saturday October 4\, From 11:00 a.m. – 4:00 p.m.. If we are lucky\, Al Scudder\, former auctioneer and owner of Scudders Auction Gallery will be there too. Come say Hi! \n782 Dillard Road\, Highlands NC\n770-815-2696
URL:https://thelaurelmagazine.com/local-event/fine-and-estate-jewelry-sale-extravaganza-at-mco/2025-10-03
LOCATION:m & co\, 782 Dillard Road\, Highlands\, NC\, 28741\, United States
CATEGORIES:Shopping
ATTACH;FMTTYPE=image/jpeg:https://thelaurelmagazine.com/wp-content/uploads/2025/10/highlands-nc-shopping-mco-jewelry-sale.jpg
END:VEVENT
BEGIN:VEVENT
DTSTART;TZID=America/New_York:20251004T110000
DTEND;TZID=America/New_York:20251004T160000
DTSTAMP:20260422T134011
CREATED:20251003T232347Z
LAST-MODIFIED:20251003T232347Z
UID:102036-1759575600-1759593600@thelaurelmagazine.com
SUMMARY:Fine and Estate Jewelry Sale Extravaganza at M&CO
DESCRIPTION:Once again our yearly Fine and Estate Jewelry Sale Extravaganza \nJoin us at M&CO Friday October 3 and Saturday October 4\, From 11:00 a.m. – 4:00 p.m.. If we are lucky\, Al Scudder\, former auctioneer and owner of Scudders Auction Gallery will be there too. Come say Hi! \n782 Dillard Road\, Highlands NC\n770-815-2696
URL:https://thelaurelmagazine.com/local-event/fine-and-estate-jewelry-sale-extravaganza-at-mco/2025-10-04
LOCATION:m & co\, 782 Dillard Road\, Highlands\, NC\, 28741\, United States
CATEGORIES:Shopping
ATTACH;FMTTYPE=image/jpeg:https://thelaurelmagazine.com/wp-content/uploads/2025/10/highlands-nc-shopping-mco-jewelry-sale.jpg
END:VEVENT
END:VCALENDAR