BEGIN:VCALENDAR
VERSION:2.0
PRODID:-//Laurel Magazine - ECPv6.15.16//NONSGML v1.0//EN
CALSCALE:GREGORIAN
METHOD:PUBLISH
X-WR-CALNAME:Laurel Magazine
X-ORIGINAL-URL:https://thelaurelmagazine.com
X-WR-CALDESC:Events for Laurel Magazine
REFRESH-INTERVAL;VALUE=DURATION:PT1H
X-Robots-Tag:noindex
X-PUBLISHED-TTL:PT1H
BEGIN:VTIMEZONE
TZID:America/New_York
BEGIN:DAYLIGHT
TZOFFSETFROM:-0500
TZOFFSETTO:-0400
TZNAME:EDT
DTSTART:20260308T070000
END:DAYLIGHT
BEGIN:STANDARD
TZOFFSETFROM:-0400
TZOFFSETTO:-0500
TZNAME:EST
DTSTART:20261101T060000
END:STANDARD
BEGIN:DAYLIGHT
TZOFFSETFROM:-0500
TZOFFSETTO:-0400
TZNAME:EDT
DTSTART:20270314T070000
END:DAYLIGHT
BEGIN:STANDARD
TZOFFSETFROM:-0400
TZOFFSETTO:-0500
TZNAME:EST
DTSTART:20271107T060000
END:STANDARD
BEGIN:DAYLIGHT
TZOFFSETFROM:-0500
TZOFFSETTO:-0400
TZNAME:EDT
DTSTART:20280312T070000
END:DAYLIGHT
BEGIN:STANDARD
TZOFFSETFROM:-0400
TZOFFSETTO:-0500
TZNAME:EST
DTSTART:20281105T060000
END:STANDARD
END:VTIMEZONE
BEGIN:VEVENT
DTSTART;TZID=America/New_York:20270119T110000
DTEND;TZID=America/New_York:20270119T160000
DTSTAMP:20260423T125559
CREATED:20251222T174551Z
LAST-MODIFIED:20251222T174551Z
UID:113646-1800356400-1800374400@thelaurelmagazine.com
SUMMARY:The Bookworm | Open Hours
DESCRIPTION:Our shelves are full of a wide range of interesting and compelling books\, thanks to the generosity of our wonderful donors and the hard work of our volunteers who have been shelving and organizing. We are eager to share with you all that is new! An added benefit is that all proceeds go to support The Hudson Library\, our beautiful community library. Come see us soon! \nKnown as the “Cheers” of Bookstores\, the Bookworm is affiliated with the Hudson Library: all books are donated; all staff are volunteers; and all funds go to help support the library. More than a retail store\, we are a community service offering carefully sorted donated books to provide the best quality at a used bookstore price.
URL:https://thelaurelmagazine.com/local-event/the-bookworm-open-hours/2027-01-19
LOCATION:The Bookworm\, 555 Main Street\, Highlands\, NC\, 28741\, United States
CATEGORIES:Community,Shopping
ATTACH;FMTTYPE=image/jpeg:https://thelaurelmagazine.com/wp-content/uploads/2021/01/highlands-nc-shopping-bookworm-shelves.jpg
END:VEVENT
BEGIN:VEVENT
DTSTART;TZID=America/New_York:20270120T110000
DTEND;TZID=America/New_York:20270120T160000
DTSTAMP:20260423T125559
CREATED:20251222T174551Z
LAST-MODIFIED:20260203T170941Z
UID:112978-1800442800-1800460800@thelaurelmagazine.com
SUMMARY:The Bookworm | Open Hours
DESCRIPTION:Our shelves are full of a wide range of interesting and compelling books\, thanks to the generosity of our wonderful donors and the hard work of our volunteers who have been shelving and organizing. We are eager to share with you all that is new! An added benefit is that all proceeds go to support The Hudson Library\, our beautiful community library. Come see us soon! \nKnown as the “Cheers” of Bookstores\, the Bookworm is affiliated with the Hudson Library: all books are donated; all staff are volunteers; and all funds go to help support the library. More than a retail store\, we are a community service offering carefully sorted donated books to provide the best quality at a used bookstore price.
URL:https://thelaurelmagazine.com/local-event/the-bookworm-open-hours/2027-01-20
LOCATION:The Bookworm\, 555 Main Street\, Highlands\, NC\, 28741\, United States
CATEGORIES:Community,Shopping
ATTACH;FMTTYPE=image/jpeg:https://thelaurelmagazine.com/wp-content/uploads/2021/01/highlands-nc-shopping-bookworm-shelves.jpg
END:VEVENT
BEGIN:VEVENT
DTSTART;TZID=America/New_York:20270121T110000
DTEND;TZID=America/New_York:20270121T160000
DTSTAMP:20260423T125559
CREATED:20251222T174551Z
LAST-MODIFIED:20260203T170941Z
UID:112979-1800529200-1800547200@thelaurelmagazine.com
SUMMARY:The Bookworm | Open Hours
DESCRIPTION:Our shelves are full of a wide range of interesting and compelling books\, thanks to the generosity of our wonderful donors and the hard work of our volunteers who have been shelving and organizing. We are eager to share with you all that is new! An added benefit is that all proceeds go to support The Hudson Library\, our beautiful community library. Come see us soon! \nKnown as the “Cheers” of Bookstores\, the Bookworm is affiliated with the Hudson Library: all books are donated; all staff are volunteers; and all funds go to help support the library. More than a retail store\, we are a community service offering carefully sorted donated books to provide the best quality at a used bookstore price.
URL:https://thelaurelmagazine.com/local-event/the-bookworm-open-hours/2027-01-21
LOCATION:The Bookworm\, 555 Main Street\, Highlands\, NC\, 28741\, United States
CATEGORIES:Community,Shopping
ATTACH;FMTTYPE=image/jpeg:https://thelaurelmagazine.com/wp-content/uploads/2021/01/highlands-nc-shopping-bookworm-shelves.jpg
END:VEVENT
BEGIN:VEVENT
DTSTART;TZID=America/New_York:20270122T100000
DTEND;TZID=America/New_York:20270122T140000
DTSTAMP:20260423T125559
CREATED:20210531T185040Z
LAST-MODIFIED:20210531T185040Z
UID:107838-1800612000-1800626400@thelaurelmagazine.com
SUMMARY:The Church of the Good Shepherd Bazaar Barn
DESCRIPTION:The Bazaar Barn is an “upscale resale” shopping experience\, offering gently used home furnishings.  \nOwned and operated by the Church of the Good Shepherd\, the 10\,000 square foot shopping center sells furniture\, art and household items in styles ranging from antique to vintage to modern.  \nAll of our items are donated\, and all proceeds go directly back to the Cashiers community in the form of Outreach Grants.
URL:https://thelaurelmagazine.com/local-event/the-church-of-the-good-shepherd-bazaar-barn/2027-01-22
LOCATION:Bazaar Barn\, 118 US Hwy 64 W\, Cashiers\, 28717\, United States
CATEGORIES:Community,Shopping
ATTACH;FMTTYPE=image/jpeg:https://thelaurelmagazine.com/wp-content/uploads/2021/05/cashiers-nc-bazaar-barn-church-of-the-good-sheperd-resized.jpg
END:VEVENT
BEGIN:VEVENT
DTSTART;TZID=America/New_York:20270122T110000
DTEND;TZID=America/New_York:20270122T160000
DTSTAMP:20260423T125559
CREATED:20251222T174551Z
LAST-MODIFIED:20260203T170941Z
UID:112980-1800615600-1800633600@thelaurelmagazine.com
SUMMARY:The Bookworm | Open Hours
DESCRIPTION:Our shelves are full of a wide range of interesting and compelling books\, thanks to the generosity of our wonderful donors and the hard work of our volunteers who have been shelving and organizing. We are eager to share with you all that is new! An added benefit is that all proceeds go to support The Hudson Library\, our beautiful community library. Come see us soon! \nKnown as the “Cheers” of Bookstores\, the Bookworm is affiliated with the Hudson Library: all books are donated; all staff are volunteers; and all funds go to help support the library. More than a retail store\, we are a community service offering carefully sorted donated books to provide the best quality at a used bookstore price.
URL:https://thelaurelmagazine.com/local-event/the-bookworm-open-hours/2027-01-22
LOCATION:The Bookworm\, 555 Main Street\, Highlands\, NC\, 28741\, United States
CATEGORIES:Community,Shopping
ATTACH;FMTTYPE=image/jpeg:https://thelaurelmagazine.com/wp-content/uploads/2021/01/highlands-nc-shopping-bookworm-shelves.jpg
END:VEVENT
BEGIN:VEVENT
DTSTART;TZID=America/New_York:20270123T100000
DTEND;TZID=America/New_York:20270123T140000
DTSTAMP:20260423T125559
CREATED:20210531T185040Z
LAST-MODIFIED:20210531T185040Z
UID:107839-1800698400-1800712800@thelaurelmagazine.com
SUMMARY:The Church of the Good Shepherd Bazaar Barn
DESCRIPTION:The Bazaar Barn is an “upscale resale” shopping experience\, offering gently used home furnishings.  \nOwned and operated by the Church of the Good Shepherd\, the 10\,000 square foot shopping center sells furniture\, art and household items in styles ranging from antique to vintage to modern.  \nAll of our items are donated\, and all proceeds go directly back to the Cashiers community in the form of Outreach Grants.
URL:https://thelaurelmagazine.com/local-event/the-church-of-the-good-shepherd-bazaar-barn/2027-01-23
LOCATION:Bazaar Barn\, 118 US Hwy 64 W\, Cashiers\, 28717\, United States
CATEGORIES:Community,Shopping
ATTACH;FMTTYPE=image/jpeg:https://thelaurelmagazine.com/wp-content/uploads/2021/05/cashiers-nc-bazaar-barn-church-of-the-good-sheperd-resized.jpg
END:VEVENT
BEGIN:VEVENT
DTSTART;TZID=America/New_York:20270123T110000
DTEND;TZID=America/New_York:20270123T160000
DTSTAMP:20260423T125559
CREATED:20251222T174551Z
LAST-MODIFIED:20260203T170941Z
UID:112981-1800702000-1800720000@thelaurelmagazine.com
SUMMARY:The Bookworm | Open Hours
DESCRIPTION:Our shelves are full of a wide range of interesting and compelling books\, thanks to the generosity of our wonderful donors and the hard work of our volunteers who have been shelving and organizing. We are eager to share with you all that is new! An added benefit is that all proceeds go to support The Hudson Library\, our beautiful community library. Come see us soon! \nKnown as the “Cheers” of Bookstores\, the Bookworm is affiliated with the Hudson Library: all books are donated; all staff are volunteers; and all funds go to help support the library. More than a retail store\, we are a community service offering carefully sorted donated books to provide the best quality at a used bookstore price.
URL:https://thelaurelmagazine.com/local-event/the-bookworm-open-hours/2027-01-23
LOCATION:The Bookworm\, 555 Main Street\, Highlands\, NC\, 28741\, United States
CATEGORIES:Community,Shopping
ATTACH;FMTTYPE=image/jpeg:https://thelaurelmagazine.com/wp-content/uploads/2021/01/highlands-nc-shopping-bookworm-shelves.jpg
END:VEVENT
END:VCALENDAR