BEGIN:VCALENDAR
VERSION:2.0
PRODID:-//Laurel Magazine - ECPv6.15.16//NONSGML v1.0//EN
CALSCALE:GREGORIAN
METHOD:PUBLISH
X-WR-CALNAME:Laurel Magazine
X-ORIGINAL-URL:https://thelaurelmagazine.com
X-WR-CALDESC:Events for Laurel Magazine
REFRESH-INTERVAL;VALUE=DURATION:PT1H
X-Robots-Tag:noindex
X-PUBLISHED-TTL:PT1H
BEGIN:VTIMEZONE
TZID:America/New_York
BEGIN:DAYLIGHT
TZOFFSETFROM:-0500
TZOFFSETTO:-0400
TZNAME:EDT
DTSTART:20240310T070000
END:DAYLIGHT
BEGIN:STANDARD
TZOFFSETFROM:-0400
TZOFFSETTO:-0500
TZNAME:EST
DTSTART:20241103T060000
END:STANDARD
BEGIN:DAYLIGHT
TZOFFSETFROM:-0500
TZOFFSETTO:-0400
TZNAME:EDT
DTSTART:20250309T070000
END:DAYLIGHT
BEGIN:STANDARD
TZOFFSETFROM:-0400
TZOFFSETTO:-0500
TZNAME:EST
DTSTART:20251102T060000
END:STANDARD
BEGIN:DAYLIGHT
TZOFFSETFROM:-0500
TZOFFSETTO:-0400
TZNAME:EDT
DTSTART:20260308T070000
END:DAYLIGHT
BEGIN:STANDARD
TZOFFSETFROM:-0400
TZOFFSETTO:-0500
TZNAME:EST
DTSTART:20261101T060000
END:STANDARD
END:VTIMEZONE
BEGIN:VEVENT
DTSTART;TZID=America/New_York:20250921T130000
DTEND;TZID=America/New_York:20250921T180000
DTSTAMP:20260419T174858
CREATED:20250814T004422Z
LAST-MODIFIED:20250814T004422Z
UID:95485-1758459600-1758477600@thelaurelmagazine.com
SUMMARY:Highlands Porchfest
DESCRIPTION:Porchfest is Highland’s free-to-attend music festival. Over 40 musicians from every genre performing at 14 hosting venues. Walk\, bike\, or drive from venue to venue to enjoy an entire afternoon filled with live music from talented local and regional musicians. \nOrganized by Highlands-Cashiers Center for Life Enrichment. For more information\, visit highlandsporchfest.com or call 828-526-8811. \nFavorites Count: 0
URL:https://thelaurelmagazine.com/local-event/highlands-porchfest
CATEGORIES:Live Music
ATTACH;FMTTYPE=image/jpeg:https://thelaurelmagazine.com/wp-content/uploads/2025/08/highlands-nc-live-music-cle-porchfest.jpg
END:VEVENT
BEGIN:VEVENT
DTSTART;TZID=America/New_York:20250821T160000
DTEND;TZID=America/New_York:20250821T180000
DTSTAMP:20260419T174858
CREATED:20250812T155800Z
LAST-MODIFIED:20250812T155800Z
UID:95421-1755792000-1755799200@thelaurelmagazine.com
SUMMARY:Author Reception | Darwin and the Art of Botany at Center for Life Enrichment
DESCRIPTION:Join us at one of Highlands’ many beautiful homes for this presentation and author reception for Highlands’ own Dr. Jim Costa! From finches and tortoises to barnacles and pigeons\, Charles Darwin is most often associated with the iconic animals that he studied\, but in fact a larger part of his contribution to the natural sciences is based on plants. \nDarwin’s botanical observations and experiments are crucial to our modern understanding of so much about plant biology\, from pollination to plant carnivory to the way that vines climb. To help modern audiences better appreciate Darwin’s botany as well as the rich tradition of botanical art\, Dr. Costa teamed up with his friend\, the botanical artist Bobbi Angell (www.bobbiangell.com/)\, to produce Darwin and the Art of Botany: Observations on the Curious World of Plants. A celebration of Darwin’s often overlooked botanical enthusiasms\, the book spotlights 45 fascinating plants studied by Darwin\, each illustrated with beautiful and historically significant botanical artwork that Bobbi curated from the Library at the Oak Spring Garden Foundation in Upperville\, Virginia. \nThis “arts and sciences” course will inspire a new appreciation for Darwin’s creative botanical investigations and the ways in which plants helped shape our understanding of the world around us\, as well as the history of botanical art and illustration. \nFavorites Count: 0
URL:https://thelaurelmagazine.com/local-event/author-reception-darwin-and-the-art-of-botany-at-center-for-life-enrichment
CATEGORIES:Community,Education
ATTACH;FMTTYPE=image/jpeg:https://thelaurelmagazine.com/wp-content/uploads/2025/08/highlands-nc-center-life-enrichment-author-reception-darin-art-botany.jpg
END:VEVENT
BEGIN:VEVENT
DTSTART;TZID=America/New_York:20250812T140000
DTEND;TZID=America/New_York:20250812T170000
DTSTAMP:20260419T174858
CREATED:20250721T033315Z
LAST-MODIFIED:20250721T033407Z
UID:93390-1755007200-1755018000@thelaurelmagazine.com
SUMMARY:Effortlessly Elegant : The Appetizer Edition with Center for Life Enrichment
DESCRIPTION:Elevate your appetizer game in this stylish\, hands-on class. Chef Susan Hansen will guide you through crafting three sophisticated yet simple starters that are perfect for any occasion. First\, dive into the delicate art of making a Sushi Shrimp Bowl\, featuring perfectly seasoned shrimp served atop a bed of sushi rice with fresh veggies\, garnished with a splash of soy sauce and a hint of wasabi. Next\, master the savory flavors of Sundried Tomato and Garlic Butter Bruschetta. Learn to make sundried tomatoes and garlic butter from scratch\, then top them on crunchy toasted baguette slices for a perfect balance of tangy and rich flavors. Finally\, discover the art of making Pesto Pinwheels. Susan will show you how to create fresh pesto from scratch\, which you’ll then spread on puff pastry and roll into perfect pinwheels\, ready for baking into golden\, flavorful bites. By the end of the class\, you’ll have the skills to make these elegant appetizers at home\, perfect for impressing guests or enjoying a personal gourmet treat. \nFavorites Count: 0
URL:https://thelaurelmagazine.com/local-event/effortlessly-elegant-the-appetizer-edition-with-center-for-life-enrichment
CATEGORIES:Community,Education
END:VEVENT
BEGIN:VEVENT
DTSTART;TZID=America/New_York:20250806T100000
DTEND;TZID=America/New_York:20250806T120000
DTSTAMP:20260419T174858
CREATED:20250721T014551Z
LAST-MODIFIED:20250721T014551Z
UID:93375-1754474400-1754481600@thelaurelmagazine.com
SUMMARY:CLE | Rooted in Restoration: A Garden Tour with Lisa Dailey
DESCRIPTION:Join Lisa Dailey of Cultivation for an immersive horticulture restoration class on plant diversity\, soil rebuilding\, and sustainable gardening practices. \nThis interactive tour will guide you through a stunning 5-acre in-town mountain property\, showcasing everything from untouched spaces to sophisticated gardens. Discover how Lisa integrates native plants\, cutting gardens\, dahlias\, and seasonal vegetables into her landscape. Learn about the stages of garden development and soil rejuvenation. We’ll cover about 1/2 acre on foot with moderate inclines\, so please dress accordingly and wear sturdy\, comfortable footwear. \nCLE will provide a sack lunch\, and there will be time to sit and reflect after the tour. Bring a camping chair or folding chair for comfort. \nFavorites Count: 0
URL:https://thelaurelmagazine.com/local-event/cle-rooted-in-restoration-a-garden-tour-with-lisa-dailey
CATEGORIES:Community,Education
END:VEVENT
BEGIN:VEVENT
DTSTART;TZID=America/New_York:20250805T150000
DTEND;TZID=America/New_York:20250805T170000
DTSTAMP:20260419T174858
CREATED:20250721T012117Z
LAST-MODIFIED:20250721T012117Z
UID:93373-1754406000-1754413200@thelaurelmagazine.com
SUMMARY:CLE | An Exploration of Old World/New World Wines at High Country Wine and Provision
DESCRIPTION:Step into the captivating world of wine as we guide you on a journey through the timeless classics of Old World wines and the bold\, innovative flavors of New World wines! \nIn this class\, you’ll learn the key differences between these two wine regions\, from Europe’s traditional\, terroir-driven wines to the more contemporary and fruit-forward styles of areas like California\, Australia\, and South America. \nFavorites Count: 0
URL:https://thelaurelmagazine.com/local-event/cle-an-exploration-of-old-world-new-world-wines-at-high-country-wine-and-provision
LOCATION:High Country Wine & Provisions\, 621 Franklin Rd\, Highlands\, NC\, 28741\, United States
CATEGORIES:Education
END:VEVENT
BEGIN:VEVENT
DTSTART;TZID=America/New_York:20250610T100000
DTEND;TZID=America/New_York:20250610T150000
DTSTAMP:20260419T174858
CREATED:20250609T150643Z
LAST-MODIFIED:20250609T150643Z
UID:90481-1749549600-1749567600@thelaurelmagazine.com
SUMMARY:CLE | Intro to Wines at High Country Wine & Provisions
DESCRIPTION:Whether you’re a casual wine lover or just starting your wine journey\, this class is the perfect opportunity to explore the wonderful world of wine with Guy Davis of High Country Wine & Provisions. We’ll cover the fundamentals of wine styles\, tasting techniques\, and the art of food pairings\, all while keeping it fun and relaxed.  By the end\, you’ll be equipped to confidently select a bottle\, enjoy it alongside your favorite dish\, and impress your friends with your newfound knowledge. \nFavorites Count: 0
URL:https://thelaurelmagazine.com/local-event/cle-intro-to-wines-at-high-country-wine-provisions
LOCATION:High Country Wine & Provisions\, 621 Franklin Rd\, Highlands\, NC\, 28741\, United States
CATEGORIES:Community,Education
END:VEVENT
BEGIN:VEVENT
DTSTART;TZID=America/New_York:20250606T170000
DTEND;TZID=America/New_York:20250606T190000
DTSTAMP:20260419T174858
CREATED:20250605T173025Z
LAST-MODIFIED:20250605T173025Z
UID:90028-1749229200-1749236400@thelaurelmagazine.com
SUMMARY:CLE's Opening Season Party! at Highlands Wine & Provisions
DESCRIPTION:Join CLE for its annual Opening Season Soirée! This year the event will be held at High Country Wine and Provisions. Catch up with friends\, enjoy wine and charcuterie\, meet CLE’s new Executive Director\, Meg Stevens\, and learn about what’s in store this season! \nThis event is free to attend\, though RSVP is kindly requested. \nPlease call (828) 526-8811 or email office@clehighlands.com to RSVP. \n\n\nFavorites Count: 0
URL:https://thelaurelmagazine.com/local-event/cles-opening-season-party-at-highlands-wine-provisions
LOCATION:High Country Wine & Provisions\, 621 Franklin Rd\, Highlands\, NC\, 28741\, United States
CATEGORIES:Community,Education
ATTACH;FMTTYPE=image/jpeg:https://thelaurelmagazine.com/wp-content/uploads/2025/06/highlands-nc-CLE-wine-and-provisions-opening-party.jpg
END:VEVENT
END:VCALENDAR