BEGIN:VCALENDAR
VERSION:2.0
PRODID:-//Laurel Magazine - ECPv6.15.16//NONSGML v1.0//EN
CALSCALE:GREGORIAN
METHOD:PUBLISH
X-ORIGINAL-URL:https://thelaurelmagazine.com
X-WR-CALDESC:Events for Laurel Magazine
REFRESH-INTERVAL;VALUE=DURATION:PT1H
X-Robots-Tag:noindex
X-PUBLISHED-TTL:PT1H
BEGIN:VTIMEZONE
TZID:America/New_York
BEGIN:DAYLIGHT
TZOFFSETFROM:-0500
TZOFFSETTO:-0400
TZNAME:EDT
DTSTART:20240310T070000
END:DAYLIGHT
BEGIN:STANDARD
TZOFFSETFROM:-0400
TZOFFSETTO:-0500
TZNAME:EST
DTSTART:20241103T060000
END:STANDARD
BEGIN:DAYLIGHT
TZOFFSETFROM:-0500
TZOFFSETTO:-0400
TZNAME:EDT
DTSTART:20250309T070000
END:DAYLIGHT
BEGIN:STANDARD
TZOFFSETFROM:-0400
TZOFFSETTO:-0500
TZNAME:EST
DTSTART:20251102T060000
END:STANDARD
BEGIN:DAYLIGHT
TZOFFSETFROM:-0500
TZOFFSETTO:-0400
TZNAME:EDT
DTSTART:20260308T070000
END:DAYLIGHT
BEGIN:STANDARD
TZOFFSETFROM:-0400
TZOFFSETTO:-0500
TZNAME:EST
DTSTART:20261101T060000
END:STANDARD
BEGIN:DAYLIGHT
TZOFFSETFROM:-0500
TZOFFSETTO:-0400
TZNAME:EDT
DTSTART:20270314T070000
END:DAYLIGHT
BEGIN:STANDARD
TZOFFSETFROM:-0400
TZOFFSETTO:-0500
TZNAME:EST
DTSTART:20271107T060000
END:STANDARD
END:VTIMEZONE
BEGIN:VEVENT
DTSTART;TZID=America/New_York:20260224T093000
DTEND;TZID=America/New_York:20260224T093000
DTSTAMP:20260419T161628
CREATED:20260127T211536Z
LAST-MODIFIED:20260127T211536Z
UID:113178-1771925400-1771925400@thelaurelmagazine.com
SUMMARY:Cashiers Volunteer Workday with Highlands Cashiers Land Trust
DESCRIPTION:Join us in Cashiers as we work to build\, maintain and improve HCLT’s public access trails around Cashiers. \nJoin our volunteer mailing list HERE to receive meeting locations and workday specifics. \nFavorites Count: 0
URL:https://thelaurelmagazine.com/local-event/cashiers-volunteer-workday-with-highlands-cashiers-land-trust
CATEGORIES:Community
ATTACH;FMTTYPE=image/jpeg:https://thelaurelmagazine.com/wp-content/uploads/2025/07/highlands-cashiers-land-trust-forrest.jpg
END:VEVENT
BEGIN:VEVENT
DTSTART;TZID=America/New_York:20260210T093000
DTEND;TZID=America/New_York:20260210T093000
DTSTAMP:20260419T161628
CREATED:20260127T211051Z
LAST-MODIFIED:20260127T211129Z
UID:113173-1770715800-1770715800@thelaurelmagazine.com
SUMMARY:Highlands Volunteer Workday with Highlands Cashiers Land Trust
DESCRIPTION:Join us in Highlands as we work to build\, maintain and improve HCLT’s public access trails around Highlands. \n\nJoin our volunteer mailing list HERE to receive meeting locations and workday specifics. \n\nFavorites Count: 0
URL:https://thelaurelmagazine.com/local-event/highlands-volunteer-workday-with-highlands-cashiers-land-trust
ATTACH;FMTTYPE=image/jpeg:https://thelaurelmagazine.com/wp-content/uploads/2025/09/highlands-cashiers-land-trust-fall-foliage-andrew-renfro.jpg
END:VEVENT
BEGIN:VEVENT
DTSTART;TZID=America/New_York:20251025T130000
DTEND;TZID=America/New_York:20251025T170000
DTSTAMP:20260419T161628
CREATED:20251007T160955Z
LAST-MODIFIED:20251007T160955Z
UID:103530-1761397200-1761411600@thelaurelmagazine.com
SUMMARY:HCLT | Folk Songs and Foliage on Satulah Mountain
DESCRIPTION:Satulah Mountain (Meet at KH Park)\, 411-499 Pine St\, Highlands \nJoin Topher Stephens and Susan Pepper for a musical hike up Satulah Mountain\, blending Appalachian ballads\, banjo songs\, and folklore with nature’s beauty. \nEnjoy music\, history\, and breathtaking views on this immersive afternoon journey. \nFavorites Count: 0
URL:https://thelaurelmagazine.com/local-event/hclt-folk-songs-and-foliage-on-satulah-mountain
CATEGORIES:Community
ATTACH;FMTTYPE=image/jpeg:https://thelaurelmagazine.com/wp-content/uploads/2025/10/highlands-nc-cashiers-land-trust-folk-songs-foliage.jpg
END:VEVENT
BEGIN:VEVENT
DTSTART;TZID=America/New_York:20251017T140000
DTEND;TZID=America/New_York:20251017T160000
DTSTAMP:20260419T161628
CREATED:20251007T151018Z
LAST-MODIFIED:20251007T151018Z
UID:103009-1760709600-1760716800@thelaurelmagazine.com
SUMMARY:HCLT | Falling Leaves Forest Bathing at Dixon Woods Preserve\, Highlands
DESCRIPTION:Immerse yourself in the serene experience of Shinrin Yoku\, or forest bathing\, with Dr. Mark Ellison at Dixon Woods Preserve\, hosted by the Highlands-Cashiers Land Trust. \nThis calming event invites you to reconnect with nature through mindful exploration\, deep breathing\, and gentle movement in the tranquil woods. \nRSVP required. \nFavorites Count: 0
URL:https://thelaurelmagazine.com/local-event/hclt-falling-leaves-forest-bathing-at-dixon-woods-preserve-highlands
CATEGORIES:Community
ATTACH;FMTTYPE=image/jpeg:https://thelaurelmagazine.com/wp-content/uploads/2025/10/highlands-nc-cashiers-land-trust-forest-bathing-.jpg
END:VEVENT
BEGIN:VEVENT
DTSTART;TZID=America/New_York:20251013T133000
DTEND;TZID=America/New_York:20251013T153000
DTSTAMP:20260419T161628
CREATED:20251005T184811Z
LAST-MODIFIED:20251005T184811Z
UID:102639-1760362200-1760369400@thelaurelmagazine.com
SUMMARY:HCLT | Fungi Fanatics Hike at Edward Baker Preserve
DESCRIPTION:Join the Highlands-Cashiers Land Trust (HCLT) for a fascinating mushroom walk at Edward Baker Preserve! Led by knowledgeable HCLT staff\, this guided hike invites nature lovers of all ages to step into the mysterious and beautiful world of fungi. \nFavorites Count: 0
URL:https://thelaurelmagazine.com/local-event/hclt-fungi-fanatics-hike-at-edward-baker-preserve
ATTACH;FMTTYPE=image/jpeg:https://thelaurelmagazine.com/wp-content/uploads/2025/10/highlands-nc-highlands-cashiers-land-trust-fungi-hike.jpg
END:VEVENT
BEGIN:VEVENT
DTSTART;TZID=America/New_York:20250823T100000
DTEND;TZID=America/New_York:20250823T120000
DTSTAMP:20260419T161628
CREATED:20250806T134351Z
LAST-MODIFIED:20250806T134351Z
UID:94690-1755943200-1755950400@thelaurelmagazine.com
SUMMARY:CDS | Candle Making Workshop with Highlands-Cashiers Land Trust at The Village Green
DESCRIPTION:Join the Highlands-Cashiers Land Trust for a hands-on workshop where you’ll create your own candle using all-natural ingredients like beeswax\, coconut oil\, and shea butter. These eco-friendly candles not only smell great—they can also be used as a soothing moisturizer once melted! \nParticipants will heat and blend ingredients on-site\, then pour their custom mixture into glass containers provided by HCLT. \n\nWhat to Bring:\n• A pair of gloves (heat-resistant or latex)\n• Your favorite fragrance (essential oil or perfume oil) to personalize your candle\n• Flowers if you want them in your candle\n\nPerfect for nature lovers\, crafters\, and those looking to create a thoughtful\, all-natural gift. Don’t miss this cozy and creative workshop! \nFavorites Count: 0
URL:https://thelaurelmagazine.com/local-event/cds-candle-making-workshop-with-highlands-cashiers-land-trust-at-the-village-green
LOCATION:The Village Green\, 160 Frank Allen Road\, Cashiers\, NC\, 28717\, United States
CATEGORIES:Community
ATTACH;FMTTYPE=image/jpeg:https://thelaurelmagazine.com/wp-content/uploads/2025/08/cashiers-nc-historical-society-designer-showhouse.jpg
END:VEVENT
BEGIN:VEVENT
DTSTART;TZID=America/New_York:20250812T160000
DTEND;TZID=America/New_York:20250812T160000
DTSTAMP:20260419T161628
CREATED:20250715T183259Z
LAST-MODIFIED:20250715T183259Z
UID:93267-1755014400-1755014400@thelaurelmagazine.com
SUMMARY:Kids Nature Series at The Village Green
DESCRIPTION:Marsh Magic \nJoin HCLT to learn about the wonderful world of an Appalachian Bog! We will be exploring the Village Green trails to see the wonderful organisms that live in this unique ecosystem! \nFavorites Count: 0
URL:https://thelaurelmagazine.com/local-event/kids-nature-series-at-the-village-green-2
LOCATION:The Village Green\, 160 Frank Allen Road\, Cashiers\, NC\, 28717\, United States
CATEGORIES:Community,Education
ATTACH;FMTTYPE=image/jpeg:https://thelaurelmagazine.com/wp-content/uploads/2025/07/cashiers-nc-village-green-kids-nature-series-magic-marsh.jpg
END:VEVENT
END:VCALENDAR