BEGIN:VCALENDAR
VERSION:2.0
PRODID:-//Laurel Magazine - ECPv6.15.16//NONSGML v1.0//EN
CALSCALE:GREGORIAN
METHOD:PUBLISH
X-WR-CALNAME:Laurel Magazine
X-ORIGINAL-URL:https://thelaurelmagazine.com
X-WR-CALDESC:Events for Laurel Magazine
REFRESH-INTERVAL;VALUE=DURATION:PT1H
X-Robots-Tag:noindex
X-PUBLISHED-TTL:PT1H
BEGIN:VTIMEZONE
TZID:America/New_York
BEGIN:DAYLIGHT
TZOFFSETFROM:-0500
TZOFFSETTO:-0400
TZNAME:EDT
DTSTART:20250309T070000
END:DAYLIGHT
BEGIN:STANDARD
TZOFFSETFROM:-0400
TZOFFSETTO:-0500
TZNAME:EST
DTSTART:20251102T060000
END:STANDARD
BEGIN:DAYLIGHT
TZOFFSETFROM:-0500
TZOFFSETTO:-0400
TZNAME:EDT
DTSTART:20260308T070000
END:DAYLIGHT
BEGIN:STANDARD
TZOFFSETFROM:-0400
TZOFFSETTO:-0500
TZNAME:EST
DTSTART:20261101T060000
END:STANDARD
BEGIN:DAYLIGHT
TZOFFSETFROM:-0500
TZOFFSETTO:-0400
TZNAME:EDT
DTSTART:20270314T070000
END:DAYLIGHT
BEGIN:STANDARD
TZOFFSETFROM:-0400
TZOFFSETTO:-0500
TZNAME:EST
DTSTART:20271107T060000
END:STANDARD
END:VTIMEZONE
BEGIN:VEVENT
DTSTART;TZID=America/New_York:20260529T180000
DTEND;TZID=America/New_York:20260529T210000
DTSTAMP:20260421T122633
CREATED:20260404T231018Z
LAST-MODIFIED:20260404T231018Z
UID:117081-1780077600-1780088400@thelaurelmagazine.com
SUMMARY:Live Music at Happs Place
DESCRIPTION:Live music with Blue Jazz is in full swing at Happ’s Place\, where great food\, mountain vibes\, and local talent come together all season long. \nFavorites Count: 0
URL:https://thelaurelmagazine.com/local-event/live-music-at-happs-place-6/2026-05-29
LOCATION:Happs Place\, 5914 NC-107\, Glenville\, NC\, 28736\, United States
CATEGORIES:Live Music
ATTACH;FMTTYPE=image/jpeg:https://thelaurelmagazine.com/wp-content/uploads/2026/04/glenville-nc-cashiers-live-music-happs-place.jpg
END:VEVENT
BEGIN:VEVENT
DTSTART;TZID=America/New_York:20260620T180000
DTEND;TZID=America/New_York:20260620T210000
DTSTAMP:20260421T122633
CREATED:20260404T231341Z
LAST-MODIFIED:20260404T231341Z
UID:117061-1781978400-1781989200@thelaurelmagazine.com
SUMMARY:Live Music at Happs Place
DESCRIPTION:Live music with Corey Stevenson is in full swing at Happ’s Place\, where great food\, mountain vibes\, and local talent come together all season long. \nFavorites Count: 0
URL:https://thelaurelmagazine.com/local-event/live-music-at-happs-place-7/2026-06-20
LOCATION:Happs Place\, 5914 NC-107\, Glenville\, NC\, 28736\, United States
CATEGORIES:Live Music
ATTACH;FMTTYPE=image/jpeg:https://thelaurelmagazine.com/wp-content/uploads/2026/04/glenville-nc-cashiers-live-music-happs-place.jpg
END:VEVENT
BEGIN:VEVENT
DTSTART;TZID=America/New_York:20260708T180000
DTEND;TZID=America/New_York:20260708T210000
DTSTAMP:20260421T122633
CREATED:20260404T231341Z
LAST-MODIFIED:20260404T231341Z
UID:117062-1783533600-1783544400@thelaurelmagazine.com
SUMMARY:Live Music at Happs Place
DESCRIPTION:Live music with Corey Stevenson is in full swing at Happ’s Place\, where great food\, mountain vibes\, and local talent come together all season long. \nFavorites Count: 0
URL:https://thelaurelmagazine.com/local-event/live-music-at-happs-place-7/2026-07-08
LOCATION:Happs Place\, 5914 NC-107\, Glenville\, NC\, 28736\, United States
CATEGORIES:Live Music
ATTACH;FMTTYPE=image/jpeg:https://thelaurelmagazine.com/wp-content/uploads/2026/04/glenville-nc-cashiers-live-music-happs-place.jpg
END:VEVENT
BEGIN:VEVENT
DTSTART;TZID=America/New_York:20260424T180000
DTEND;TZID=America/New_York:20260424T210000
DTSTAMP:20260421T122633
CREATED:20260404T231341Z
LAST-MODIFIED:20260415T131202Z
UID:116776-1777053600-1777064400@thelaurelmagazine.com
SUMMARY:Live Music at Happs Place
DESCRIPTION:Live music with Corey Stevenson is in full swing at Happ’s Place\, where great food\, mountain vibes\, and local talent come together all season long. \nFavorites Count: 0
URL:https://thelaurelmagazine.com/local-event/live-music-at-happs-place-7/2026-04-24
LOCATION:Happs Place\, 5914 NC-107\, Glenville\, NC\, 28736\, United States
CATEGORIES:Live Music
ATTACH;FMTTYPE=image/jpeg:https://thelaurelmagazine.com/wp-content/uploads/2026/04/glenville-nc-cashiers-live-music-happs-place.jpg
END:VEVENT
BEGIN:VEVENT
DTSTART;TZID=America/New_York:20260722T180000
DTEND;TZID=America/New_York:20260722T210000
DTSTAMP:20260421T122633
CREATED:20260404T231341Z
LAST-MODIFIED:20260404T231341Z
UID:117063-1784743200-1784754000@thelaurelmagazine.com
SUMMARY:Live Music at Happs Place
DESCRIPTION:Live music with Corey Stevenson is in full swing at Happ’s Place\, where great food\, mountain vibes\, and local talent come together all season long. \nFavorites Count: 0
URL:https://thelaurelmagazine.com/local-event/live-music-at-happs-place-7/2026-07-22
LOCATION:Happs Place\, 5914 NC-107\, Glenville\, NC\, 28736\, United States
CATEGORIES:Live Music
ATTACH;FMTTYPE=image/jpeg:https://thelaurelmagazine.com/wp-content/uploads/2026/04/glenville-nc-cashiers-live-music-happs-place.jpg
END:VEVENT
BEGIN:VEVENT
DTSTART;TZID=America/New_York:20260725T180000
DTEND;TZID=America/New_York:20260725T210000
DTSTAMP:20260421T122633
CREATED:20260404T231341Z
LAST-MODIFIED:20260404T231341Z
UID:117064-1785002400-1785013200@thelaurelmagazine.com
SUMMARY:Live Music at Happs Place
DESCRIPTION:Live music with Corey Stevenson is in full swing at Happ’s Place\, where great food\, mountain vibes\, and local talent come together all season long. \nFavorites Count: 0
URL:https://thelaurelmagazine.com/local-event/live-music-at-happs-place-7/2026-07-25
LOCATION:Happs Place\, 5914 NC-107\, Glenville\, NC\, 28736\, United States
CATEGORIES:Live Music
ATTACH;FMTTYPE=image/jpeg:https://thelaurelmagazine.com/wp-content/uploads/2026/04/glenville-nc-cashiers-live-music-happs-place.jpg
END:VEVENT
BEGIN:VEVENT
DTSTART;TZID=America/New_York:20260805T180000
DTEND;TZID=America/New_York:20260805T210000
DTSTAMP:20260421T122633
CREATED:20260404T231341Z
LAST-MODIFIED:20260404T231341Z
UID:117065-1785952800-1785963600@thelaurelmagazine.com
SUMMARY:Live Music at Happs Place
DESCRIPTION:Live music with Corey Stevenson is in full swing at Happ’s Place\, where great food\, mountain vibes\, and local talent come together all season long. \nFavorites Count: 0
URL:https://thelaurelmagazine.com/local-event/live-music-at-happs-place-7/2026-08-05
LOCATION:Happs Place\, 5914 NC-107\, Glenville\, NC\, 28736\, United States
CATEGORIES:Live Music
ATTACH;FMTTYPE=image/jpeg:https://thelaurelmagazine.com/wp-content/uploads/2026/04/glenville-nc-cashiers-live-music-happs-place.jpg
END:VEVENT
BEGIN:VEVENT
DTSTART;TZID=America/New_York:20260819T180000
DTEND;TZID=America/New_York:20260819T210000
DTSTAMP:20260421T122633
CREATED:20260404T231341Z
LAST-MODIFIED:20260404T231341Z
UID:117066-1787162400-1787173200@thelaurelmagazine.com
SUMMARY:Live Music at Happs Place
DESCRIPTION:Live music with Corey Stevenson is in full swing at Happ’s Place\, where great food\, mountain vibes\, and local talent come together all season long. \nFavorites Count: 0
URL:https://thelaurelmagazine.com/local-event/live-music-at-happs-place-7/2026-08-19
LOCATION:Happs Place\, 5914 NC-107\, Glenville\, NC\, 28736\, United States
CATEGORIES:Live Music
ATTACH;FMTTYPE=image/jpeg:https://thelaurelmagazine.com/wp-content/uploads/2026/04/glenville-nc-cashiers-live-music-happs-place.jpg
END:VEVENT
BEGIN:VEVENT
DTSTART;TZID=America/New_York:20260828T180000
DTEND;TZID=America/New_York:20260828T210000
DTSTAMP:20260421T122633
CREATED:20260404T231341Z
LAST-MODIFIED:20260404T231341Z
UID:117067-1787940000-1787950800@thelaurelmagazine.com
SUMMARY:Live Music at Happs Place
DESCRIPTION:Live music with Corey Stevenson is in full swing at Happ’s Place\, where great food\, mountain vibes\, and local talent come together all season long. \nFavorites Count: 0
URL:https://thelaurelmagazine.com/local-event/live-music-at-happs-place-7/2026-08-28
LOCATION:Happs Place\, 5914 NC-107\, Glenville\, NC\, 28736\, United States
CATEGORIES:Live Music
ATTACH;FMTTYPE=image/jpeg:https://thelaurelmagazine.com/wp-content/uploads/2026/04/glenville-nc-cashiers-live-music-happs-place.jpg
END:VEVENT
BEGIN:VEVENT
DTSTART;TZID=America/New_York:20260510T180000
DTEND;TZID=America/New_York:20260510T210000
DTSTAMP:20260421T122633
CREATED:20260404T231341Z
LAST-MODIFIED:20260404T231341Z
UID:117059-1778436000-1778446800@thelaurelmagazine.com
SUMMARY:Live Music at Happs Place
DESCRIPTION:Live music with Corey Stevenson is in full swing at Happ’s Place\, where great food\, mountain vibes\, and local talent come together all season long. \nFavorites Count: 0
URL:https://thelaurelmagazine.com/local-event/live-music-at-happs-place-7/2026-05-10
LOCATION:Happs Place\, 5914 NC-107\, Glenville\, NC\, 28736\, United States
CATEGORIES:Live Music
ATTACH;FMTTYPE=image/jpeg:https://thelaurelmagazine.com/wp-content/uploads/2026/04/glenville-nc-cashiers-live-music-happs-place.jpg
END:VEVENT
BEGIN:VEVENT
DTSTART;TZID=America/New_York:20260612T180000
DTEND;TZID=America/New_York:20260612T210000
DTSTAMP:20260421T122633
CREATED:20260404T231341Z
LAST-MODIFIED:20260404T231341Z
UID:117060-1781287200-1781298000@thelaurelmagazine.com
SUMMARY:Live Music at Happs Place
DESCRIPTION:Live music with Corey Stevenson is in full swing at Happ’s Place\, where great food\, mountain vibes\, and local talent come together all season long. \nFavorites Count: 0
URL:https://thelaurelmagazine.com/local-event/live-music-at-happs-place-7/2026-06-12
LOCATION:Happs Place\, 5914 NC-107\, Glenville\, NC\, 28736\, United States
CATEGORIES:Live Music
ATTACH;FMTTYPE=image/jpeg:https://thelaurelmagazine.com/wp-content/uploads/2026/04/glenville-nc-cashiers-live-music-happs-place.jpg
END:VEVENT
BEGIN:VEVENT
DTSTART;TZID=America/New_York:20260425T180000
DTEND;TZID=America/New_York:20260425T210000
DTSTAMP:20260421T122633
CREATED:20260404T231637Z
LAST-MODIFIED:20260404T231637Z
UID:116778-1777140000-1777150800@thelaurelmagazine.com
SUMMARY:Live Music at Happs Place
DESCRIPTION:Live music with Kessler Watson is in full swing at Happ’s Place\, where great food\, mountain vibes\, and local talent come together all season long. \nFavorites Count: 0
URL:https://thelaurelmagazine.com/local-event/live-music-at-happs-place-8
LOCATION:Happs Place\, 5914 NC-107\, Glenville\, NC\, 28736\, United States
CATEGORIES:Live Music
ATTACH;FMTTYPE=image/jpeg:https://thelaurelmagazine.com/wp-content/uploads/2026/04/glenville-nc-cashiers-live-music-happs-place.jpg
END:VEVENT
BEGIN:VEVENT
DTSTART;TZID=America/New_York:20260501T180000
DTEND;TZID=America/New_York:20260501T210000
DTSTAMP:20260421T122633
CREATED:20260415T130340Z
LAST-MODIFIED:20260415T130340Z
UID:117046-1777658400-1777669200@thelaurelmagazine.com
SUMMARY:Live Music at Happs Place
DESCRIPTION:Live music with Doug Ramsey is in full swing at Happs Place\, where great food\, mountain vibes\, and local talent come together all season long. \nFavorites Count: 0
URL:https://thelaurelmagazine.com/local-event/live-music-at-happs-place-9/2026-05-01
LOCATION:Happs Place\, 5914 NC-107\, Glenville\, NC\, 28736\, United States
CATEGORIES:Live Music
ATTACH;FMTTYPE=image/jpeg:https://thelaurelmagazine.com/wp-content/uploads/2026/04/glenville-nc-cashiers-live-music-happs-place.jpg
END:VEVENT
BEGIN:VEVENT
DTSTART;TZID=America/New_York:20260703T180000
DTEND;TZID=America/New_York:20260703T210000
DTSTAMP:20260421T122633
CREATED:20260415T130340Z
LAST-MODIFIED:20260415T130340Z
UID:117048-1783101600-1783112400@thelaurelmagazine.com
SUMMARY:Live Music at Happs Place
DESCRIPTION:Live music with Doug Ramsey is in full swing at Happs Place\, where great food\, mountain vibes\, and local talent come together all season long. \nFavorites Count: 0
URL:https://thelaurelmagazine.com/local-event/live-music-at-happs-place-9/2026-07-03
LOCATION:Happs Place\, 5914 NC-107\, Glenville\, NC\, 28736\, United States
CATEGORIES:Live Music
ATTACH;FMTTYPE=image/jpeg:https://thelaurelmagazine.com/wp-content/uploads/2026/04/glenville-nc-cashiers-live-music-happs-place.jpg
END:VEVENT
BEGIN:VEVENT
DTSTART;TZID=America/New_York:20260709T180000
DTEND;TZID=America/New_York:20260709T210000
DTSTAMP:20260421T122633
CREATED:20260415T130340Z
LAST-MODIFIED:20260415T130340Z
UID:117049-1783620000-1783630800@thelaurelmagazine.com
SUMMARY:Live Music at Happs Place
DESCRIPTION:Live music with Doug Ramsey is in full swing at Happs Place\, where great food\, mountain vibes\, and local talent come together all season long. \nFavorites Count: 0
URL:https://thelaurelmagazine.com/local-event/live-music-at-happs-place-9/2026-07-09
LOCATION:Happs Place\, 5914 NC-107\, Glenville\, NC\, 28736\, United States
CATEGORIES:Live Music
ATTACH;FMTTYPE=image/jpeg:https://thelaurelmagazine.com/wp-content/uploads/2026/04/glenville-nc-cashiers-live-music-happs-place.jpg
END:VEVENT
BEGIN:VEVENT
DTSTART;TZID=America/New_York:20260807T180000
DTEND;TZID=America/New_York:20260807T210000
DTSTAMP:20260421T122633
CREATED:20260415T130340Z
LAST-MODIFIED:20260415T130340Z
UID:117050-1786125600-1786136400@thelaurelmagazine.com
SUMMARY:Live Music at Happs Place
DESCRIPTION:Live music with Doug Ramsey is in full swing at Happs Place\, where great food\, mountain vibes\, and local talent come together all season long. \nFavorites Count: 0
URL:https://thelaurelmagazine.com/local-event/live-music-at-happs-place-9/2026-08-07
LOCATION:Happs Place\, 5914 NC-107\, Glenville\, NC\, 28736\, United States
CATEGORIES:Live Music
ATTACH;FMTTYPE=image/jpeg:https://thelaurelmagazine.com/wp-content/uploads/2026/04/glenville-nc-cashiers-live-music-happs-place.jpg
END:VEVENT
BEGIN:VEVENT
DTSTART;TZID=America/New_York:20260813T180000
DTEND;TZID=America/New_York:20260813T210000
DTSTAMP:20260421T122633
CREATED:20260415T130340Z
LAST-MODIFIED:20260415T130340Z
UID:117051-1786644000-1786654800@thelaurelmagazine.com
SUMMARY:Live Music at Happs Place
DESCRIPTION:Live music with Doug Ramsey is in full swing at Happs Place\, where great food\, mountain vibes\, and local talent come together all season long. \nFavorites Count: 0
URL:https://thelaurelmagazine.com/local-event/live-music-at-happs-place-9/2026-08-13
LOCATION:Happs Place\, 5914 NC-107\, Glenville\, NC\, 28736\, United States
CATEGORIES:Live Music
ATTACH;FMTTYPE=image/jpeg:https://thelaurelmagazine.com/wp-content/uploads/2026/04/glenville-nc-cashiers-live-music-happs-place.jpg
END:VEVENT
BEGIN:VEVENT
DTSTART;TZID=America/New_York:20260515T180000
DTEND;TZID=America/New_York:20260515T210000
DTSTAMP:20260421T122633
CREATED:20260415T131737Z
LAST-MODIFIED:20260415T131737Z
UID:117052-1778868000-1778878800@thelaurelmagazine.com
SUMMARY:Live Music at Happs Place
DESCRIPTION:Live music with Ernest Bonilla is in full swing at Happs Place\, where great food\, mountain vibes\, and local talent come together all season long. \nFavorites Count: 0
URL:https://thelaurelmagazine.com/local-event/live-music-at-happs-place-10
LOCATION:Happs Place\, 5914 NC-107\, Glenville\, NC\, 28736\, United States
CATEGORIES:Live Music
ATTACH;FMTTYPE=image/jpeg:https://thelaurelmagazine.com/wp-content/uploads/2026/04/glenville-nc-cashiers-live-music-happs-place.jpg
END:VEVENT
BEGIN:VEVENT
DTSTART;TZID=America/New_York:20260516T180000
DTEND;TZID=America/New_York:20260516T210000
DTSTAMP:20260421T122633
CREATED:20260415T132043Z
LAST-MODIFIED:20260415T132043Z
UID:117071-1778954400-1778965200@thelaurelmagazine.com
SUMMARY:Live Music at Happs Place
DESCRIPTION:Live music with Zac Kellum is in full swing at Happs Place\, where great food\, mountain vibes\, and local talent come together all season long. \nFavorites Count: 0
URL:https://thelaurelmagazine.com/local-event/live-music-at-happs-place-11/2026-05-16
LOCATION:Happs Place\, 5914 NC-107\, Glenville\, NC\, 28736\, United States
CATEGORIES:Live Music
ATTACH;FMTTYPE=image/jpeg:https://thelaurelmagazine.com/wp-content/uploads/2026/04/glenville-nc-cashiers-live-music-happs-place.jpg
END:VEVENT
BEGIN:VEVENT
DTSTART;TZID=America/New_York:20260605T180000
DTEND;TZID=America/New_York:20260605T210000
DTSTAMP:20260421T122633
CREATED:20260415T132043Z
LAST-MODIFIED:20260415T132043Z
UID:117072-1780682400-1780693200@thelaurelmagazine.com
SUMMARY:Live Music at Happs Place
DESCRIPTION:Live music with Zac Kellum is in full swing at Happs Place\, where great food\, mountain vibes\, and local talent come together all season long. \nFavorites Count: 0
URL:https://thelaurelmagazine.com/local-event/live-music-at-happs-place-11/2026-06-05
LOCATION:Happs Place\, 5914 NC-107\, Glenville\, NC\, 28736\, United States
CATEGORIES:Live Music
ATTACH;FMTTYPE=image/jpeg:https://thelaurelmagazine.com/wp-content/uploads/2026/04/glenville-nc-cashiers-live-music-happs-place.jpg
END:VEVENT
BEGIN:VEVENT
DTSTART;TZID=America/New_York:20260521T180000
DTEND;TZID=America/New_York:20260521T210000
DTSTAMP:20260421T122633
CREATED:20260415T132639Z
LAST-MODIFIED:20260415T132639Z
UID:117074-1779386400-1779397200@thelaurelmagazine.com
SUMMARY:Live Music at Happs Place
DESCRIPTION:Live music with Joe Munoz is in full swing at Happs Place\, where great food\, mountain vibes\, and local talent come together all season long. \nFavorites Count: 0
URL:https://thelaurelmagazine.com/local-event/live-music-at-happs-place-12
LOCATION:Happs Place\, 5914 NC-107\, Glenville\, NC\, 28736\, United States
CATEGORIES:Live Music
ATTACH;FMTTYPE=image/jpeg:https://thelaurelmagazine.com/wp-content/uploads/2026/04/glenville-nc-cashiers-live-music-happs-place.jpg
END:VEVENT
BEGIN:VEVENT
DTSTART;TZID=America/New_York:20260522T180000
DTEND;TZID=America/New_York:20260522T210000
DTSTAMP:20260421T122633
CREATED:20260415T133641Z
LAST-MODIFIED:20260415T133641Z
UID:117076-1779472800-1779483600@thelaurelmagazine.com
SUMMARY:Live Music at Happs Place
DESCRIPTION:Live music with Charles Walker Trio is in full swing at Happ’s Place\, where great food\, mountain vibes\, and local talent come together all season long. \nFavorites Count: 0
URL:https://thelaurelmagazine.com/local-event/live-music-at-happs-place-13
LOCATION:Happs Place\, 5914 NC-107\, Glenville\, NC\, 28736\, United States
CATEGORIES:Live Music
ATTACH;FMTTYPE=image/jpeg:https://thelaurelmagazine.com/wp-content/uploads/2026/04/glenville-nc-cashiers-live-music-happs-place.jpg
END:VEVENT
BEGIN:VEVENT
DTSTART;TZID=America/New_York:20260523T180000
DTEND;TZID=America/New_York:20260523T210000
DTSTAMP:20260421T122633
CREATED:20260415T134053Z
LAST-MODIFIED:20260415T134053Z
UID:117078-1779559200-1779570000@thelaurelmagazine.com
SUMMARY:Live Music at Happs Place
DESCRIPTION:Live music with Nero and the Sun Setters is in full swing at Happs Place\, where great food\, mountain vibes\, and local talent come together all season long. \nFavorites Count: 0
URL:https://thelaurelmagazine.com/local-event/live-music-at-happs-place-14
LOCATION:Happs Place\, 5914 NC-107\, Glenville\, NC\, 28736\, United States
CATEGORIES:Live Music
ATTACH;FMTTYPE=image/jpeg:https://thelaurelmagazine.com/wp-content/uploads/2026/04/glenville-nc-cashiers-live-music-happs-place.jpg
END:VEVENT
BEGIN:VEVENT
DTSTART;TZID=America/New_York:20260530T180000
DTEND;TZID=America/New_York:20260530T210000
DTSTAMP:20260421T122633
CREATED:20260415T134451Z
LAST-MODIFIED:20260415T134451Z
UID:117080-1780164000-1780174800@thelaurelmagazine.com
SUMMARY:Live Music at Happs Place
DESCRIPTION:Live music with James Gang is in full swing at Happs Place\, where great food\, mountain vibes\, and local talent come together all season long. \nFavorites Count: 0
URL:https://thelaurelmagazine.com/local-event/live-music-at-happs-place-15/2026-05-30
LOCATION:Happs Place\, 5914 NC-107\, Glenville\, NC\, 28736\, United States
CATEGORIES:Live Music
ATTACH;FMTTYPE=image/jpeg:https://thelaurelmagazine.com/wp-content/uploads/2026/04/glenville-nc-cashiers-live-music-happs-place.jpg
END:VEVENT
BEGIN:VEVENT
DTSTART;TZID=America/New_York:20260723T180000
DTEND;TZID=America/New_York:20260723T210000
DTSTAMP:20260421T122633
CREATED:20260415T134451Z
LAST-MODIFIED:20260415T134451Z
UID:117082-1784829600-1784840400@thelaurelmagazine.com
SUMMARY:Live Music at Happs Place
DESCRIPTION:Live music with James Gang is in full swing at Happs Place\, where great food\, mountain vibes\, and local talent come together all season long. \nFavorites Count: 0
URL:https://thelaurelmagazine.com/local-event/live-music-at-happs-place-15/2026-07-23
LOCATION:Happs Place\, 5914 NC-107\, Glenville\, NC\, 28736\, United States
CATEGORIES:Live Music
ATTACH;FMTTYPE=image/jpeg:https://thelaurelmagazine.com/wp-content/uploads/2026/04/glenville-nc-cashiers-live-music-happs-place.jpg
END:VEVENT
BEGIN:VEVENT
DTSTART;TZID=America/New_York:20260611T180000
DTEND;TZID=America/New_York:20260611T210000
DTSTAMP:20260421T122633
CREATED:20260415T134957Z
LAST-MODIFIED:20260415T134957Z
UID:117084-1781200800-1781211600@thelaurelmagazine.com
SUMMARY:
DESCRIPTION:Live music with Dillon Brown is in full swing at Happs Place\, where great food\, mountain vibes\, and local talent come together all season long. \nFavorites Count: 0
URL:https://thelaurelmagazine.com/local-event/117084
LOCATION:Happs Place\, 5914 NC-107\, Glenville\, NC\, 28736\, United States
CATEGORIES:Live Music
ATTACH;FMTTYPE=image/jpeg:https://thelaurelmagazine.com/wp-content/uploads/2026/04/glenville-nc-cashiers-live-music-happs-place.jpg
END:VEVENT
BEGIN:VEVENT
DTSTART;TZID=America/New_York:20260613T180000
DTEND;TZID=America/New_York:20260613T210000
DTSTAMP:20260421T122633
CREATED:20260415T135344Z
LAST-MODIFIED:20260415T135344Z
UID:117086-1781373600-1781384400@thelaurelmagazine.com
SUMMARY:Live Music at Happs Place
DESCRIPTION:Live music with Alamo Band is in full swing at Happs Place\, where great food\, mountain vibes\, and local talent come together all season long. \nFavorites Count: 0
URL:https://thelaurelmagazine.com/local-event/live-music-at-happs-place-16/2026-06-13
LOCATION:Happs Place\, 5914 NC-107\, Glenville\, NC\, 28736\, United States
CATEGORIES:Live Music
ATTACH;FMTTYPE=image/jpeg:https://thelaurelmagazine.com/wp-content/uploads/2026/04/glenville-nc-cashiers-live-music-happs-place.jpg
END:VEVENT
BEGIN:VEVENT
DTSTART;TZID=America/New_York:20260718T180000
DTEND;TZID=America/New_York:20260718T210000
DTSTAMP:20260421T122633
CREATED:20260415T135344Z
LAST-MODIFIED:20260415T135344Z
UID:117087-1784397600-1784408400@thelaurelmagazine.com
SUMMARY:Live Music at Happs Place
DESCRIPTION:Live music with Alamo Band is in full swing at Happs Place\, where great food\, mountain vibes\, and local talent come together all season long. \nFavorites Count: 0
URL:https://thelaurelmagazine.com/local-event/live-music-at-happs-place-16/2026-07-18
LOCATION:Happs Place\, 5914 NC-107\, Glenville\, NC\, 28736\, United States
CATEGORIES:Live Music
ATTACH;FMTTYPE=image/jpeg:https://thelaurelmagazine.com/wp-content/uploads/2026/04/glenville-nc-cashiers-live-music-happs-place.jpg
END:VEVENT
BEGIN:VEVENT
DTSTART;TZID=America/New_York:20260822T180000
DTEND;TZID=America/New_York:20260822T210000
DTSTAMP:20260421T122633
CREATED:20260415T135344Z
LAST-MODIFIED:20260415T135344Z
UID:117088-1787421600-1787432400@thelaurelmagazine.com
SUMMARY:Live Music at Happs Place
DESCRIPTION:Live music with Alamo Band is in full swing at Happs Place\, where great food\, mountain vibes\, and local talent come together all season long. \nFavorites Count: 0
URL:https://thelaurelmagazine.com/local-event/live-music-at-happs-place-16/2026-08-22
LOCATION:Happs Place\, 5914 NC-107\, Glenville\, NC\, 28736\, United States
CATEGORIES:Live Music
ATTACH;FMTTYPE=image/jpeg:https://thelaurelmagazine.com/wp-content/uploads/2026/04/glenville-nc-cashiers-live-music-happs-place.jpg
END:VEVENT
BEGIN:VEVENT
DTSTART;TZID=America/New_York:20260618T180000
DTEND;TZID=America/New_York:20260618T210000
DTSTAMP:20260421T122633
CREATED:20260415T135725Z
LAST-MODIFIED:20260415T135725Z
UID:117090-1781805600-1781816400@thelaurelmagazine.com
SUMMARY:Live Music at Happs Place
DESCRIPTION:Live music with Young Mountain Magic is in full swing at Happs Place\, where great food\, mountain vibes\, and local talent come together all season long. \nFavorites Count: 0
URL:https://thelaurelmagazine.com/local-event/live-music-at-happs-place-17/2026-06-18
LOCATION:Happs Place\, 5914 NC-107\, Glenville\, NC\, 28736\, United States
CATEGORIES:Live Music
ATTACH;FMTTYPE=image/jpeg:https://thelaurelmagazine.com/wp-content/uploads/2026/04/glenville-nc-cashiers-live-music-happs-place.jpg
END:VEVENT
END:VCALENDAR