BEGIN:VCALENDAR
VERSION:2.0
PRODID:-//Laurel Magazine - ECPv6.15.16//NONSGML v1.0//EN
CALSCALE:GREGORIAN
METHOD:PUBLISH
X-ORIGINAL-URL:https://thelaurelmagazine.com
X-WR-CALDESC:Events for Laurel Magazine
REFRESH-INTERVAL;VALUE=DURATION:PT1H
X-Robots-Tag:noindex
X-PUBLISHED-TTL:PT1H
BEGIN:VTIMEZONE
TZID:America/New_York
BEGIN:DAYLIGHT
TZOFFSETFROM:-0500
TZOFFSETTO:-0400
TZNAME:EDT
DTSTART:20240310T070000
END:DAYLIGHT
BEGIN:STANDARD
TZOFFSETFROM:-0400
TZOFFSETTO:-0500
TZNAME:EST
DTSTART:20241103T060000
END:STANDARD
BEGIN:DAYLIGHT
TZOFFSETFROM:-0500
TZOFFSETTO:-0400
TZNAME:EDT
DTSTART:20250309T070000
END:DAYLIGHT
BEGIN:STANDARD
TZOFFSETFROM:-0400
TZOFFSETTO:-0500
TZNAME:EST
DTSTART:20251102T060000
END:STANDARD
BEGIN:DAYLIGHT
TZOFFSETFROM:-0500
TZOFFSETTO:-0400
TZNAME:EDT
DTSTART:20260308T070000
END:DAYLIGHT
BEGIN:STANDARD
TZOFFSETFROM:-0400
TZOFFSETTO:-0500
TZNAME:EST
DTSTART:20261101T060000
END:STANDARD
END:VTIMEZONE
BEGIN:VEVENT
DTSTART;TZID=America/New_York:20251101T120000
DTEND;TZID=America/New_York:20251101T120000
DTSTAMP:20260421T202415
CREATED:20251020T170259Z
LAST-MODIFIED:20251020T170259Z
UID:104113-1761998400-1761998400@thelaurelmagazine.com
SUMMARY:Football Weekend at High Country Wine & Provisions
DESCRIPTION:College Football Saturday and NFL Sunday is ON at High Country! \nWe’re going BIG with the games ALL DAY on our massive 90-inch screen—the best seat in town! Fuel your fandom with special features on wine\, craft beer\, and delicious game-day eats. \nGather your crew and settle in for great football and even better company. See you there! \nFavorites Count: 0
URL:https://thelaurelmagazine.com/local-event/football-weekend-at-high-country-wine-provisions/2025-11-01
LOCATION:High Country Wine & Provisions\, 621 Franklin Rd\, Highlands\, NC\, 28741\, United States
CATEGORIES:Community
ATTACH;FMTTYPE=image/jpeg:https://thelaurelmagazine.com/wp-content/uploads/2025/10/highlands-nc-high-country-wine-provisions-football.jpg
END:VEVENT
BEGIN:VEVENT
DTSTART;TZID=America/New_York:20251227T120000
DTEND;TZID=America/New_York:20251227T120000
DTSTAMP:20260421T202415
CREATED:20251020T170259Z
LAST-MODIFIED:20251020T170259Z
UID:104129-1766836800-1766836800@thelaurelmagazine.com
SUMMARY:Football Weekend at High Country Wine & Provisions
DESCRIPTION:College Football Saturday and NFL Sunday is ON at High Country! \nWe’re going BIG with the games ALL DAY on our massive 90-inch screen—the best seat in town! Fuel your fandom with special features on wine\, craft beer\, and delicious game-day eats. \nGather your crew and settle in for great football and even better company. See you there! \nFavorites Count: 0
URL:https://thelaurelmagazine.com/local-event/football-weekend-at-high-country-wine-provisions/2025-12-27
LOCATION:High Country Wine & Provisions\, 621 Franklin Rd\, Highlands\, NC\, 28741\, United States
CATEGORIES:Community
ATTACH;FMTTYPE=image/jpeg:https://thelaurelmagazine.com/wp-content/uploads/2025/10/highlands-nc-high-country-wine-provisions-football.jpg
END:VEVENT
BEGIN:VEVENT
DTSTART;TZID=America/New_York:20251102T120000
DTEND;TZID=America/New_York:20251102T120000
DTSTAMP:20260421T202415
CREATED:20251020T170259Z
LAST-MODIFIED:20251020T170259Z
UID:104114-1762084800-1762084800@thelaurelmagazine.com
SUMMARY:Football Weekend at High Country Wine & Provisions
DESCRIPTION:College Football Saturday and NFL Sunday is ON at High Country! \nWe’re going BIG with the games ALL DAY on our massive 90-inch screen—the best seat in town! Fuel your fandom with special features on wine\, craft beer\, and delicious game-day eats. \nGather your crew and settle in for great football and even better company. See you there! \nFavorites Count: 0
URL:https://thelaurelmagazine.com/local-event/football-weekend-at-high-country-wine-provisions/2025-11-02
LOCATION:High Country Wine & Provisions\, 621 Franklin Rd\, Highlands\, NC\, 28741\, United States
CATEGORIES:Community
ATTACH;FMTTYPE=image/jpeg:https://thelaurelmagazine.com/wp-content/uploads/2025/10/highlands-nc-high-country-wine-provisions-football.jpg
END:VEVENT
BEGIN:VEVENT
DTSTART;TZID=America/New_York:20251228T120000
DTEND;TZID=America/New_York:20251228T120000
DTSTAMP:20260421T202415
CREATED:20251020T170259Z
LAST-MODIFIED:20251020T170259Z
UID:104130-1766923200-1766923200@thelaurelmagazine.com
SUMMARY:Football Weekend at High Country Wine & Provisions
DESCRIPTION:College Football Saturday and NFL Sunday is ON at High Country! \nWe’re going BIG with the games ALL DAY on our massive 90-inch screen—the best seat in town! Fuel your fandom with special features on wine\, craft beer\, and delicious game-day eats. \nGather your crew and settle in for great football and even better company. See you there! \nFavorites Count: 0
URL:https://thelaurelmagazine.com/local-event/football-weekend-at-high-country-wine-provisions/2025-12-28
LOCATION:High Country Wine & Provisions\, 621 Franklin Rd\, Highlands\, NC\, 28741\, United States
CATEGORIES:Community
ATTACH;FMTTYPE=image/jpeg:https://thelaurelmagazine.com/wp-content/uploads/2025/10/highlands-nc-high-country-wine-provisions-football.jpg
END:VEVENT
BEGIN:VEVENT
DTSTART;TZID=America/New_York:20251108T120000
DTEND;TZID=America/New_York:20251108T120000
DTSTAMP:20260421T202415
CREATED:20251020T170259Z
LAST-MODIFIED:20251020T170259Z
UID:104115-1762603200-1762603200@thelaurelmagazine.com
SUMMARY:Football Weekend at High Country Wine & Provisions
DESCRIPTION:College Football Saturday and NFL Sunday is ON at High Country! \nWe’re going BIG with the games ALL DAY on our massive 90-inch screen—the best seat in town! Fuel your fandom with special features on wine\, craft beer\, and delicious game-day eats. \nGather your crew and settle in for great football and even better company. See you there! \nFavorites Count: 0
URL:https://thelaurelmagazine.com/local-event/football-weekend-at-high-country-wine-provisions/2025-11-08
LOCATION:High Country Wine & Provisions\, 621 Franklin Rd\, Highlands\, NC\, 28741\, United States
CATEGORIES:Community
ATTACH;FMTTYPE=image/jpeg:https://thelaurelmagazine.com/wp-content/uploads/2025/10/highlands-nc-high-country-wine-provisions-football.jpg
END:VEVENT
BEGIN:VEVENT
DTSTART;TZID=America/New_York:20251109T120000
DTEND;TZID=America/New_York:20251109T120000
DTSTAMP:20260421T202415
CREATED:20251020T170259Z
LAST-MODIFIED:20251020T170259Z
UID:104116-1762689600-1762689600@thelaurelmagazine.com
SUMMARY:Football Weekend at High Country Wine & Provisions
DESCRIPTION:College Football Saturday and NFL Sunday is ON at High Country! \nWe’re going BIG with the games ALL DAY on our massive 90-inch screen—the best seat in town! Fuel your fandom with special features on wine\, craft beer\, and delicious game-day eats. \nGather your crew and settle in for great football and even better company. See you there! \nFavorites Count: 0
URL:https://thelaurelmagazine.com/local-event/football-weekend-at-high-country-wine-provisions/2025-11-09
LOCATION:High Country Wine & Provisions\, 621 Franklin Rd\, Highlands\, NC\, 28741\, United States
CATEGORIES:Community
ATTACH;FMTTYPE=image/jpeg:https://thelaurelmagazine.com/wp-content/uploads/2025/10/highlands-nc-high-country-wine-provisions-football.jpg
END:VEVENT
BEGIN:VEVENT
DTSTART;TZID=America/New_York:20251115T120000
DTEND;TZID=America/New_York:20251115T120000
DTSTAMP:20260421T202415
CREATED:20251020T170259Z
LAST-MODIFIED:20251020T170259Z
UID:104117-1763208000-1763208000@thelaurelmagazine.com
SUMMARY:Football Weekend at High Country Wine & Provisions
DESCRIPTION:College Football Saturday and NFL Sunday is ON at High Country! \nWe’re going BIG with the games ALL DAY on our massive 90-inch screen—the best seat in town! Fuel your fandom with special features on wine\, craft beer\, and delicious game-day eats. \nGather your crew and settle in for great football and even better company. See you there! \nFavorites Count: 0
URL:https://thelaurelmagazine.com/local-event/football-weekend-at-high-country-wine-provisions/2025-11-15
LOCATION:High Country Wine & Provisions\, 621 Franklin Rd\, Highlands\, NC\, 28741\, United States
CATEGORIES:Community
ATTACH;FMTTYPE=image/jpeg:https://thelaurelmagazine.com/wp-content/uploads/2025/10/highlands-nc-high-country-wine-provisions-football.jpg
END:VEVENT
BEGIN:VEVENT
DTSTART;TZID=America/New_York:20251014T173000
DTEND;TZID=America/New_York:20251014T190000
DTSTAMP:20260421T202415
CREATED:20251007T162115Z
LAST-MODIFIED:20251007T162115Z
UID:103533-1760463000-1760468400@thelaurelmagazine.com
SUMMARY:The Laurel Cover Artist Reception at High Country Wine & Provisions
DESCRIPTION:Meet Artist Terry Warren at The Laurel’s October Cover Artist Reception at High Country Wine and Provisions in Highlands on Tuesday\, October 14\, 5:30 – 7:00 P.M. \nRSVP to info@thelaurelmagazine.com. \nFavorites Count: 0
URL:https://thelaurelmagazine.com/local-event/the-laurel-cover-artist-reception-at-high-country-wine-provisions
LOCATION:High Country Wine & Provisions\, 621 Franklin Rd\, Highlands\, NC\, 28741\, United States
CATEGORIES:Community
ATTACH;FMTTYPE=image/jpeg:https://thelaurelmagazine.com/wp-content/uploads/2025/10/highlands-nc-laurel-cover-artist-terry-warren-oct-25.jpg
END:VEVENT
BEGIN:VEVENT
DTSTART;TZID=America/New_York:20251003T180000
DTEND;TZID=America/New_York:20251003T200000
DTSTAMP:20260421T202415
CREATED:20251007T140412Z
LAST-MODIFIED:20251215T183058Z
UID:102892-1759514400-1759521600@thelaurelmagazine.com
SUMMARY:Vino & Vibes | Live Music at High Country Wine and Provisions
DESCRIPTION:Joins us for Vino & Vibes\, live music every Friday at High Country Wine & Provisions! \nFavorites Count: 0
URL:https://thelaurelmagazine.com/local-event/vino-vibes-live-music-at-high-country-wine-and-provisions/2025-10-03
LOCATION:High Country Wine & Provisions\, 621 Franklin Rd\, Highlands\, NC\, 28741\, United States
CATEGORIES:Live Music
ATTACH;FMTTYPE=image/jpeg:https://thelaurelmagazine.com/wp-content/uploads/2025/10/highlands-nc-dining-high-country-wine-provisions-logo.jpg
END:VEVENT
BEGIN:VEVENT
DTSTART;TZID=America/New_York:20251010T180000
DTEND;TZID=America/New_York:20251010T200000
DTSTAMP:20260421T202415
CREATED:20251007T140412Z
LAST-MODIFIED:20251215T183158Z
UID:103957-1760119200-1760126400@thelaurelmagazine.com
SUMMARY:Vino & Vibes | Live Music at High Country Wine and Provisions
DESCRIPTION:Joins us for Vino & Vibes\, live music every Friday at High Country Wine & Provisions! \nFavorites Count: 0
URL:https://thelaurelmagazine.com/local-event/vino-vibes-live-music-at-high-country-wine-and-provisions/2025-10-10
LOCATION:High Country Wine & Provisions\, 621 Franklin Rd\, Highlands\, NC\, 28741\, United States
CATEGORIES:Live Music
ATTACH;FMTTYPE=image/jpeg:https://thelaurelmagazine.com/wp-content/uploads/2025/10/highlands-nc-dining-high-country-wine-provisions-logo.jpg
END:VEVENT
BEGIN:VEVENT
DTSTART;TZID=America/New_York:20251017T180000
DTEND;TZID=America/New_York:20251017T200000
DTSTAMP:20260421T202415
CREATED:20251007T140412Z
LAST-MODIFIED:20251215T183158Z
UID:103958-1760724000-1760731200@thelaurelmagazine.com
SUMMARY:Vino & Vibes | Live Music at High Country Wine and Provisions
DESCRIPTION:Joins us for Vino & Vibes\, live music every Friday at High Country Wine & Provisions! \nFavorites Count: 0
URL:https://thelaurelmagazine.com/local-event/vino-vibes-live-music-at-high-country-wine-and-provisions/2025-10-17
LOCATION:High Country Wine & Provisions\, 621 Franklin Rd\, Highlands\, NC\, 28741\, United States
CATEGORIES:Live Music
ATTACH;FMTTYPE=image/jpeg:https://thelaurelmagazine.com/wp-content/uploads/2025/10/highlands-nc-dining-high-country-wine-provisions-logo.jpg
END:VEVENT
BEGIN:VEVENT
DTSTART;TZID=America/New_York:20251024T180000
DTEND;TZID=America/New_York:20251024T200000
DTSTAMP:20260421T202415
CREATED:20251007T140412Z
LAST-MODIFIED:20251215T183158Z
UID:103959-1761328800-1761336000@thelaurelmagazine.com
SUMMARY:Vino & Vibes | Live Music at High Country Wine and Provisions
DESCRIPTION:Joins us for Vino & Vibes\, live music every Friday at High Country Wine & Provisions! \nFavorites Count: 0
URL:https://thelaurelmagazine.com/local-event/vino-vibes-live-music-at-high-country-wine-and-provisions/2025-10-24
LOCATION:High Country Wine & Provisions\, 621 Franklin Rd\, Highlands\, NC\, 28741\, United States
CATEGORIES:Live Music
ATTACH;FMTTYPE=image/jpeg:https://thelaurelmagazine.com/wp-content/uploads/2025/10/highlands-nc-dining-high-country-wine-provisions-logo.jpg
END:VEVENT
BEGIN:VEVENT
DTSTART;TZID=America/New_York:20251031T180000
DTEND;TZID=America/New_York:20251031T200000
DTSTAMP:20260421T202415
CREATED:20251007T140412Z
LAST-MODIFIED:20251215T183159Z
UID:103960-1761933600-1761940800@thelaurelmagazine.com
SUMMARY:Vino & Vibes | Live Music at High Country Wine and Provisions
DESCRIPTION:Joins us for Vino & Vibes\, live music every Friday at High Country Wine & Provisions! \nFavorites Count: 0
URL:https://thelaurelmagazine.com/local-event/vino-vibes-live-music-at-high-country-wine-and-provisions/2025-10-31
LOCATION:High Country Wine & Provisions\, 621 Franklin Rd\, Highlands\, NC\, 28741\, United States
CATEGORIES:Live Music
ATTACH;FMTTYPE=image/jpeg:https://thelaurelmagazine.com/wp-content/uploads/2025/10/highlands-nc-dining-high-country-wine-provisions-logo.jpg
END:VEVENT
BEGIN:VEVENT
DTSTART;TZID=America/New_York:20251107T180000
DTEND;TZID=America/New_York:20251107T200000
DTSTAMP:20260421T202415
CREATED:20251007T140412Z
LAST-MODIFIED:20251215T183159Z
UID:103961-1762538400-1762545600@thelaurelmagazine.com
SUMMARY:Vino & Vibes | Live Music at High Country Wine and Provisions
DESCRIPTION:Joins us for Vino & Vibes\, live music every Friday at High Country Wine & Provisions! \nFavorites Count: 0
URL:https://thelaurelmagazine.com/local-event/vino-vibes-live-music-at-high-country-wine-and-provisions/2025-11-07
LOCATION:High Country Wine & Provisions\, 621 Franklin Rd\, Highlands\, NC\, 28741\, United States
CATEGORIES:Live Music
ATTACH;FMTTYPE=image/jpeg:https://thelaurelmagazine.com/wp-content/uploads/2025/10/highlands-nc-dining-high-country-wine-provisions-logo.jpg
END:VEVENT
BEGIN:VEVENT
DTSTART;TZID=America/New_York:20251114T180000
DTEND;TZID=America/New_York:20251114T200000
DTSTAMP:20260421T202415
CREATED:20251007T140412Z
LAST-MODIFIED:20251215T183159Z
UID:103962-1763143200-1763150400@thelaurelmagazine.com
SUMMARY:Vino & Vibes | Live Music at High Country Wine and Provisions
DESCRIPTION:Joins us for Vino & Vibes\, live music every Friday at High Country Wine & Provisions! \nFavorites Count: 0
URL:https://thelaurelmagazine.com/local-event/vino-vibes-live-music-at-high-country-wine-and-provisions/2025-11-14
LOCATION:High Country Wine & Provisions\, 621 Franklin Rd\, Highlands\, NC\, 28741\, United States
CATEGORIES:Live Music
ATTACH;FMTTYPE=image/jpeg:https://thelaurelmagazine.com/wp-content/uploads/2025/10/highlands-nc-dining-high-country-wine-provisions-logo.jpg
END:VEVENT
BEGIN:VEVENT
DTSTART;TZID=America/New_York:20251121T180000
DTEND;TZID=America/New_York:20251121T200000
DTSTAMP:20260421T202415
CREATED:20251007T140412Z
LAST-MODIFIED:20251215T183159Z
UID:103963-1763748000-1763755200@thelaurelmagazine.com
SUMMARY:Vino & Vibes | Live Music at High Country Wine and Provisions
DESCRIPTION:Joins us for Vino & Vibes\, live music every Friday at High Country Wine & Provisions! \nFavorites Count: 0
URL:https://thelaurelmagazine.com/local-event/vino-vibes-live-music-at-high-country-wine-and-provisions/2025-11-21
LOCATION:High Country Wine & Provisions\, 621 Franklin Rd\, Highlands\, NC\, 28741\, United States
CATEGORIES:Live Music
ATTACH;FMTTYPE=image/jpeg:https://thelaurelmagazine.com/wp-content/uploads/2025/10/highlands-nc-dining-high-country-wine-provisions-logo.jpg
END:VEVENT
BEGIN:VEVENT
DTSTART;TZID=America/New_York:20251128T180000
DTEND;TZID=America/New_York:20251128T200000
DTSTAMP:20260421T202415
CREATED:20251007T140412Z
LAST-MODIFIED:20251215T183206Z
UID:103964-1764352800-1764360000@thelaurelmagazine.com
SUMMARY:Vino & Vibes | Live Music at High Country Wine and Provisions
DESCRIPTION:Joins us for Vino & Vibes\, live music every Friday at High Country Wine & Provisions! \nFavorites Count: 0
URL:https://thelaurelmagazine.com/local-event/vino-vibes-live-music-at-high-country-wine-and-provisions/2025-11-28
LOCATION:High Country Wine & Provisions\, 621 Franklin Rd\, Highlands\, NC\, 28741\, United States
CATEGORIES:Live Music
ATTACH;FMTTYPE=image/jpeg:https://thelaurelmagazine.com/wp-content/uploads/2025/10/highlands-nc-dining-high-country-wine-provisions-logo.jpg
END:VEVENT
BEGIN:VEVENT
DTSTART;TZID=America/New_York:20251205T180000
DTEND;TZID=America/New_York:20251205T200000
DTSTAMP:20260421T202415
CREATED:20251007T140412Z
LAST-MODIFIED:20251215T183206Z
UID:103965-1764957600-1764964800@thelaurelmagazine.com
SUMMARY:Vino & Vibes | Live Music at High Country Wine and Provisions
DESCRIPTION:Joins us for Vino & Vibes\, live music every Friday at High Country Wine & Provisions! \nFavorites Count: 0
URL:https://thelaurelmagazine.com/local-event/vino-vibes-live-music-at-high-country-wine-and-provisions/2025-12-05
LOCATION:High Country Wine & Provisions\, 621 Franklin Rd\, Highlands\, NC\, 28741\, United States
CATEGORIES:Live Music
ATTACH;FMTTYPE=image/jpeg:https://thelaurelmagazine.com/wp-content/uploads/2025/10/highlands-nc-dining-high-country-wine-provisions-logo.jpg
END:VEVENT
BEGIN:VEVENT
DTSTART;TZID=America/New_York:20251219T180000
DTEND;TZID=America/New_York:20251219T200000
DTSTAMP:20260421T202415
CREATED:20251007T140412Z
LAST-MODIFIED:20251215T183206Z
UID:103967-1766167200-1766174400@thelaurelmagazine.com
SUMMARY:Vino & Vibes | Live Music at High Country Wine and Provisions
DESCRIPTION:Joins us for Vino & Vibes\, live music every Friday at High Country Wine & Provisions! \nFavorites Count: 0
URL:https://thelaurelmagazine.com/local-event/vino-vibes-live-music-at-high-country-wine-and-provisions/2025-12-19
LOCATION:High Country Wine & Provisions\, 621 Franklin Rd\, Highlands\, NC\, 28741\, United States
CATEGORIES:Live Music
ATTACH;FMTTYPE=image/jpeg:https://thelaurelmagazine.com/wp-content/uploads/2025/10/highlands-nc-dining-high-country-wine-provisions-logo.jpg
END:VEVENT
BEGIN:VEVENT
DTSTART;TZID=America/New_York:20251010T180000
DTEND;TZID=America/New_York:20251010T180000
DTSTAMP:20260421T202415
CREATED:20251005T175822Z
LAST-MODIFIED:20251005T175822Z
UID:102614-1760119200-1760119200@thelaurelmagazine.com
SUMMARY:HFW | Foragers\, Farmers\, and Friends at High Country Wine & Provisions
DESCRIPTION:Kick off Highlands Food & Wine Festival week in style with an unforgettable evening at High Country Wine & Provisions.  \nAcclaimed Chef Johannes of The Library Kitchen + Bar brings his culinary mastery to a four-course dining experience\, paired with the award-winning wines of Cooper and Guy Davis from Davis Family Vineyards. \nFavorites Count: 0
URL:https://thelaurelmagazine.com/local-event/hfw-foragers-farmers-and-friends-at-high-country-wine-provisions
LOCATION:High Country Wine & Provisions\, 621 Franklin Rd\, Highlands\, NC\, 28741\, United States
CATEGORIES:Community,Dining
ATTACH;FMTTYPE=image/jpeg:https://thelaurelmagazine.com/wp-content/uploads/2025/10/highlands-high-country-food-wine-forgers-farmers-friends.jpg
END:VEVENT
BEGIN:VEVENT
DTSTART;TZID=America/New_York:20250912T180000
DTEND;TZID=America/New_York:20250912T200000
DTSTAMP:20260421T202415
CREATED:20250908T181447Z
LAST-MODIFIED:20250908T181447Z
UID:96232-1757700000-1757707200@thelaurelmagazine.com
SUMMARY:Vino & Vibes | Live Music High Country Wine & Provisions
DESCRIPTION:Settle in at High Country Wine & Provisions for a soulful Friday night with Scott Low. \nHis heartfelt Americana sound will fill the room\, perfectly matched with handpicked wines and delicious small bites. Whether you’re savoring the music\, the flavors\, or just soaking in the laid-back mountain vibe\, this is the kind of evening that lingers long after the last note fades. \nFavorites Count: 0
URL:https://thelaurelmagazine.com/local-event/vino-vibes-live-music-high-country-wine-provisions
LOCATION:High Country Wine & Provisions\, 621 Franklin Rd\, Highlands\, NC\, 28741\, United States
CATEGORIES:Live Music
ATTACH;FMTTYPE=image/jpeg:https://thelaurelmagazine.com/wp-content/uploads/2025/09/highlands-nc-high-country-wine-provisions-live-music-scott-low.jpg
END:VEVENT
BEGIN:VEVENT
DTSTART;TZID=America/New_York:20250905T180000
DTEND;TZID=America/New_York:20250905T200000
DTSTAMP:20260421T202415
CREATED:20250903T134417Z
LAST-MODIFIED:20250903T134417Z
UID:96123-1757095200-1757102400@thelaurelmagazine.com
SUMMARY:Vino & Vibes at High Country Wine & Provisions
DESCRIPTION:Join in at High Country Wine & Provisions for an evening of music\, flavor\, and good company!  \nLocal legend – Zorki brings his soothing sound to the evening—pairing perfectly with curated wines and small bites. Whether you’re here for the tunes\, the tastings\, or the vibe\, it’s the kind of Friday night worth raising a glass to. \nFavorites Count: 0
URL:https://thelaurelmagazine.com/local-event/vino-vibes-at-high-country-wine-provisions-2
LOCATION:High Country Wine & Provisions\, 621 Franklin Rd\, Highlands\, NC\, 28741\, United States
CATEGORIES:Live Music
ATTACH;FMTTYPE=image/jpeg:https://thelaurelmagazine.com/wp-content/uploads/2025/09/highlands-nc-live-music-high-country-wine-provisions-zorki.jpg
END:VEVENT
BEGIN:VEVENT
DTSTART;TZID=America/New_York:20250902T173000
DTEND;TZID=America/New_York:20250902T190000
DTSTAMP:20260421T202415
CREATED:20250829T141451Z
LAST-MODIFIED:20250829T141451Z
UID:95865-1756834200-1756839600@thelaurelmagazine.com
SUMMARY:Laurel Magazine | Meet September's Cover Artist at High Country Wine & Provisions
DESCRIPTION:Meet Shannon Woodford at The Laurel’s September Cover Artist Reception at High Country Wine and Provisions in Highlands on Tuesday\, September 2\, 5:30 – 7:00 P.M. – and raise a glass to her. \nRSVP to info@thelaurelmagazine.com. \nFavorites Count: 0
URL:https://thelaurelmagazine.com/local-event/laurel-magazine-meet-septembers-cover-artist-at-high-country-wine-provisions
LOCATION:High Country Wine & Provisions\, 621 Franklin Rd\, Highlands\, NC\, 28741\, United States
CATEGORIES:Community,Visual Arts
ATTACH;FMTTYPE=image/jpeg:https://thelaurelmagazine.com/wp-content/uploads/2025/08/Shannon-Woodford-september-laurel-cover-Glory-Garden.jpg
END:VEVENT
BEGIN:VEVENT
DTSTART;TZID=America/New_York:20250815T183000
DTEND;TZID=America/New_York:20250815T183000
DTSTAMP:20260421T202415
CREATED:20250808T133737Z
LAST-MODIFIED:20250808T133737Z
UID:95306-1755282600-1755282600@thelaurelmagazine.com
SUMMARY:Vino & Vibes at High Country Wine & Provisions
DESCRIPTION:Join us for Vino & Vibes and Tasty Licks\, live music by David Crisp! \nFavorites Count: 0
URL:https://thelaurelmagazine.com/local-event/vino-vibes-at-high-country-wine-provisions
LOCATION:High Country Wine & Provisions\, 621 Franklin Rd\, Highlands\, NC\, 28741\, United States
CATEGORIES:Live Music
ATTACH;FMTTYPE=image/jpeg:https://thelaurelmagazine.com/wp-content/uploads/2025/08/highlands-nc-high-country-wine-provisions-tasty-licks-david-crisp.jpg
END:VEVENT
BEGIN:VEVENT
DTSTART;TZID=America/New_York:20250808T183000
DTEND;TZID=America/New_York:20250808T203000
DTSTAMP:20260421T202415
CREATED:20250808T133224Z
LAST-MODIFIED:20250808T133224Z
UID:95304-1754677800-1754685000@thelaurelmagazine.com
SUMMARY:Vino & Vibes at High Country Wine and Provisions
DESCRIPTION:Join us for Vino & Vibes with live music by Ezra & Katie! \nFavorites Count: 0
URL:https://thelaurelmagazine.com/local-event/vino-vibes-at-high-country-wine-and-provisions
LOCATION:High Country Wine & Provisions\, 621 Franklin Rd\, Highlands\, NC\, 28741\, United States
CATEGORIES:Live Music
ATTACH;FMTTYPE=image/jpeg:https://thelaurelmagazine.com/wp-content/uploads/2023/10/highlands-nc-high-country-wine-provisions-pour.jpg
END:VEVENT
BEGIN:VEVENT
DTSTART;TZID=America/New_York:20250803T170000
DTEND;TZID=America/New_York:20250803T190000
DTSTAMP:20260421T202415
CREATED:20250731T141433Z
LAST-MODIFIED:20250731T141433Z
UID:94155-1754240400-1754247600@thelaurelmagazine.com
SUMMARY:Vino and Vibes with at High Country Wine and Provisions
DESCRIPTION:Will and Lindsey are a dynamic musical duo known for their heartfelt performances and harmonious blend of sounds. Based in Panama City\, Florida\, they share a deep passion for music that has brought them together both personally and creatively. With Will’s soulful energetic voice and Lindsey’s enchanting vocals and piano playing\, they create a captivating experience for their audience. \nDon’t miss out on an evening full of great music\, charcuterie\, and wine! \nFavorites Count: 0
URL:https://thelaurelmagazine.com/local-event/vino-and-vibes-with-at-high-country-wine-and-provisions
LOCATION:High Country Wine & Provisions\, 621 Franklin Rd\, Highlands\, NC\, 28741\, United States
CATEGORIES:Dining
ATTACH;FMTTYPE=image/jpeg:https://thelaurelmagazine.com/wp-content/uploads/2025/07/highlansds-nc-high-country-wine-provisions-will-lindsey.jpg
END:VEVENT
BEGIN:VEVENT
DTSTART;TZID=America/New_York:20250805T150000
DTEND;TZID=America/New_York:20250805T170000
DTSTAMP:20260421T202415
CREATED:20250721T012117Z
LAST-MODIFIED:20250721T012117Z
UID:93373-1754406000-1754413200@thelaurelmagazine.com
SUMMARY:CLE | An Exploration of Old World/New World Wines at High Country Wine and Provision
DESCRIPTION:Step into the captivating world of wine as we guide you on a journey through the timeless classics of Old World wines and the bold\, innovative flavors of New World wines! \nIn this class\, you’ll learn the key differences between these two wine regions\, from Europe’s traditional\, terroir-driven wines to the more contemporary and fruit-forward styles of areas like California\, Australia\, and South America. \nFavorites Count: 0
URL:https://thelaurelmagazine.com/local-event/cle-an-exploration-of-old-world-new-world-wines-at-high-country-wine-and-provision
LOCATION:High Country Wine & Provisions\, 621 Franklin Rd\, Highlands\, NC\, 28741\, United States
CATEGORIES:Education
END:VEVENT
BEGIN:VEVENT
DTSTART;TZID=America/New_York:20250711T183000
DTEND;TZID=America/New_York:20250711T203000
DTSTAMP:20260421T202415
CREATED:20250708T162305Z
LAST-MODIFIED:20250708T162305Z
UID:92950-1752258600-1752265800@thelaurelmagazine.com
SUMMARY:Friday Night Vibes at High Country Wine & Provisions
DESCRIPTION:Close out your week with live tunes and well-poured wines at High Country Wine & Provisions—Friday’s perfect pairing. \nJuly 11 & July 18- Jammin’ with Zorki \nJuly 25- Jammin’ with Dan Hickman \nFavorites Count: 0
URL:https://thelaurelmagazine.com/local-event/friday-night-vibes-at-high-country-wine-provisions-2/2025-07-11
LOCATION:High Country Wine & Provisions\, 621 Franklin Rd\, Highlands\, NC\, 28741\, United States
CATEGORIES:Live Music
ATTACH;FMTTYPE=image/jpeg:https://thelaurelmagazine.com/wp-content/uploads/2025/07/highlands-nc-high-country-wine-provisions-friday-night-vibes.jpg
END:VEVENT
BEGIN:VEVENT
DTSTART;TZID=America/New_York:20250718T183000
DTEND;TZID=America/New_York:20250718T203000
DTSTAMP:20260421T202415
CREATED:20250708T162305Z
LAST-MODIFIED:20250708T162305Z
UID:92955-1752863400-1752870600@thelaurelmagazine.com
SUMMARY:Friday Night Vibes at High Country Wine & Provisions
DESCRIPTION:Close out your week with live tunes and well-poured wines at High Country Wine & Provisions—Friday’s perfect pairing. \nJuly 11 & July 18- Jammin’ with Zorki \nJuly 25- Jammin’ with Dan Hickman \nFavorites Count: 0
URL:https://thelaurelmagazine.com/local-event/friday-night-vibes-at-high-country-wine-provisions-2/2025-07-18
LOCATION:High Country Wine & Provisions\, 621 Franklin Rd\, Highlands\, NC\, 28741\, United States
CATEGORIES:Live Music
ATTACH;FMTTYPE=image/jpeg:https://thelaurelmagazine.com/wp-content/uploads/2025/07/highlands-nc-high-country-wine-provisions-friday-night-vibes.jpg
END:VEVENT
BEGIN:VEVENT
DTSTART;TZID=America/New_York:20250725T190000
DTEND;TZID=America/New_York:20250725T210000
DTSTAMP:20260421T202415
CREATED:20250708T162305Z
LAST-MODIFIED:20250708T162305Z
UID:92956-1753470000-1753477200@thelaurelmagazine.com
SUMMARY:Friday Night Vibes at High Country Wine & Provisions
DESCRIPTION:Close out your week with live tunes and well-poured wines at High Country Wine & Provisions—Friday’s perfect pairing. \nJuly 11 & July 18- Jammin’ with Zorki \nJuly 25- Jammin’ with Dan Hickman \nFavorites Count: 0
URL:https://thelaurelmagazine.com/local-event/friday-night-vibes-at-high-country-wine-provisions-2/2025-07-25
LOCATION:High Country Wine & Provisions\, 621 Franklin Rd\, Highlands\, NC\, 28741\, United States
CATEGORIES:Live Music
ATTACH;FMTTYPE=image/jpeg:https://thelaurelmagazine.com/wp-content/uploads/2025/07/highlands-nc-high-country-wine-provisions-friday-night-vibes.jpg
END:VEVENT
END:VCALENDAR