BEGIN:VCALENDAR
VERSION:2.0
PRODID:-//Laurel Magazine - ECPv6.15.16//NONSGML v1.0//EN
CALSCALE:GREGORIAN
METHOD:PUBLISH
X-ORIGINAL-URL:https://thelaurelmagazine.com
X-WR-CALDESC:Events for Laurel Magazine
REFRESH-INTERVAL;VALUE=DURATION:PT1H
X-Robots-Tag:noindex
X-PUBLISHED-TTL:PT1H
BEGIN:VTIMEZONE
TZID:America/New_York
BEGIN:DAYLIGHT
TZOFFSETFROM:-0500
TZOFFSETTO:-0400
TZNAME:EDT
DTSTART:20240310T070000
END:DAYLIGHT
BEGIN:STANDARD
TZOFFSETFROM:-0400
TZOFFSETTO:-0500
TZNAME:EST
DTSTART:20241103T060000
END:STANDARD
BEGIN:DAYLIGHT
TZOFFSETFROM:-0500
TZOFFSETTO:-0400
TZNAME:EDT
DTSTART:20250309T070000
END:DAYLIGHT
BEGIN:STANDARD
TZOFFSETFROM:-0400
TZOFFSETTO:-0500
TZNAME:EST
DTSTART:20251102T060000
END:STANDARD
BEGIN:DAYLIGHT
TZOFFSETFROM:-0500
TZOFFSETTO:-0400
TZNAME:EDT
DTSTART:20260308T070000
END:DAYLIGHT
BEGIN:STANDARD
TZOFFSETFROM:-0400
TZOFFSETTO:-0500
TZNAME:EST
DTSTART:20261101T060000
END:STANDARD
END:VTIMEZONE
BEGIN:VEVENT
DTSTART;TZID=America/New_York:20250704T090000
DTEND;TZID=America/New_York:20250704T090000
DTSTAMP:20260419T212346
CREATED:20250616T203053Z
LAST-MODIFIED:20250616T203053Z
UID:91123-1751619600-1751619600@thelaurelmagazine.com
SUMMARY:Take Me Out to the Ballfield at Highlands Town Ballfield
DESCRIPTION:9–11am  Water Rockets  Town Ball Field \n11am  Free Hotdog Lunch  Town Ball Field \n11am–12pm  Field Games  Town Ball Field \n12pm  Visit MAMA  (Mtn. Area Medical Airlift)  Town Ball Field \n1pm  Ladder Truck Spray-down  Town Ball Field. Boy Scouts water rocket launch\, traditional field games\, fire trucks\, free hotdogs at Rotary Cookout and more. \nAll activities are free and take place at the ballfield next to the community building. Games organized by Highlands Recreation Department. Hot dog lunches organized by Highlands Rotary Club. \nFor more information\, please call the Highlands Parks & Recreation Department. at 828-526-3556. \nFavorites Count: 0
URL:https://thelaurelmagazine.com/local-event/take-me-out-to-the-ballfield-at-highlands-town-ballfield
LOCATION:Highlands Ballfield\, 869 N 4th St\, Highlands\, NC\, 28741\, United States
CATEGORIES:Community
ATTACH;FMTTYPE=image/jpeg:https://thelaurelmagazine.com/wp-content/uploads/2025/06/highlands-nc-town-ballfield-fourth-july-festivities.jpg
END:VEVENT
END:VCALENDAR