BEGIN:VCALENDAR
VERSION:2.0
PRODID:-//Laurel Magazine - ECPv6.15.16//NONSGML v1.0//EN
CALSCALE:GREGORIAN
METHOD:PUBLISH
X-ORIGINAL-URL:https://thelaurelmagazine.com
X-WR-CALDESC:Events for Laurel Magazine
REFRESH-INTERVAL;VALUE=DURATION:PT1H
X-Robots-Tag:noindex
X-PUBLISHED-TTL:PT1H
BEGIN:VTIMEZONE
TZID:America/New_York
BEGIN:DAYLIGHT
TZOFFSETFROM:-0500
TZOFFSETTO:-0400
TZNAME:EDT
DTSTART:20240310T070000
END:DAYLIGHT
BEGIN:STANDARD
TZOFFSETFROM:-0400
TZOFFSETTO:-0500
TZNAME:EST
DTSTART:20241103T060000
END:STANDARD
BEGIN:DAYLIGHT
TZOFFSETFROM:-0500
TZOFFSETTO:-0400
TZNAME:EDT
DTSTART:20250309T070000
END:DAYLIGHT
BEGIN:STANDARD
TZOFFSETFROM:-0400
TZOFFSETTO:-0500
TZNAME:EST
DTSTART:20251102T060000
END:STANDARD
BEGIN:DAYLIGHT
TZOFFSETFROM:-0500
TZOFFSETTO:-0400
TZNAME:EDT
DTSTART:20260308T070000
END:DAYLIGHT
BEGIN:STANDARD
TZOFFSETFROM:-0400
TZOFFSETTO:-0500
TZNAME:EST
DTSTART:20261101T060000
END:STANDARD
BEGIN:DAYLIGHT
TZOFFSETFROM:-0500
TZOFFSETTO:-0400
TZNAME:EDT
DTSTART:20270314T070000
END:DAYLIGHT
BEGIN:STANDARD
TZOFFSETFROM:-0400
TZOFFSETTO:-0500
TZNAME:EST
DTSTART:20271107T060000
END:STANDARD
END:VTIMEZONE
BEGIN:VEVENT
DTSTART;TZID=America/New_York:20260409T183000
DTEND;TZID=America/New_York:20260409T183000
DTSTAMP:20260426T000851
CREATED:20260223T165123Z
LAST-MODIFIED:20260223T165123Z
UID:115017-1775759400-1775759400@thelaurelmagazine.com
SUMMARY:April Rotary Club Bingo at Highlands Community Building
DESCRIPTION:This popular community event returns monthly on Thursday nights from 6:30–8:30 p.m.\, bringing neighbors together while supporting local charities and nonprofits. Each evening’s proceeds benefit a different organization\, making it a fun and meaningful way to give back to the Plateau. \nJoin us this month as we support Interact Club of Highlands High School! \nThis month’s event will be held at Highlands Community Building. \nFavorites Count: 0
URL:https://thelaurelmagazine.com/local-event/april-rotary-club-bingo-at-highlands-community-building
LOCATION:Highlands Community Building\, 869 North 4th Street\, Highlands\, NC\, 28741\, United States
CATEGORIES:Community
ATTACH;FMTTYPE=image/jpeg:https://thelaurelmagazine.com/wp-content/uploads/2026/02/highlands-nc-comunity-rotary-club-bingo.jpg
END:VEVENT
BEGIN:VEVENT
DTSTART;TZID=America/New_York:20251213T120000
DTEND;TZID=America/New_York:20251213T120000
DTSTAMP:20260426T000851
CREATED:20251007T162726Z
LAST-MODIFIED:20251110T192225Z
UID:103536-1765627200-1765627200@thelaurelmagazine.com
SUMMARY:Wreaths Across America at Highlands Community Building
DESCRIPTION:Remember and Honor our veterans through the laying of Remembrance Wreaths on the graves of our country’s fallen heroes and the act of saying the name of each and every veteran aloud. \nCeremony will take place at the Highlands Community Bldg. 869 North 4th Street at 12:00PM. \nFollowing the ceremony at the community bldg.\, shuttles will take volunteers to and from the cemetery to lay veteran wreaths. \nFor more information\, please contact Phil Potts at 828-200-9753 or ppotts63@frontier.com \nFavorites Count: 0
URL:https://thelaurelmagazine.com/local-event/wreaths-across-america-at-highlands-community-building
LOCATION:Highlands Community Building\, 869 North 4th Street\, Highlands\, NC\, 28741\, United States
CATEGORIES:Community
ATTACH;FMTTYPE=image/jpeg:https://thelaurelmagazine.com/wp-content/uploads/2025/10/highlands-nc-wreaths-across-america-.jpg
END:VEVENT
BEGIN:VEVENT
DTSTART;TZID=America/New_York:20250925T183000
DTEND;TZID=America/New_York:20250925T203000
DTSTAMP:20260426T000851
CREATED:20250814T142552Z
LAST-MODIFIED:20250814T142552Z
UID:95509-1758825000-1758832200@thelaurelmagazine.com
SUMMARY:Rotary Club Bingo at Highlands Community Building
DESCRIPTION:Join us for Rotary Club Bingo at Highlands Community Building. \nThis month\, proceeds will benefit The Scaly Mountain Women’s Club. \nCome out and have some fun for our community! \nFavorites Count: 0
URL:https://thelaurelmagazine.com/local-event/rotary-club-bingo-at-highlands-community-building-4
LOCATION:Highlands Community Building\, 869 North 4th Street\, Highlands\, NC\, 28741\, United States
CATEGORIES:Community
ATTACH;FMTTYPE=image/jpeg:https://thelaurelmagazine.com/wp-content/uploads/2023/03/highlands-nc-highlands-rotary-club-highlands-community-building-rotary-bingo.jpg
END:VEVENT
BEGIN:VEVENT
DTSTART;TZID=America/New_York:20250927T110000
DTEND;TZID=America/New_York:20250927T130000
DTSTAMP:20260426T000851
CREATED:20250814T011234Z
LAST-MODIFIED:20250814T011234Z
UID:95494-1758970800-1758978000@thelaurelmagazine.com
SUMMARY:Descendants’ Reception with Highlands History Society
DESCRIPTION:Join the Highlands Historical Society at a reception to honor multi-generational descendants of early Highlands settlers. \nHear the stories from families that date their ancestry to the beginning of Highlands and share in the family histories that make Highlands so unique. \nVisit highlandshistory.com for more information. \nFavorites Count: 0
URL:https://thelaurelmagazine.com/local-event/descendants-reception-with-highlands-history-society
LOCATION:Highlands Community Building\, 869 North 4th Street\, Highlands\, NC\, 28741\, United States
CATEGORIES:Community
ATTACH;FMTTYPE=image/jpeg:https://thelaurelmagazine.com/wp-content/uploads/2023/05/highlands-nc-highlands-historical-society-grand-opening.jpg
END:VEVENT
BEGIN:VEVENT
DTSTART;TZID=America/New_York:20250807T170000
DTEND;TZID=America/New_York:20250807T170000
DTSTAMP:20260426T000851
CREATED:20250623T151821Z
LAST-MODIFIED:20250623T151821Z
UID:91706-1754586000-1754586000@thelaurelmagazine.com
SUMMARY:Paint your Pet with CHHS at Highlands Community Building
DESCRIPTION:Cashiers Highlands Humane Society and PAWS Bryson City announce our second annual joint fundraiser to support the animals at our no-kill shelters! \nNo painting skills necessary! Chances are\, the less artistic you feel you may be\, the more fun you will have! Just send us a head shot photo of your pampered pet when you register below and our artist partner with Be a Light Painting will have customized for you that evening a line drawing sketch of your pet on a 16” x 16” canvas ready for you to paint! Brushes\, paints and aprons will all be supplied. \nJoin us for a fun-filled two hours of creativity and love for the four-legged members of our family! Attendance is limited\, so register early! Or show your support and get in on the fun becoming a Sponsor of one of the events. \nTo give our awesome artist partner with Be a Light Painting time to prepare your customized line drawing sketch of your pet based on the photo you submit\, the deadline to register for Paint Your Pet is Friday\, June 27th for the July events in Sapphire and Monday\, July 21st for the August event in Highlands! Reservations come in hot and fast for this wonderful event and attendance is limited\, so don’t delay! \nNet proceeds from this event will be split 50/50 with the Cashiers-Highlands Humane Society and PAWS Bryson City\, both 501(c)3 non-profit no-kill animal shelters rescuing\, caring for\, and finding forever homes for abandoned and neglected animals in western North Carolina. \nRAFFLE PRIZES: Thanks to our generous partners\, there will be some awesome prizes we will raffle during Paint Your Pet! So bring some extra bucks (raffle tickets are $10 each) to support the shelter pets and a chance to win some great prizes! \nCheck-In: 4:30pm | Event: 5:00-7:00pm\nEarly check-in is encouraged so you have the full two hours to paint your pet! \nFavorites Count: 0
URL:https://thelaurelmagazine.com/local-event/paint-your-pet-with-chhs-at-highlands-community-building
LOCATION:Highlands Community Building\, 869 North 4th Street\, Highlands\, NC\, 28741\, United States
CATEGORIES:Community
ATTACH;FMTTYPE=image/jpeg:https://thelaurelmagazine.com/wp-content/uploads/2025/06/cashiers-nc-highlands-humane-society-paint-your-pet.jpg
END:VEVENT
BEGIN:VEVENT
DTSTART;TZID=America/New_York:20250724T183000
DTEND;TZID=America/New_York:20250724T203000
DTSTAMP:20260426T000851
CREATED:20250616T202116Z
LAST-MODIFIED:20250616T202116Z
UID:91118-1753381800-1753389000@thelaurelmagazine.com
SUMMARY:Rotary Club Bingo at Highlands Community Building
DESCRIPTION:Join us for Rotary Club Bingo at Highlands Community Building. This month\, proceeds will benefit The Scaly Mountain Women’s Club. \nCome out and have some fun for our community! \nFavorites Count: 0
URL:https://thelaurelmagazine.com/local-event/rotary-club-bingo-at-highlands-community-building-3
LOCATION:Highlands Community Building\, 869 North 4th Street\, Highlands\, NC\, 28741\, United States
CATEGORIES:Community
ATTACH;FMTTYPE=image/jpeg:https://thelaurelmagazine.com/wp-content/uploads/2023/03/highlands-nc-highlands-rotary-club-highlands-community-building-rotary-bingo.jpg
END:VEVENT
BEGIN:VEVENT
DTSTART;TZID=America/New_York:20250612T110000
DTEND;TZID=America/New_York:20250612T140000
DTSTAMP:20260426T000851
CREATED:20250605T182452Z
LAST-MODIFIED:20250609T145610Z
UID:90073-1749726000-1749736800@thelaurelmagazine.com
SUMMARY:Volunteer Fair at Highlands Community Building
DESCRIPTION:Stop by to hear about opportunities to give time and talent to Highlands-area nonprofit organizations. This free event is organized and hosted by the Highlands Chamber of Commerce/Visit Highlands\, NC. \nFor more information call 828-526-2112 or go to visithighlandsnc.com. \nFavorites Count: 0
URL:https://thelaurelmagazine.com/local-event/volunteer-fair-at-highlands-recreation-park
LOCATION:Highlands Community Building\, 869 North 4th Street\, Highlands\, NC\, 28741\, United States
CATEGORIES:Community
ORGANIZER;CN="Highlands Chamber of Commerce":MAILTO:visitor@highlandschamber.org
END:VEVENT
BEGIN:VEVENT
DTSTART;TZID=America/New_York:20250626T180000
DTEND;TZID=America/New_York:20250626T203000
DTSTAMP:20260426T000851
CREATED:20250605T170206Z
LAST-MODIFIED:20250605T170206Z
UID:89999-1750960800-1750969800@thelaurelmagazine.com
SUMMARY:Rotary Club Bingo at Highlands Community Building
DESCRIPTION:Join us for Rotary Club Bingo at Highlands Community Building. This month\, proceeds will benefit The Gordon Center! \nCome out and have some fun for our community! \nFavorites Count: 0
URL:https://thelaurelmagazine.com/local-event/rotary-club-bingo-at-highlands-community-building-2
LOCATION:Highlands Community Building\, 869 North 4th Street\, Highlands\, NC\, 28741\, United States
CATEGORIES:Community
ATTACH;FMTTYPE=image/jpeg:https://thelaurelmagazine.com/wp-content/uploads/2023/11/highlands-nc-highlands-rec-center-rotary-bingo.jpg
END:VEVENT
END:VCALENDAR