BEGIN:VCALENDAR
VERSION:2.0
PRODID:-//Laurel Magazine - ECPv6.15.16//NONSGML v1.0//EN
CALSCALE:GREGORIAN
METHOD:PUBLISH
X-ORIGINAL-URL:https://thelaurelmagazine.com
X-WR-CALDESC:Events for Laurel Magazine
REFRESH-INTERVAL;VALUE=DURATION:PT1H
X-Robots-Tag:noindex
X-PUBLISHED-TTL:PT1H
BEGIN:VTIMEZONE
TZID:America/New_York
BEGIN:DAYLIGHT
TZOFFSETFROM:-0500
TZOFFSETTO:-0400
TZNAME:EDT
DTSTART:20250309T070000
END:DAYLIGHT
BEGIN:STANDARD
TZOFFSETFROM:-0400
TZOFFSETTO:-0500
TZNAME:EST
DTSTART:20251102T060000
END:STANDARD
BEGIN:DAYLIGHT
TZOFFSETFROM:-0500
TZOFFSETTO:-0400
TZNAME:EDT
DTSTART:20260308T070000
END:DAYLIGHT
BEGIN:STANDARD
TZOFFSETFROM:-0400
TZOFFSETTO:-0500
TZNAME:EST
DTSTART:20261101T060000
END:STANDARD
BEGIN:DAYLIGHT
TZOFFSETFROM:-0500
TZOFFSETTO:-0400
TZNAME:EDT
DTSTART:20270314T070000
END:DAYLIGHT
BEGIN:STANDARD
TZOFFSETFROM:-0400
TZOFFSETTO:-0500
TZNAME:EST
DTSTART:20271107T060000
END:STANDARD
END:VTIMEZONE
BEGIN:VEVENT
DTSTART;TZID=America/New_York:20260514T183000
DTEND;TZID=America/New_York:20260514T183000
DTSTAMP:20260425T152223
CREATED:20260223T165648Z
LAST-MODIFIED:20260223T165648Z
UID:115021-1778783400-1778783400@thelaurelmagazine.com
SUMMARY:May Rotary Club Bingo at Highlands Community Building
DESCRIPTION:This popular community event returns monthly on Thursday nights from 6:30–8:30 p.m.\, bringing neighbors together while supporting local charities and nonprofits. Each evening’s proceeds benefit a different organization\, making it a fun and meaningful way to give back to the Plateau. \nJoin us this month as we support Counseling Center of Highlands! \nThis month’s event will be held at Highlands Community Building. \nFavorites Count: 0
URL:https://thelaurelmagazine.com/local-event/may-rotary-club-bingo-at-highlands-community-building
LOCATION:Highlands Community Building\, 869 North 4th Street\, Highlands\, NC\, 28741\, United States
CATEGORIES:Community
ATTACH;FMTTYPE=image/jpeg:https://thelaurelmagazine.com/wp-content/uploads/2026/02/highlands-nc-comunity-rotary-club-bingo.jpg
END:VEVENT
BEGIN:VEVENT
DTSTART;TZID=America/New_York:20260611T183000
DTEND;TZID=America/New_York:20260611T183000
DTSTAMP:20260425T152223
CREATED:20260223T165957Z
LAST-MODIFIED:20260223T165957Z
UID:115023-1781202600-1781202600@thelaurelmagazine.com
SUMMARY:June Rotary Club Bingo at Highlands Community Building
DESCRIPTION:This popular community event returns monthly on Thursday nights from 6:30–8:30 p.m.\, bringing neighbors together while supporting local charities and nonprofits. Each evening’s proceeds benefit a different organization\, making it a fun and meaningful way to give back to the Plateau. \nJoin us this month as we support The Gordon Center ! \nThis month’s event will be held at Highlands Community Building. \nFavorites Count: 0
URL:https://thelaurelmagazine.com/local-event/june-rotary-club-bingo-at-highlands-community-building
LOCATION:Highlands Community Building\, 869 North 4th Street\, Highlands\, NC\, 28741\, United States
CATEGORIES:Community
ATTACH;FMTTYPE=image/jpeg:https://thelaurelmagazine.com/wp-content/uploads/2026/02/highlands-nc-comunity-rotary-club-bingo.jpg
END:VEVENT
BEGIN:VEVENT
DTSTART;TZID=America/New_York:20260813T183000
DTEND;TZID=America/New_York:20260813T183000
DTSTAMP:20260425T152223
CREATED:20260223T170618Z
LAST-MODIFIED:20260223T170618Z
UID:115025-1786645800-1786645800@thelaurelmagazine.com
SUMMARY:August Rotary Club Bingo at Highlands Community Building
DESCRIPTION:This popular community event returns monthly on Thursday nights from 6:30–8:30 p.m.\, bringing neighbors together while supporting local charities and nonprofits. Each evening’s proceeds benefit a different organization\, making it a fun and meaningful way to give back to the Plateau. \nJoin us this month as we support Scaly Mountain Women’s Club! \nThis month’s event will be held at Highlands Community Building. \nFavorites Count: 0
URL:https://thelaurelmagazine.com/local-event/august-rotary-club-bingo-at-highlands-community-building
LOCATION:Highlands Community Building\, 869 North 4th Street\, Highlands\, NC\, 28741\, United States
CATEGORIES:Community
ATTACH;FMTTYPE=image/jpeg:https://thelaurelmagazine.com/wp-content/uploads/2026/02/highlands-nc-comunity-rotary-club-bingo.jpg
END:VEVENT
BEGIN:VEVENT
DTSTART;TZID=America/New_York:20260910T183000
DTEND;TZID=America/New_York:20260910T183000
DTSTAMP:20260425T152223
CREATED:20260223T171855Z
LAST-MODIFIED:20260223T171855Z
UID:115028-1789065000-1789065000@thelaurelmagazine.com
SUMMARY:September Rotary Club Bingo at Highlands Community Building
DESCRIPTION:This popular community event returns monthly on Thursday nights from 6:30–8:30 p.m.\, bringing neighbors together while supporting local charities and nonprofits. Each evening’s proceeds benefit a different organization\, making it a fun and meaningful way to give back to the Plateau. \nJoin us this month as we support The Literacy and Learning Center of Highlands ! \nThis month’s event will be held at Highlands Community Building. \nFavorites Count: 0
URL:https://thelaurelmagazine.com/local-event/september-rotary-club-bingo-at-highlands-community-building
LOCATION:Highlands Community Building\, 869 North 4th Street\, Highlands\, NC\, 28741\, United States
CATEGORIES:Community
ATTACH;FMTTYPE=image/jpeg:https://thelaurelmagazine.com/wp-content/uploads/2026/02/highlands-nc-comunity-rotary-club-bingo.jpg
END:VEVENT
BEGIN:VEVENT
DTSTART;TZID=America/New_York:20261008T183000
DTEND;TZID=America/New_York:20261008T183000
DTSTAMP:20260425T152223
CREATED:20260223T172716Z
LAST-MODIFIED:20260223T172716Z
UID:115030-1791484200-1791484200@thelaurelmagazine.com
SUMMARY:October Rotary Club Bingo at Highlands Community Building
DESCRIPTION:This popular community event returns monthly on Thursday nights from 6:30–8:30 p.m.\, bringing neighbors together while supporting local charities and nonprofits. Each evening’s proceeds benefit a different organization\, making it a fun and meaningful way to give back to the Plateau. \nJoin us this month as we support Wreaths Across America! \nThis month’s event will be held at Highlands Community Building. \nFavorites Count: 0
URL:https://thelaurelmagazine.com/local-event/october-rotary-club-bingo-at-highlands-community-building
LOCATION:Highlands Community Building\, 869 North 4th Street\, Highlands\, NC\, 28741\, United States
CATEGORIES:Community
ATTACH;FMTTYPE=image/jpeg:https://thelaurelmagazine.com/wp-content/uploads/2026/02/highlands-nc-comunity-rotary-club-bingo.jpg
END:VEVENT
BEGIN:VEVENT
DTSTART;TZID=America/New_York:20261112T183000
DTEND;TZID=America/New_York:20261112T183000
DTSTAMP:20260425T152223
CREATED:20260223T173558Z
LAST-MODIFIED:20260223T173558Z
UID:115032-1794508200-1794508200@thelaurelmagazine.com
SUMMARY:November Rotary Club Bingo at Highlands Community Building
DESCRIPTION:This popular community event returns monthly on Thursday nights from 6:30–8:30 p.m.\, bringing neighbors together while supporting local charities and nonprofits. Each evening’s proceeds benefit a different organization\, making it a fun and meaningful way to give back to the Plateau. \nJoin us this month as we support Shop With a Cop! \nThis month’s event will be held at Highlands Community Building. \nFavorites Count: 0
URL:https://thelaurelmagazine.com/local-event/november-rotary-club-bingo-at-highlands-community-building
LOCATION:Highlands Community Building\, 869 North 4th Street\, Highlands\, NC\, 28741\, United States
CATEGORIES:Community
ATTACH;FMTTYPE=image/jpeg:https://thelaurelmagazine.com/wp-content/uploads/2026/02/highlands-nc-comunity-rotary-club-bingo.jpg
END:VEVENT
BEGIN:VEVENT
DTSTART;TZID=America/New_York:20261203T183000
DTEND;TZID=America/New_York:20261203T183000
DTSTAMP:20260425T152223
CREATED:20260223T200344Z
LAST-MODIFIED:20260223T200344Z
UID:115051-1796322600-1796322600@thelaurelmagazine.com
SUMMARY:December Rotary Club Bingo at Highlands Community Building
DESCRIPTION:This popular community event returns monthly on Thursday nights from 6:30–8:30 p.m.\, bringing neighbors together while supporting local charities and nonprofits. Each evening’s proceeds benefit a different organization\, making it a fun and meaningful way to give back to the Plateau. \nJoin us this month as we support Why Us Kids! \nThis month’s event will be held at Highlands Community Building. \nFavorites Count: 0
URL:https://thelaurelmagazine.com/local-event/december-rotary-club-bingo-at-highlands-community-building
LOCATION:Highlands Community Building\, 869 North 4th Street\, Highlands\, NC\, 28741\, United States
CATEGORIES:Community
ATTACH;FMTTYPE=image/jpeg:https://thelaurelmagazine.com/wp-content/uploads/2026/02/highlands-nc-comunity-rotary-club-bingo.jpg
END:VEVENT
BEGIN:VEVENT
DTSTART;TZID=America/New_York:20260520T113000
DTEND;TZID=America/New_York:20260520T130000
DTSTAMP:20260425T152223
CREATED:20260422T174719Z
LAST-MODIFIED:20260422T174719Z
UID:117347-1779276600-1779282000@thelaurelmagazine.com
SUMMARY:Highlands Chamber of Commerce | Lunch & Learn Sessions: A.I. at Highlands Community Building
DESCRIPTION:Curious how AI can transform your business?  \nThis introductory class explores the exciting ways artificial intelligence can streamline tasks\, improve decision-making\, and boost productivity. From chatbots to data analysis\, discover practical AI tools you can start using today to work smarter\, save time\, and gain a competitive edge in your industry. \nFavorites Count: 0
URL:https://thelaurelmagazine.com/local-event/highlands-chamber-of-commerce-lunch-learn-sessions-a-i-at-highlands-community-building
LOCATION:Highlands Community Building\, 869 North 4th Street\, Highlands\, NC\, 28741\, United States
CATEGORIES:Community,Education
ATTACH;FMTTYPE=image/jpeg:https://thelaurelmagazine.com/wp-content/uploads/2026/04/highlands-nc-chamber-commerce-lunch-learn-sessions-AI.jpg
ORGANIZER;CN="Highlands Chamber of Commerce":MAILTO:visitor@highlandschamber.org
END:VEVENT
END:VCALENDAR