BEGIN:VCALENDAR
VERSION:2.0
PRODID:-//Laurel Magazine - ECPv6.15.16//NONSGML v1.0//EN
CALSCALE:GREGORIAN
METHOD:PUBLISH
X-WR-CALNAME:Laurel Magazine
X-ORIGINAL-URL:https://thelaurelmagazine.com
X-WR-CALDESC:Events for Laurel Magazine
REFRESH-INTERVAL;VALUE=DURATION:PT1H
X-Robots-Tag:noindex
X-PUBLISHED-TTL:PT1H
BEGIN:VTIMEZONE
TZID:America/New_York
BEGIN:DAYLIGHT
TZOFFSETFROM:-0500
TZOFFSETTO:-0400
TZNAME:EDT
DTSTART:20250309T070000
END:DAYLIGHT
BEGIN:STANDARD
TZOFFSETFROM:-0400
TZOFFSETTO:-0500
TZNAME:EST
DTSTART:20251102T060000
END:STANDARD
BEGIN:DAYLIGHT
TZOFFSETFROM:-0500
TZOFFSETTO:-0400
TZNAME:EDT
DTSTART:20260308T070000
END:DAYLIGHT
BEGIN:STANDARD
TZOFFSETFROM:-0400
TZOFFSETTO:-0500
TZNAME:EST
DTSTART:20261101T060000
END:STANDARD
BEGIN:DAYLIGHT
TZOFFSETFROM:-0500
TZOFFSETTO:-0400
TZNAME:EDT
DTSTART:20270314T070000
END:DAYLIGHT
BEGIN:STANDARD
TZOFFSETFROM:-0400
TZOFFSETTO:-0500
TZNAME:EST
DTSTART:20271107T060000
END:STANDARD
END:VTIMEZONE
BEGIN:VEVENT
DTSTART;TZID=America/New_York:20260113T100000
DTEND;TZID=America/New_York:20260113T170000
DTSTAMP:20260421T002653
CREATED:20220608T200547Z
LAST-MODIFIED:20220608T200547Z
UID:112067-1768298400-1768323600@thelaurelmagazine.com
SUMMARY:Highlands Food Pantry | Open Hours
DESCRIPTION:In partnership with the Highlands United Methodist Church and the MANNA FoodBank\, the Highlands Food Pantry provides food assistance to residents of Highlands and the surrounding communities. \nThe pantry offers a variety of produce\, protein\, dairy\, grains and a wide selection of non-perishable items. We pride ourselves on our ability to provide clients with a bounty of healthy and nutritious items. Our partnership with MANNA Food Bank allows us to source large amounts of goods for an affordable price. \nFavorites Count: 0
URL:https://thelaurelmagazine.com/local-event/highlands-food-pantry/2026-01-13
LOCATION:Highlands United Methodist Church\, 315 Main St\, Highlands\, NC\, 28741\, United States
CATEGORIES:Community
ATTACH;FMTTYPE=image/jpeg:https://thelaurelmagazine.com/wp-content/uploads/2025/11/highlands-nc-food-pantry-tomatos.jpg
END:VEVENT
BEGIN:VEVENT
DTSTART;TZID=America/New_York:20260219T100000
DTEND;TZID=America/New_York:20260219T170000
DTSTAMP:20260421T002653
CREATED:20220608T200547Z
LAST-MODIFIED:20220608T200547Z
UID:112083-1771495200-1771520400@thelaurelmagazine.com
SUMMARY:Highlands Food Pantry | Open Hours
DESCRIPTION:In partnership with the Highlands United Methodist Church and the MANNA FoodBank\, the Highlands Food Pantry provides food assistance to residents of Highlands and the surrounding communities. \nThe pantry offers a variety of produce\, protein\, dairy\, grains and a wide selection of non-perishable items. We pride ourselves on our ability to provide clients with a bounty of healthy and nutritious items. Our partnership with MANNA Food Bank allows us to source large amounts of goods for an affordable price. \nFavorites Count: 0
URL:https://thelaurelmagazine.com/local-event/highlands-food-pantry/2026-02-19
LOCATION:Highlands United Methodist Church\, 315 Main St\, Highlands\, NC\, 28741\, United States
CATEGORIES:Community
ATTACH;FMTTYPE=image/jpeg:https://thelaurelmagazine.com/wp-content/uploads/2025/11/highlands-nc-food-pantry-tomatos.jpg
END:VEVENT
BEGIN:VEVENT
DTSTART;TZID=America/New_York:20260330T100000
DTEND;TZID=America/New_York:20260330T170000
DTSTAMP:20260421T002653
CREATED:20220608T200547Z
LAST-MODIFIED:20220608T200547Z
UID:112099-1774864800-1774890000@thelaurelmagazine.com
SUMMARY:Highlands Food Pantry | Open Hours
DESCRIPTION:In partnership with the Highlands United Methodist Church and the MANNA FoodBank\, the Highlands Food Pantry provides food assistance to residents of Highlands and the surrounding communities. \nThe pantry offers a variety of produce\, protein\, dairy\, grains and a wide selection of non-perishable items. We pride ourselves on our ability to provide clients with a bounty of healthy and nutritious items. Our partnership with MANNA Food Bank allows us to source large amounts of goods for an affordable price. \nFavorites Count: 0
URL:https://thelaurelmagazine.com/local-event/highlands-food-pantry/2026-03-30
LOCATION:Highlands United Methodist Church\, 315 Main St\, Highlands\, NC\, 28741\, United States
CATEGORIES:Community
ATTACH;FMTTYPE=image/jpeg:https://thelaurelmagazine.com/wp-content/uploads/2025/11/highlands-nc-food-pantry-tomatos.jpg
END:VEVENT
BEGIN:VEVENT
DTSTART;TZID=America/New_York:20260115T100000
DTEND;TZID=America/New_York:20260115T170000
DTSTAMP:20260421T002653
CREATED:20220608T200547Z
LAST-MODIFIED:20220608T200547Z
UID:112068-1768471200-1768496400@thelaurelmagazine.com
SUMMARY:Highlands Food Pantry | Open Hours
DESCRIPTION:In partnership with the Highlands United Methodist Church and the MANNA FoodBank\, the Highlands Food Pantry provides food assistance to residents of Highlands and the surrounding communities. \nThe pantry offers a variety of produce\, protein\, dairy\, grains and a wide selection of non-perishable items. We pride ourselves on our ability to provide clients with a bounty of healthy and nutritious items. Our partnership with MANNA Food Bank allows us to source large amounts of goods for an affordable price. \nFavorites Count: 0
URL:https://thelaurelmagazine.com/local-event/highlands-food-pantry/2026-01-15
LOCATION:Highlands United Methodist Church\, 315 Main St\, Highlands\, NC\, 28741\, United States
CATEGORIES:Community
ATTACH;FMTTYPE=image/jpeg:https://thelaurelmagazine.com/wp-content/uploads/2025/11/highlands-nc-food-pantry-tomatos.jpg
END:VEVENT
BEGIN:VEVENT
DTSTART;TZID=America/New_York:20260223T100000
DTEND;TZID=America/New_York:20260223T170000
DTSTAMP:20260421T002653
CREATED:20220608T200547Z
LAST-MODIFIED:20220608T200547Z
UID:112084-1771840800-1771866000@thelaurelmagazine.com
SUMMARY:Highlands Food Pantry | Open Hours
DESCRIPTION:In partnership with the Highlands United Methodist Church and the MANNA FoodBank\, the Highlands Food Pantry provides food assistance to residents of Highlands and the surrounding communities. \nThe pantry offers a variety of produce\, protein\, dairy\, grains and a wide selection of non-perishable items. We pride ourselves on our ability to provide clients with a bounty of healthy and nutritious items. Our partnership with MANNA Food Bank allows us to source large amounts of goods for an affordable price. \nFavorites Count: 0
URL:https://thelaurelmagazine.com/local-event/highlands-food-pantry/2026-02-23
LOCATION:Highlands United Methodist Church\, 315 Main St\, Highlands\, NC\, 28741\, United States
CATEGORIES:Community
ATTACH;FMTTYPE=image/jpeg:https://thelaurelmagazine.com/wp-content/uploads/2025/11/highlands-nc-food-pantry-tomatos.jpg
END:VEVENT
BEGIN:VEVENT
DTSTART;TZID=America/New_York:20260331T100000
DTEND;TZID=America/New_York:20260331T170000
DTSTAMP:20260421T002653
CREATED:20220608T200547Z
LAST-MODIFIED:20220608T200547Z
UID:112100-1774951200-1774976400@thelaurelmagazine.com
SUMMARY:Highlands Food Pantry | Open Hours
DESCRIPTION:In partnership with the Highlands United Methodist Church and the MANNA FoodBank\, the Highlands Food Pantry provides food assistance to residents of Highlands and the surrounding communities. \nThe pantry offers a variety of produce\, protein\, dairy\, grains and a wide selection of non-perishable items. We pride ourselves on our ability to provide clients with a bounty of healthy and nutritious items. Our partnership with MANNA Food Bank allows us to source large amounts of goods for an affordable price. \nFavorites Count: 0
URL:https://thelaurelmagazine.com/local-event/highlands-food-pantry/2026-03-31
LOCATION:Highlands United Methodist Church\, 315 Main St\, Highlands\, NC\, 28741\, United States
CATEGORIES:Community
ATTACH;FMTTYPE=image/jpeg:https://thelaurelmagazine.com/wp-content/uploads/2025/11/highlands-nc-food-pantry-tomatos.jpg
END:VEVENT
BEGIN:VEVENT
DTSTART;TZID=America/New_York:20260119T100000
DTEND;TZID=America/New_York:20260119T170000
DTSTAMP:20260421T002653
CREATED:20220608T200547Z
LAST-MODIFIED:20220608T200547Z
UID:112069-1768816800-1768842000@thelaurelmagazine.com
SUMMARY:Highlands Food Pantry | Open Hours
DESCRIPTION:In partnership with the Highlands United Methodist Church and the MANNA FoodBank\, the Highlands Food Pantry provides food assistance to residents of Highlands and the surrounding communities. \nThe pantry offers a variety of produce\, protein\, dairy\, grains and a wide selection of non-perishable items. We pride ourselves on our ability to provide clients with a bounty of healthy and nutritious items. Our partnership with MANNA Food Bank allows us to source large amounts of goods for an affordable price. \nFavorites Count: 0
URL:https://thelaurelmagazine.com/local-event/highlands-food-pantry/2026-01-19
LOCATION:Highlands United Methodist Church\, 315 Main St\, Highlands\, NC\, 28741\, United States
CATEGORIES:Community
ATTACH;FMTTYPE=image/jpeg:https://thelaurelmagazine.com/wp-content/uploads/2025/11/highlands-nc-food-pantry-tomatos.jpg
END:VEVENT
BEGIN:VEVENT
DTSTART;TZID=America/New_York:20260224T100000
DTEND;TZID=America/New_York:20260224T170000
DTSTAMP:20260421T002653
CREATED:20220608T200547Z
LAST-MODIFIED:20220608T200547Z
UID:112085-1771927200-1771952400@thelaurelmagazine.com
SUMMARY:Highlands Food Pantry | Open Hours
DESCRIPTION:In partnership with the Highlands United Methodist Church and the MANNA FoodBank\, the Highlands Food Pantry provides food assistance to residents of Highlands and the surrounding communities. \nThe pantry offers a variety of produce\, protein\, dairy\, grains and a wide selection of non-perishable items. We pride ourselves on our ability to provide clients with a bounty of healthy and nutritious items. Our partnership with MANNA Food Bank allows us to source large amounts of goods for an affordable price. \nFavorites Count: 0
URL:https://thelaurelmagazine.com/local-event/highlands-food-pantry/2026-02-24
LOCATION:Highlands United Methodist Church\, 315 Main St\, Highlands\, NC\, 28741\, United States
CATEGORIES:Community
ATTACH;FMTTYPE=image/jpeg:https://thelaurelmagazine.com/wp-content/uploads/2025/11/highlands-nc-food-pantry-tomatos.jpg
END:VEVENT
BEGIN:VEVENT
DTSTART;TZID=America/New_York:20260402T100000
DTEND;TZID=America/New_York:20260402T170000
DTSTAMP:20260421T002653
CREATED:20220608T200547Z
LAST-MODIFIED:20220608T200547Z
UID:112101-1775124000-1775149200@thelaurelmagazine.com
SUMMARY:Highlands Food Pantry | Open Hours
DESCRIPTION:In partnership with the Highlands United Methodist Church and the MANNA FoodBank\, the Highlands Food Pantry provides food assistance to residents of Highlands and the surrounding communities. \nThe pantry offers a variety of produce\, protein\, dairy\, grains and a wide selection of non-perishable items. We pride ourselves on our ability to provide clients with a bounty of healthy and nutritious items. Our partnership with MANNA Food Bank allows us to source large amounts of goods for an affordable price. \nFavorites Count: 0
URL:https://thelaurelmagazine.com/local-event/highlands-food-pantry/2026-04-02
LOCATION:Highlands United Methodist Church\, 315 Main St\, Highlands\, NC\, 28741\, United States
CATEGORIES:Community
ATTACH;FMTTYPE=image/jpeg:https://thelaurelmagazine.com/wp-content/uploads/2025/11/highlands-nc-food-pantry-tomatos.jpg
END:VEVENT
END:VCALENDAR