BEGIN:VCALENDAR
VERSION:2.0
PRODID:-//Laurel Magazine - ECPv6.15.16//NONSGML v1.0//EN
CALSCALE:GREGORIAN
METHOD:PUBLISH
X-WR-CALNAME:Laurel Magazine
X-ORIGINAL-URL:https://thelaurelmagazine.com
X-WR-CALDESC:Events for Laurel Magazine
REFRESH-INTERVAL;VALUE=DURATION:PT1H
X-Robots-Tag:noindex
X-PUBLISHED-TTL:PT1H
BEGIN:VTIMEZONE
TZID:America/New_York
BEGIN:DAYLIGHT
TZOFFSETFROM:-0500
TZOFFSETTO:-0400
TZNAME:EDT
DTSTART:20240310T070000
END:DAYLIGHT
BEGIN:STANDARD
TZOFFSETFROM:-0400
TZOFFSETTO:-0500
TZNAME:EST
DTSTART:20241103T060000
END:STANDARD
BEGIN:DAYLIGHT
TZOFFSETFROM:-0500
TZOFFSETTO:-0400
TZNAME:EDT
DTSTART:20250309T070000
END:DAYLIGHT
BEGIN:STANDARD
TZOFFSETFROM:-0400
TZOFFSETTO:-0500
TZNAME:EST
DTSTART:20251102T060000
END:STANDARD
BEGIN:DAYLIGHT
TZOFFSETFROM:-0500
TZOFFSETTO:-0400
TZNAME:EDT
DTSTART:20260308T070000
END:DAYLIGHT
BEGIN:STANDARD
TZOFFSETFROM:-0400
TZOFFSETTO:-0500
TZNAME:EST
DTSTART:20261101T060000
END:STANDARD
END:VTIMEZONE
BEGIN:VEVENT
DTSTART;TZID=America/New_York:20250607T120000
DTEND;TZID=America/New_York:20250607T170000
DTSTAMP:20260421T075816
CREATED:20250605T172625Z
LAST-MODIFIED:20250605T172625Z
UID:90023-1749297600-1749315600@thelaurelmagazine.com
SUMMARY:Artist Feature: Bill DeBilzan at Art Highlands Gallery
DESCRIPTION:William DeBilzan: The Art of Good vibes and Bold Journeys. \nArt Highlands Gallery introduces William’s globally celebrated work to the Blue Ridge Mountains. His presence offers residents and visitors alike the chance to engage with works of an artist who transcends borders and speaks to universal human experience. Visit Art Highlands and experience the immersive and loving creativity of William DeBilzan. \nFavorites Count: 0
URL:https://thelaurelmagazine.com/local-event/artist-feature-bill-debilzan-at-art-highlands-gallery/2025-06-07
LOCATION:Art Highlands\, 521 N 4th St\, Highlands\, NC\, 28741\, United States
CATEGORIES:Community,Visual Arts
ATTACH;FMTTYPE=image/jpeg:https://thelaurelmagazine.com/wp-content/uploads/2025/06/highlands-nc-art-highlands-gallery-Bill-DeBilzan.jpg
END:VEVENT
BEGIN:VEVENT
DTSTART;TZID=America/New_York:20250614T120000
DTEND;TZID=America/New_York:20250614T170000
DTSTAMP:20260421T075816
CREATED:20250605T172625Z
LAST-MODIFIED:20250605T172625Z
UID:90026-1749902400-1749920400@thelaurelmagazine.com
SUMMARY:Artist Feature: Bill DeBilzan at Art Highlands Gallery
DESCRIPTION:William DeBilzan: The Art of Good vibes and Bold Journeys. \nArt Highlands Gallery introduces William’s globally celebrated work to the Blue Ridge Mountains. His presence offers residents and visitors alike the chance to engage with works of an artist who transcends borders and speaks to universal human experience. Visit Art Highlands and experience the immersive and loving creativity of William DeBilzan. \nFavorites Count: 0
URL:https://thelaurelmagazine.com/local-event/artist-feature-bill-debilzan-at-art-highlands-gallery/2025-06-14
LOCATION:Art Highlands\, 521 N 4th St\, Highlands\, NC\, 28741\, United States
CATEGORIES:Community,Visual Arts
ATTACH;FMTTYPE=image/jpeg:https://thelaurelmagazine.com/wp-content/uploads/2025/06/highlands-nc-art-highlands-gallery-Bill-DeBilzan.jpg
END:VEVENT
BEGIN:VEVENT
DTSTART;TZID=America/New_York:20250621T120000
DTEND;TZID=America/New_York:20250621T170000
DTSTAMP:20260421T075816
CREATED:20250605T172625Z
LAST-MODIFIED:20250605T172625Z
UID:90027-1750507200-1750525200@thelaurelmagazine.com
SUMMARY:Artist Feature: Bill DeBilzan at Art Highlands Gallery
DESCRIPTION:William DeBilzan: The Art of Good vibes and Bold Journeys. \nArt Highlands Gallery introduces William’s globally celebrated work to the Blue Ridge Mountains. His presence offers residents and visitors alike the chance to engage with works of an artist who transcends borders and speaks to universal human experience. Visit Art Highlands and experience the immersive and loving creativity of William DeBilzan. \nFavorites Count: 0
URL:https://thelaurelmagazine.com/local-event/artist-feature-bill-debilzan-at-art-highlands-gallery/2025-06-21
LOCATION:Art Highlands\, 521 N 4th St\, Highlands\, NC\, 28741\, United States
CATEGORIES:Community,Visual Arts
ATTACH;FMTTYPE=image/jpeg:https://thelaurelmagazine.com/wp-content/uploads/2025/06/highlands-nc-art-highlands-gallery-Bill-DeBilzan.jpg
END:VEVENT
BEGIN:VEVENT
DTSTART;TZID=America/New_York:20250517T143000
DTEND;TZID=America/New_York:20250517T160000
DTSTAMP:20260421T075816
CREATED:20250515T004819Z
LAST-MODIFIED:20250515T004819Z
UID:89257-1747492200-1747497600@thelaurelmagazine.com
SUMMARY:High Style | Metal Art Demonstration with William Rogers at Art Highlands Gallery
DESCRIPTION:A High Style Event \nJoin us for a metal art demonstration by William Rogers at Art Highlands Gallery. \nFavorites Count: 0
URL:https://thelaurelmagazine.com/local-event/high-style-metal-art-demonstration-with-william-rogers-at-art-highlands-gallery
LOCATION:Art Highlands\, 521 N 4th St\, Highlands\, NC\, 28741\, United States
CATEGORIES:Community,Visual Arts
ATTACH;FMTTYPE=image/jpeg:https://thelaurelmagazine.com/wp-content/uploads/2025/05/highlands-nc-chamber-high-style-graphic.jpg
END:VEVENT
BEGIN:VEVENT
DTSTART;TZID=America/New_York:20250517T110000
DTEND;TZID=America/New_York:20250517T140000
DTSTAMP:20260421T075816
CREATED:20250512T211449Z
LAST-MODIFIED:20250512T211449Z
UID:89248-1747479600-1747490400@thelaurelmagazine.com
SUMMARY:High Style | Live Music with Lisa Rankin at Art Highlands Gallery
DESCRIPTION:A High Style Event Join us for live music with Lisa Rankin at Art Highlands Gallery. \nFavorites Count: 0
URL:https://thelaurelmagazine.com/local-event/high-style-live-music-with-lisa-rankin-at-art-highlands-gallery
LOCATION:Art Highlands\, 521 N 4th St\, Highlands\, NC\, 28741\, United States
CATEGORIES:Community,Live Music
END:VEVENT
END:VCALENDAR