BEGIN:VCALENDAR
VERSION:2.0
PRODID:-//Laurel Magazine - ECPv6.15.16//NONSGML v1.0//EN
CALSCALE:GREGORIAN
METHOD:PUBLISH
X-ORIGINAL-URL:https://thelaurelmagazine.com
X-WR-CALDESC:Events for Laurel Magazine
REFRESH-INTERVAL;VALUE=DURATION:PT1H
X-Robots-Tag:noindex
X-PUBLISHED-TTL:PT1H
BEGIN:VTIMEZONE
TZID:America/New_York
BEGIN:DAYLIGHT
TZOFFSETFROM:-0500
TZOFFSETTO:-0400
TZNAME:EDT
DTSTART:20240310T070000
END:DAYLIGHT
BEGIN:STANDARD
TZOFFSETFROM:-0400
TZOFFSETTO:-0500
TZNAME:EST
DTSTART:20241103T060000
END:STANDARD
BEGIN:DAYLIGHT
TZOFFSETFROM:-0500
TZOFFSETTO:-0400
TZNAME:EDT
DTSTART:20250309T070000
END:DAYLIGHT
BEGIN:STANDARD
TZOFFSETFROM:-0400
TZOFFSETTO:-0500
TZNAME:EST
DTSTART:20251102T060000
END:STANDARD
BEGIN:DAYLIGHT
TZOFFSETFROM:-0500
TZOFFSETTO:-0400
TZNAME:EDT
DTSTART:20260308T070000
END:DAYLIGHT
BEGIN:STANDARD
TZOFFSETFROM:-0400
TZOFFSETTO:-0500
TZNAME:EST
DTSTART:20261101T060000
END:STANDARD
END:VTIMEZONE
BEGIN:VEVENT
DTSTART;TZID=America/New_York:20251216T080000
DTEND;TZID=America/New_York:20251222T233000
DTSTAMP:20260419T193209
CREATED:20251217T182734Z
LAST-MODIFIED:20251217T182734Z
UID:107662-1765872000-1766446200@thelaurelmagazine.com
SUMMARY:Mr. Pickles Christmas Sweater Contest with The Park on Main
DESCRIPTION:The Mr. Pickles Christmas Sweater Contest starts NOW! \nHave a perfect sweater for your adorable pup? Now’s your chance to show it off! And guess what? You could WIN a FREE Night at The Park on Main in Highlands\, NC! The runner up will win a $100 gift certificate to The Park on Main. \nHere’s how (all rules must be followed): \n1. Post a picture of your dog(s) in their Christmas sweater on your Facebook or Instagram account- no professional photos\n2. Include the hashtag #POMSweaterSquad and tag The Park on Main.\n3. Tell us in your caption why your dog(s) deserve to win.\n4. Get your friends to like your post.\n5. Post your photo by 11:59pm on December 22 (EDST). \nThe winners will be announced on The Park on Main Facebook and Instagram pages Christmas morning. \n\n\n\n\n\n\n\nFavorites Count: 0
URL:https://thelaurelmagazine.com/local-event/mr-pickles-christmas-sweater-contest-with-the-park-on-main
LOCATION:Park on Main
CATEGORIES:Community
ATTACH;FMTTYPE=image/jpeg:https://thelaurelmagazine.com/wp-content/uploads/2025/12/highlands-nc-park-on-main-mr-pickles-sweater-contest.jpg
END:VEVENT
BEGIN:VEVENT
DTSTART;TZID=America/New_York:20251031T163000
DTEND;TZID=America/New_York:20251031T163000
DTSTAMP:20260419T193209
CREATED:20251005T174439Z
LAST-MODIFIED:20251005T174439Z
UID:102611-1761928200-1761928200@thelaurelmagazine.com
SUMMARY:Mr. Pickles' Howl-A-Ween Costume Contest at The Park on Main
DESCRIPTION:The excitement is building for the 2025 Mr. Pickles’ Howl-O-Ween Costume Contest.  \nJoin us for a tail-wagging good time from 4:30pm to 5:30pm\, with the winner announced at 5:15pm. Be sure to register your costumed pet with the judges at The Park on Main by 5pm. \nWe can’t wait to see all the pawsome creativity! \nFavorites Count: 0
URL:https://thelaurelmagazine.com/local-event/mr-pickles-howl-a-ween-costume-contest-at-the-park-on-main
LOCATION:Park on Main
CATEGORIES:Community
ATTACH;FMTTYPE=image/jpeg:https://thelaurelmagazine.com/wp-content/uploads/2025/10/highlands-nc-park-on-main-mr-pickles-howloween-contest.jpg
END:VEVENT
END:VCALENDAR