BEGIN:VCALENDAR
VERSION:2.0
PRODID:-//Laurel Magazine - ECPv6.15.16//NONSGML v1.0//EN
CALSCALE:GREGORIAN
METHOD:PUBLISH
X-ORIGINAL-URL:https://thelaurelmagazine.com
X-WR-CALDESC:Events for Laurel Magazine
REFRESH-INTERVAL;VALUE=DURATION:PT1H
X-Robots-Tag:noindex
X-PUBLISHED-TTL:PT1H
BEGIN:VTIMEZONE
TZID:America/New_York
BEGIN:DAYLIGHT
TZOFFSETFROM:-0500
TZOFFSETTO:-0400
TZNAME:EDT
DTSTART:20240310T070000
END:DAYLIGHT
BEGIN:STANDARD
TZOFFSETFROM:-0400
TZOFFSETTO:-0500
TZNAME:EST
DTSTART:20241103T060000
END:STANDARD
BEGIN:DAYLIGHT
TZOFFSETFROM:-0500
TZOFFSETTO:-0400
TZNAME:EDT
DTSTART:20250309T070000
END:DAYLIGHT
BEGIN:STANDARD
TZOFFSETFROM:-0400
TZOFFSETTO:-0500
TZNAME:EST
DTSTART:20251102T060000
END:STANDARD
BEGIN:DAYLIGHT
TZOFFSETFROM:-0500
TZOFFSETTO:-0400
TZNAME:EDT
DTSTART:20260308T070000
END:DAYLIGHT
BEGIN:STANDARD
TZOFFSETFROM:-0400
TZOFFSETTO:-0500
TZNAME:EST
DTSTART:20261101T060000
END:STANDARD
BEGIN:DAYLIGHT
TZOFFSETFROM:-0500
TZOFFSETTO:-0400
TZNAME:EDT
DTSTART:20270314T070000
END:DAYLIGHT
BEGIN:STANDARD
TZOFFSETFROM:-0400
TZOFFSETTO:-0500
TZNAME:EST
DTSTART:20271107T060000
END:STANDARD
END:VTIMEZONE
BEGIN:VEVENT
DTSTART;TZID=America/New_York:20260207T110000
DTEND;TZID=America/New_York:20260207T160000
DTSTAMP:20260419T175514
CREATED:20251209T203946Z
LAST-MODIFIED:20260127T201603Z
UID:107092-1770462000-1770480000@thelaurelmagazine.com
SUMMARY:The Great Sapphire Outhouse Race at Sapphire Valley Resort
DESCRIPTION:Toward the end of each ski season\, we all get a little restless and look for a bit of excitement\, so we decided to do what comes…naturally…race outhouses on ski’s down a hill. \nCrazy? Maybe\, dangerous? Perhaps\, fun? Without a doubt\, for a good cause? Definitely! \nWe are proud of our accomplishments and the fulfilling rewards of giving back to those that deserve it. This year all proceeds from the passionate push will be going to the Rotary Club of Cashiers Valley to benefit many local charities. Live music and food! \nNOW PUUUUSH!!! \nFor Information\, register your entry and volunteer queries: 828.743.1163 \nFavorites Count: 0
URL:https://thelaurelmagazine.com/local-event/the-great-sapphire-outhouse-race-at-sapphire-valley-resort
LOCATION:Sapphire Valley Resort\, 127 Cherokee Trail\, Sapphire\, NC\, 28774\, United States
CATEGORIES:Community
ATTACH;FMTTYPE=image/jpeg:https://thelaurelmagazine.com/wp-content/uploads/2025/12/sapphire-nc-sapphire-valley-resort-outhouse-race.jpg
END:VEVENT
BEGIN:VEVENT
DTSTART;TZID=America/New_York:20250831T190000
DTEND;TZID=America/New_York:20250831T190000
DTSTAMP:20260419T175514
CREATED:20250721T003336Z
LAST-MODIFIED:20250721T003336Z
UID:93362-1756666800-1756666800@thelaurelmagazine.com
SUMMARY:Sapphire Valley’s Concert on the Slopes with The Tonez at Sapphire Valley Resort
DESCRIPTION:Sapphire Valley Resorts’ Concert on the Slopes presents THE TONEZ! \nThe Tonez are the perfect package! A killer horn section\, SIX lead vocalists and energy that doesn’t stop.The Tonez are an 8 piece band dedicated to keeping crowds on their feet dancing and enjoying live music. Winners of the 2020 CBMA Rising Star Award you will dance the night away with this high energy\, fun packed band! \nBring a chair or blanket and listen to wonderful music on the SV Ski hill and under North Carolina Skies! \nFavorites Count: 0
URL:https://thelaurelmagazine.com/local-event/sapphire-valleys-concert-on-the-slopes-with-the-tonez-at-sapphire-valley-resort
LOCATION:Sapphire Valley Resort\, 127 Cherokee Trail\, Sapphire\, NC\, 28774\, United States
CATEGORIES:Live Music
ATTACH;FMTTYPE=image/jpeg:https://thelaurelmagazine.com/wp-content/uploads/2025/07/sapphire-nc-live-music-the-tonez.jpg
END:VEVENT
BEGIN:VEVENT
DTSTART;TZID=America/New_York:20250805T190000
DTEND;TZID=America/New_York:20250805T210000
DTSTAMP:20260419T175514
CREATED:20250715T170849Z
LAST-MODIFIED:20250715T170849Z
UID:93226-1754420400-1754427600@thelaurelmagazine.com
SUMMARY:Sapphire Valley’s Concert on the Slopes with TOO MUCH SYLVIA at Sapphire Valley Resort
DESCRIPTION:TOO MUCH SYLVIA have won many awards including their 2018 Cammy Award winning CD “Throw me a rope” and 2014’s “2MS”\, and continue to generate more fans through radio and internet airplay with the success of EIGHT #1 Songs since 2014! Combing their vocal blend and harmonies with their tight and tasteful musical arrangements and it’s a presentation that is  always appealing to dancers and listener at a comfortable sound level for everyone\, so grab your dancing shoes and let’s have a party! \nBring a chair or blanket and enjoy great music on the SV ski hill\, under the North Carolina Sky! \nFavorites Count: 0
URL:https://thelaurelmagazine.com/local-event/sapphire-valleys-concert-on-the-slopes-with-too-much-sylvia-at-sapphire-valley-resort
LOCATION:Sapphire Valley Resort\, 127 Cherokee Trail\, Sapphire\, NC\, 28774\, United States
CATEGORIES:Live Music
ATTACH;FMTTYPE=image/jpeg:https://thelaurelmagazine.com/wp-content/uploads/2023/07/cashiers-nc-sapphire-valley-resort-concerts-on-slope-too-much-sylvia.jpg
END:VEVENT
BEGIN:VEVENT
DTSTART;TZID=America/New_York:20250710T170000
DTEND;TZID=America/New_York:20250710T170000
DTSTAMP:20260419T175514
CREATED:20250623T151836Z
LAST-MODIFIED:20250623T151836Z
UID:91641-1752166800-1752166800@thelaurelmagazine.com
SUMMARY:Paint your Pet with CHHS at Sapphire Valley Resort Community Center
DESCRIPTION:Cashiers Highlands Humane Society and PAWS Bryson City announce our second annual joint fundraiser to support the animals at our no-kill shelters! \nNo painting skills necessary! Chances are\, the less artistic you feel you may be\, the more fun you will have! Just send us a head shot photo of your pampered pet when you register below and our artist partner with Be a Light Painting will have customized for you that evening a line drawing sketch of your pet on a 16” x 16” canvas ready for you to paint! Brushes\, paints and aprons will all be supplied. \nJoin us for a fun-filled two hours of creativity and love for the four-legged members of our family! Attendance is limited\, so register early! Or show your support and get in on the fun becoming a Sponsor of one of the events. \nTo give our awesome artist partner with Be a Light Painting time to prepare your customized line drawing sketch of your pet based on the photo you submit\, the deadline to register for Paint Your Pet is Friday\, June 27th for the July events in Sapphire and Monday\, July 21st for the August event in Highlands! Reservations come in hot and fast for this wonderful event and attendance is limited\, so don’t delay! \nNet proceeds from this event will be split 50/50 with the Cashiers-Highlands Humane Society and PAWS Bryson City\, both 501(c)3 non-profit no-kill animal shelters rescuing\, caring for\, and finding forever homes for abandoned and neglected animals in western North Carolina. \nRAFFLE PRIZES: Thanks to our generous partners\, there will be some awesome prizes we will raffle during Paint Your Pet! So bring some extra bucks (raffle tickets are $10 each) to support the shelter pets and a chance to win some great prizes! \nCheck-In: 4:30pm | Event: 5:00-7:00pm\nEarly check-in is encouraged so you have the full two hours to paint your pet! \nFavorites Count: 0
URL:https://thelaurelmagazine.com/local-event/paint-your-pet-with-chhs-at-sapphire-valley-resort-community-center/2025-07-10
LOCATION:Sapphire Valley Resort\, 127 Cherokee Trail\, Sapphire\, NC\, 28774\, United States
CATEGORIES:Community
ATTACH;FMTTYPE=image/jpeg:https://thelaurelmagazine.com/wp-content/uploads/2025/06/cashiers-nc-highlands-humane-society-paint-your-pet.jpg
END:VEVENT
BEGIN:VEVENT
DTSTART;TZID=America/New_York:20250711T170000
DTEND;TZID=America/New_York:20250711T170000
DTSTAMP:20260419T175514
CREATED:20250623T151836Z
LAST-MODIFIED:20250623T151836Z
UID:91710-1752253200-1752253200@thelaurelmagazine.com
SUMMARY:Paint your Pet with CHHS at Sapphire Valley Resort Community Center
DESCRIPTION:Cashiers Highlands Humane Society and PAWS Bryson City announce our second annual joint fundraiser to support the animals at our no-kill shelters! \nNo painting skills necessary! Chances are\, the less artistic you feel you may be\, the more fun you will have! Just send us a head shot photo of your pampered pet when you register below and our artist partner with Be a Light Painting will have customized for you that evening a line drawing sketch of your pet on a 16” x 16” canvas ready for you to paint! Brushes\, paints and aprons will all be supplied. \nJoin us for a fun-filled two hours of creativity and love for the four-legged members of our family! Attendance is limited\, so register early! Or show your support and get in on the fun becoming a Sponsor of one of the events. \nTo give our awesome artist partner with Be a Light Painting time to prepare your customized line drawing sketch of your pet based on the photo you submit\, the deadline to register for Paint Your Pet is Friday\, June 27th for the July events in Sapphire and Monday\, July 21st for the August event in Highlands! Reservations come in hot and fast for this wonderful event and attendance is limited\, so don’t delay! \nNet proceeds from this event will be split 50/50 with the Cashiers-Highlands Humane Society and PAWS Bryson City\, both 501(c)3 non-profit no-kill animal shelters rescuing\, caring for\, and finding forever homes for abandoned and neglected animals in western North Carolina. \nRAFFLE PRIZES: Thanks to our generous partners\, there will be some awesome prizes we will raffle during Paint Your Pet! So bring some extra bucks (raffle tickets are $10 each) to support the shelter pets and a chance to win some great prizes! \nCheck-In: 4:30pm | Event: 5:00-7:00pm\nEarly check-in is encouraged so you have the full two hours to paint your pet! \nFavorites Count: 0
URL:https://thelaurelmagazine.com/local-event/paint-your-pet-with-chhs-at-sapphire-valley-resort-community-center/2025-07-11
LOCATION:Sapphire Valley Resort\, 127 Cherokee Trail\, Sapphire\, NC\, 28774\, United States
CATEGORIES:Community
ATTACH;FMTTYPE=image/jpeg:https://thelaurelmagazine.com/wp-content/uploads/2025/06/cashiers-nc-highlands-humane-society-paint-your-pet.jpg
END:VEVENT
BEGIN:VEVENT
DTSTART;TZID=America/New_York:20250715T190000
DTEND;TZID=America/New_York:20250715T210000
DTSTAMP:20260419T175514
CREATED:20250618T172916Z
LAST-MODIFIED:20250618T172916Z
UID:91181-1752606000-1752613200@thelaurelmagazine.com
SUMMARY:Sapphire Valley’s Concert on the Slopes with The Embers at Sapphire Valley Resort
DESCRIPTION:Sapphire Valleys’ Concert on the Slopes featuring THE EMBERS! \nThe Embers boast numerous albums and single releases that span decades and all the crazes contininung to exhibit top quality showmanship\, musicanship and professionalism. South Carolina Beach Music Hall of Fame and South Carolina Rhythm and Blues Hall of Fame inductees! \nBring a chair or blanket and listen to great tunes on the SV ski hill under the North Carolina sky! \nFavorites Count: 0
URL:https://thelaurelmagazine.com/local-event/sapphire-valleys-concert-on-the-slopes-with-the-embers-at-sapphire-valley-resort
LOCATION:Sapphire Valley Resort\, 127 Cherokee Trail\, Sapphire\, NC\, 28774\, United States
CATEGORIES:Live Music
ATTACH;FMTTYPE=image/jpeg:https://thelaurelmagazine.com/wp-content/uploads/2025/06/sapphire-nc-concert-slopes-embers.jpg
END:VEVENT
BEGIN:VEVENT
DTSTART;TZID=America/New_York:20250704T110000
DTEND;TZID=America/New_York:20250704T160000
DTSTAMP:20260419T175514
CREATED:20250616T203607Z
LAST-MODIFIED:20250616T203607Z
UID:91127-1751626800-1751644800@thelaurelmagazine.com
SUMMARY:Yankee Doodle Dandy Day at Sapphire Valley Resort
DESCRIPTION:An ALL-DAY Celebration for AMERICA’S 248th BIRTHDAY!! \nActivities take place at The Recreation Center\, Athletic Field\, Community Center\, Racquet Club\, Boat Dock & Red Bird Golf. \nDucky Derby\, Live Music\, Games & Contests\, Snow Cones & Popcorn\, Pitch ‘n Putt Contest\, Tennis Tournament\, Food & Cold Drinks\, Kids Fun Zone! \nNO entry fee!! \nFavorites Count: 0
URL:https://thelaurelmagazine.com/local-event/yankee-doodle-dandy-day-at-sapphire-valley-resort
LOCATION:Sapphire Valley Resort\, 127 Cherokee Trail\, Sapphire\, NC\, 28774\, United States
CATEGORIES:Community
END:VEVENT
BEGIN:VEVENT
DTSTART;TZID=America/New_York:20250624T190000
DTEND;TZID=America/New_York:20250624T210000
DTSTAMP:20260419T175514
CREATED:20250610T172945Z
LAST-MODIFIED:20250610T173119Z
UID:90745-1750791600-1750798800@thelaurelmagazine.com
SUMMARY:Sapphire Valley’s Concert on the Slopes with The Legacy Motown Revue at Sapphire Valley Resort
DESCRIPTION:The Legacy Motown Revue- The ultimate motown tribute! Paying tribute to legendary icons of Motown! Four talented performers dance and sing\, plus an amazing six piece horn band\, transporting you back in time to one of the most influential periods of American musical history. \nPerforming hits by:\nEarth\, Wind & Fire!\nThe Drifters!\nThe Coasters!\nThe Temptations and SO many more!!! \nBring a chair or blanket and listen to wonderful music on the SV Ski hill and under North Carolina Skies! \nFavorites Count: 0
URL:https://thelaurelmagazine.com/local-event/sapphire-valleys-concert-on-the-slopes-with-the-legacy-motown-revue-at-sapphire-valley-resort
LOCATION:Sapphire Valley Resort\, 127 Cherokee Trail\, Sapphire\, NC\, 28774\, United States
CATEGORIES:Live Music
END:VEVENT
BEGIN:VEVENT
DTSTART;TZID=America/New_York:20250614T100000
DTEND;TZID=America/New_York:20250614T160000
DTSTAMP:20260419T175514
CREATED:20250609T171156Z
LAST-MODIFIED:20250609T171529Z
UID:90635-1749895200-1749916800@thelaurelmagazine.com
SUMMARY:Sapphire Valley Resorts’ Arts & Crafts Festival
DESCRIPTION:Sapphire Valley Resorts’® Arts & Crafts Festivals are a great family event! There’s much to explore – local handmade mountain crafts\, quality folk art\, live music\, fine jewelry\, Humane Society Adoptions\, and much more! Adjacent to vendor tents\, the resort playground provides fun outdoor playtime for the entire family. Kids can also enjoy Corn Hole\, Kerplunk\, and Buckets of Bubble Mix for kids to blow bubbles! Bring the kids\, dogs\, and explore something new! \nFavorites Count: 0
URL:https://thelaurelmagazine.com/local-event/sapphire-valley-resorts-arts-crafts-festival/2025-06-14
LOCATION:Sapphire Valley Resort\, 127 Cherokee Trail\, Sapphire\, NC\, 28774\, United States
CATEGORIES:Community,Shopping
ATTACH;FMTTYPE=image/jpeg:https://thelaurelmagazine.com/wp-content/uploads/2023/10/Sapphire-Valley-Arts-Crafts-Festival.jpg
END:VEVENT
BEGIN:VEVENT
DTSTART;TZID=America/New_York:20250615T100000
DTEND;TZID=America/New_York:20250615T160000
DTSTAMP:20260419T175514
CREATED:20250609T171156Z
LAST-MODIFIED:20250609T171537Z
UID:90636-1749981600-1750003200@thelaurelmagazine.com
SUMMARY:Sapphire Valley Resorts’ Arts & Crafts Festival
DESCRIPTION:Sapphire Valley Resorts’® Arts & Crafts Festivals are a great family event! There’s much to explore – local handmade mountain crafts\, quality folk art\, live music\, fine jewelry\, Humane Society Adoptions\, and much more! Adjacent to vendor tents\, the resort playground provides fun outdoor playtime for the entire family. Kids can also enjoy Corn Hole\, Kerplunk\, and Buckets of Bubble Mix for kids to blow bubbles! Bring the kids\, dogs\, and explore something new! \nFavorites Count: 0
URL:https://thelaurelmagazine.com/local-event/sapphire-valley-resorts-arts-crafts-festival/2025-06-15
LOCATION:Sapphire Valley Resort\, 127 Cherokee Trail\, Sapphire\, NC\, 28774\, United States
CATEGORIES:Community,Shopping
ATTACH;FMTTYPE=image/jpeg:https://thelaurelmagazine.com/wp-content/uploads/2023/10/Sapphire-Valley-Arts-Crafts-Festival.jpg
END:VEVENT
END:VCALENDAR