BEGIN:VCALENDAR
VERSION:2.0
PRODID:-//Laurel Magazine - ECPv6.15.16//NONSGML v1.0//EN
CALSCALE:GREGORIAN
METHOD:PUBLISH
X-WR-CALNAME:Laurel Magazine
X-ORIGINAL-URL:https://thelaurelmagazine.com
X-WR-CALDESC:Events for Laurel Magazine
REFRESH-INTERVAL;VALUE=DURATION:PT1H
X-Robots-Tag:noindex
X-PUBLISHED-TTL:PT1H
BEGIN:VTIMEZONE
TZID:America/New_York
BEGIN:DAYLIGHT
TZOFFSETFROM:-0500
TZOFFSETTO:-0400
TZNAME:EDT
DTSTART:20240310T070000
END:DAYLIGHT
BEGIN:STANDARD
TZOFFSETFROM:-0400
TZOFFSETTO:-0500
TZNAME:EST
DTSTART:20241103T060000
END:STANDARD
BEGIN:DAYLIGHT
TZOFFSETFROM:-0500
TZOFFSETTO:-0400
TZNAME:EDT
DTSTART:20250309T070000
END:DAYLIGHT
BEGIN:STANDARD
TZOFFSETFROM:-0400
TZOFFSETTO:-0500
TZNAME:EST
DTSTART:20251102T060000
END:STANDARD
BEGIN:DAYLIGHT
TZOFFSETFROM:-0500
TZOFFSETTO:-0400
TZNAME:EDT
DTSTART:20260308T070000
END:DAYLIGHT
BEGIN:STANDARD
TZOFFSETFROM:-0400
TZOFFSETTO:-0500
TZNAME:EST
DTSTART:20261101T060000
END:STANDARD
END:VTIMEZONE
BEGIN:VEVENT
DTSTART;TZID=America/New_York:20251128T100000
DTEND;TZID=America/New_York:20251128T170000
DTSTAMP:20260420T112148
CREATED:20251030T132941Z
LAST-MODIFIED:20251030T132941Z
UID:104901-1764324000-1764349200@thelaurelmagazine.com
SUMMARY:Cashiers' Festival of Trees at Summit Charter School
DESCRIPTION:Cashiers Festival of Trees is a family-friendly event during Thanksgiving weekend featuring decorated trees\, wreaths\, gift baskets\, holiday shopping\, children crafts\, story time\, rivalry weekend football viewings\, entertaining performances\, and a pop-up O.P Taylor’s Teddy Bear Workshop. \nFavorites Count: 0
URL:https://thelaurelmagazine.com/local-event/cashiers-festival-of-trees-at-summit-charter-school-2/2025-11-28
LOCATION:Summit Charter School\, 370 Mitten Ln\, Cashiers\, NC\, 28717\, United States
CATEGORIES:Community
ATTACH;FMTTYPE=image/jpeg:https://thelaurelmagazine.com/wp-content/uploads/2025/10/cashiers-nc-summit-charter-festival-to-the-trees.jpg
END:VEVENT
BEGIN:VEVENT
DTSTART;TZID=America/New_York:20251129T100000
DTEND;TZID=America/New_York:20251129T170000
DTSTAMP:20260420T112148
CREATED:20251030T132941Z
LAST-MODIFIED:20251030T132941Z
UID:104904-1764410400-1764435600@thelaurelmagazine.com
SUMMARY:Cashiers' Festival of Trees at Summit Charter School
DESCRIPTION:Cashiers Festival of Trees is a family-friendly event during Thanksgiving weekend featuring decorated trees\, wreaths\, gift baskets\, holiday shopping\, children crafts\, story time\, rivalry weekend football viewings\, entertaining performances\, and a pop-up O.P Taylor’s Teddy Bear Workshop. \nFavorites Count: 0
URL:https://thelaurelmagazine.com/local-event/cashiers-festival-of-trees-at-summit-charter-school-2/2025-11-29
LOCATION:Summit Charter School\, 370 Mitten Ln\, Cashiers\, NC\, 28717\, United States
CATEGORIES:Community
ATTACH;FMTTYPE=image/jpeg:https://thelaurelmagazine.com/wp-content/uploads/2025/10/cashiers-nc-summit-charter-festival-to-the-trees.jpg
END:VEVENT
END:VCALENDAR