BEGIN:VCALENDAR
VERSION:2.0
PRODID:-//Laurel Magazine - ECPv6.15.16//NONSGML v1.0//EN
CALSCALE:GREGORIAN
METHOD:PUBLISH
X-WR-CALNAME:Laurel Magazine
X-ORIGINAL-URL:https://thelaurelmagazine.com
X-WR-CALDESC:Events for Laurel Magazine
REFRESH-INTERVAL;VALUE=DURATION:PT1H
X-Robots-Tag:noindex
X-PUBLISHED-TTL:PT1H
BEGIN:VTIMEZONE
TZID:America/New_York
BEGIN:DAYLIGHT
TZOFFSETFROM:-0500
TZOFFSETTO:-0400
TZNAME:EDT
DTSTART:20250309T070000
END:DAYLIGHT
BEGIN:STANDARD
TZOFFSETFROM:-0400
TZOFFSETTO:-0500
TZNAME:EST
DTSTART:20251102T060000
END:STANDARD
BEGIN:DAYLIGHT
TZOFFSETFROM:-0500
TZOFFSETTO:-0400
TZNAME:EDT
DTSTART:20260308T070000
END:DAYLIGHT
BEGIN:STANDARD
TZOFFSETFROM:-0400
TZOFFSETTO:-0500
TZNAME:EST
DTSTART:20261101T060000
END:STANDARD
BEGIN:DAYLIGHT
TZOFFSETFROM:-0500
TZOFFSETTO:-0400
TZNAME:EDT
DTSTART:20270314T070000
END:DAYLIGHT
BEGIN:STANDARD
TZOFFSETFROM:-0400
TZOFFSETTO:-0500
TZNAME:EST
DTSTART:20271107T060000
END:STANDARD
BEGIN:DAYLIGHT
TZOFFSETFROM:-0500
TZOFFSETTO:-0400
TZNAME:EDT
DTSTART:20280312T070000
END:DAYLIGHT
BEGIN:STANDARD
TZOFFSETFROM:-0400
TZOFFSETTO:-0500
TZNAME:EST
DTSTART:20281105T060000
END:STANDARD
BEGIN:DAYLIGHT
TZOFFSETFROM:-0500
TZOFFSETTO:-0400
TZNAME:EDT
DTSTART:20290311T070000
END:DAYLIGHT
BEGIN:STANDARD
TZOFFSETFROM:-0400
TZOFFSETTO:-0500
TZNAME:EST
DTSTART:20291104T060000
END:STANDARD
END:VTIMEZONE
BEGIN:VEVENT
DTSTART;TZID=America/New_York:20270619T100000
DTEND;TZID=America/New_York:20270619T120000
DTSTAMP:20260422T145027
CREATED:20250731T142921Z
LAST-MODIFIED:20250731T142921Z
UID:110784-1813399200-1813406400@thelaurelmagazine.com
SUMMARY:Fiber Club at The Bascom
DESCRIPTION:The Bascom’s Fiber Club is made up of an enthusiastic community of fiber artists who come together weekly to share patterns and stories at The Bascom. Meetings take place on the Terrace. \nIn inclement weather\, the group moves inside to the Library\, but their enthusiasm is never dampened. \nFavorites Count: 0
URL:https://thelaurelmagazine.com/local-event/fiber-club-at-the-bascom-2/2027-06-19
LOCATION:The Bascom\, 323 Franklin Rd\, Highlands\, NC\, 28741\, United States
CATEGORIES:Community,Visual Arts
ATTACH;FMTTYPE=image/jpeg:https://thelaurelmagazine.com/wp-content/uploads/2025/07/highlands-nc-bascom-fiber-club-1.jpg
END:VEVENT
BEGIN:VEVENT
DTSTART;TZID=America/New_York:20270731T100000
DTEND;TZID=America/New_York:20270731T120000
DTSTAMP:20260422T145027
CREATED:20250731T142921Z
LAST-MODIFIED:20250731T142921Z
UID:94423-1817028000-1817035200@thelaurelmagazine.com
SUMMARY:Fiber Club at The Bascom
DESCRIPTION:The Bascom’s Fiber Club is made up of an enthusiastic community of fiber artists who come together weekly to share patterns and stories at The Bascom. Meetings take place on the Terrace. \nIn inclement weather\, the group moves inside to the Library\, but their enthusiasm is never dampened. \nFavorites Count: 0
URL:https://thelaurelmagazine.com/local-event/fiber-club-at-the-bascom-2/2027-07-31
LOCATION:The Bascom\, 323 Franklin Rd\, Highlands\, NC\, 28741\, United States
CATEGORIES:Community,Visual Arts
ATTACH;FMTTYPE=image/jpeg:https://thelaurelmagazine.com/wp-content/uploads/2025/07/highlands-nc-bascom-fiber-club-1.jpg
END:VEVENT
BEGIN:VEVENT
DTSTART;TZID=America/New_York:20271120T100000
DTEND;TZID=America/New_York:20271120T120000
DTSTAMP:20260422T145027
CREATED:20250731T142921Z
LAST-MODIFIED:20250731T142921Z
UID:105813-1826704800-1826712000@thelaurelmagazine.com
SUMMARY:Fiber Club at The Bascom
DESCRIPTION:The Bascom’s Fiber Club is made up of an enthusiastic community of fiber artists who come together weekly to share patterns and stories at The Bascom. Meetings take place on the Terrace. \nIn inclement weather\, the group moves inside to the Library\, but their enthusiasm is never dampened. \nFavorites Count: 0
URL:https://thelaurelmagazine.com/local-event/fiber-club-at-the-bascom-2/2027-11-20
LOCATION:The Bascom\, 323 Franklin Rd\, Highlands\, NC\, 28741\, United States
CATEGORIES:Community,Visual Arts
ATTACH;FMTTYPE=image/jpeg:https://thelaurelmagazine.com/wp-content/uploads/2025/07/highlands-nc-bascom-fiber-club-1.jpg
END:VEVENT
BEGIN:VEVENT
DTSTART;TZID=America/New_York:20260725T100000
DTEND;TZID=America/New_York:20260725T120000
DTSTAMP:20260422T145027
CREATED:20250731T142921Z
LAST-MODIFIED:20250731T142921Z
UID:110737-1784973600-1784980800@thelaurelmagazine.com
SUMMARY:Fiber Club at The Bascom
DESCRIPTION:The Bascom’s Fiber Club is made up of an enthusiastic community of fiber artists who come together weekly to share patterns and stories at The Bascom. Meetings take place on the Terrace. \nIn inclement weather\, the group moves inside to the Library\, but their enthusiasm is never dampened. \nFavorites Count: 0
URL:https://thelaurelmagazine.com/local-event/fiber-club-at-the-bascom-2/2026-07-25
LOCATION:The Bascom\, 323 Franklin Rd\, Highlands\, NC\, 28741\, United States
CATEGORIES:Community,Visual Arts
ATTACH;FMTTYPE=image/jpeg:https://thelaurelmagazine.com/wp-content/uploads/2025/07/highlands-nc-bascom-fiber-club-1.jpg
END:VEVENT
BEGIN:VEVENT
DTSTART;TZID=America/New_York:20261114T100000
DTEND;TZID=America/New_York:20261114T120000
DTSTAMP:20260422T145027
CREATED:20250731T142921Z
LAST-MODIFIED:20250731T142921Z
UID:110753-1794650400-1794657600@thelaurelmagazine.com
SUMMARY:Fiber Club at The Bascom
DESCRIPTION:The Bascom’s Fiber Club is made up of an enthusiastic community of fiber artists who come together weekly to share patterns and stories at The Bascom. Meetings take place on the Terrace. \nIn inclement weather\, the group moves inside to the Library\, but their enthusiasm is never dampened. \nFavorites Count: 0
URL:https://thelaurelmagazine.com/local-event/fiber-club-at-the-bascom-2/2026-11-14
LOCATION:The Bascom\, 323 Franklin Rd\, Highlands\, NC\, 28741\, United States
CATEGORIES:Community,Visual Arts
ATTACH;FMTTYPE=image/jpeg:https://thelaurelmagazine.com/wp-content/uploads/2025/07/highlands-nc-bascom-fiber-club-1.jpg
END:VEVENT
BEGIN:VEVENT
DTSTART;TZID=America/New_York:20270306T100000
DTEND;TZID=America/New_York:20270306T120000
DTSTAMP:20260422T145027
CREATED:20250731T142921Z
LAST-MODIFIED:20250731T142921Z
UID:110769-1804327200-1804334400@thelaurelmagazine.com
SUMMARY:Fiber Club at The Bascom
DESCRIPTION:The Bascom’s Fiber Club is made up of an enthusiastic community of fiber artists who come together weekly to share patterns and stories at The Bascom. Meetings take place on the Terrace. \nIn inclement weather\, the group moves inside to the Library\, but their enthusiasm is never dampened. \nFavorites Count: 0
URL:https://thelaurelmagazine.com/local-event/fiber-club-at-the-bascom-2/2027-03-06
LOCATION:The Bascom\, 323 Franklin Rd\, Highlands\, NC\, 28741\, United States
CATEGORIES:Community,Visual Arts
ATTACH;FMTTYPE=image/jpeg:https://thelaurelmagazine.com/wp-content/uploads/2025/07/highlands-nc-bascom-fiber-club-1.jpg
END:VEVENT
BEGIN:VEVENT
DTSTART;TZID=America/New_York:20270626T100000
DTEND;TZID=America/New_York:20270626T120000
DTSTAMP:20260422T145027
CREATED:20250731T142921Z
LAST-MODIFIED:20250731T142921Z
UID:110785-1814004000-1814011200@thelaurelmagazine.com
SUMMARY:Fiber Club at The Bascom
DESCRIPTION:The Bascom’s Fiber Club is made up of an enthusiastic community of fiber artists who come together weekly to share patterns and stories at The Bascom. Meetings take place on the Terrace. \nIn inclement weather\, the group moves inside to the Library\, but their enthusiasm is never dampened. \nFavorites Count: 0
URL:https://thelaurelmagazine.com/local-event/fiber-club-at-the-bascom-2/2027-06-26
LOCATION:The Bascom\, 323 Franklin Rd\, Highlands\, NC\, 28741\, United States
CATEGORIES:Community,Visual Arts
ATTACH;FMTTYPE=image/jpeg:https://thelaurelmagazine.com/wp-content/uploads/2025/07/highlands-nc-bascom-fiber-club-1.jpg
END:VEVENT
BEGIN:VEVENT
DTSTART;TZID=America/New_York:20280226T100000
DTEND;TZID=America/New_York:20280226T120000
DTSTAMP:20260422T145027
CREATED:20250731T142921Z
LAST-MODIFIED:20250731T142921Z
UID:115878-1835172000-1835179200@thelaurelmagazine.com
SUMMARY:Fiber Club at The Bascom
DESCRIPTION:The Bascom’s Fiber Club is made up of an enthusiastic community of fiber artists who come together weekly to share patterns and stories at The Bascom. Meetings take place on the Terrace. \nIn inclement weather\, the group moves inside to the Library\, but their enthusiasm is never dampened. \nFavorites Count: 0
URL:https://thelaurelmagazine.com/local-event/fiber-club-at-the-bascom-2/2028-02-26
LOCATION:The Bascom\, 323 Franklin Rd\, Highlands\, NC\, 28741\, United States
CATEGORIES:Community,Visual Arts
ATTACH;FMTTYPE=image/jpeg:https://thelaurelmagazine.com/wp-content/uploads/2025/07/highlands-nc-bascom-fiber-club-1.jpg
END:VEVENT
BEGIN:VEVENT
DTSTART;TZID=America/New_York:20270807T100000
DTEND;TZID=America/New_York:20270807T120000
DTSTAMP:20260422T145027
CREATED:20250731T142921Z
LAST-MODIFIED:20250731T142921Z
UID:95314-1817632800-1817640000@thelaurelmagazine.com
SUMMARY:Fiber Club at The Bascom
DESCRIPTION:The Bascom’s Fiber Club is made up of an enthusiastic community of fiber artists who come together weekly to share patterns and stories at The Bascom. Meetings take place on the Terrace. \nIn inclement weather\, the group moves inside to the Library\, but their enthusiasm is never dampened. \nFavorites Count: 0
URL:https://thelaurelmagazine.com/local-event/fiber-club-at-the-bascom-2/2027-08-07
LOCATION:The Bascom\, 323 Franklin Rd\, Highlands\, NC\, 28741\, United States
CATEGORIES:Community,Visual Arts
ATTACH;FMTTYPE=image/jpeg:https://thelaurelmagazine.com/wp-content/uploads/2025/07/highlands-nc-bascom-fiber-club-1.jpg
END:VEVENT
BEGIN:VEVENT
DTSTART;TZID=America/New_York:20271127T100000
DTEND;TZID=America/New_York:20271127T120000
DTSTAMP:20260422T145027
CREATED:20250731T142921Z
LAST-MODIFIED:20250731T142921Z
UID:106143-1827309600-1827316800@thelaurelmagazine.com
SUMMARY:Fiber Club at The Bascom
DESCRIPTION:The Bascom’s Fiber Club is made up of an enthusiastic community of fiber artists who come together weekly to share patterns and stories at The Bascom. Meetings take place on the Terrace. \nIn inclement weather\, the group moves inside to the Library\, but their enthusiasm is never dampened. \nFavorites Count: 0
URL:https://thelaurelmagazine.com/local-event/fiber-club-at-the-bascom-2/2027-11-27
LOCATION:The Bascom\, 323 Franklin Rd\, Highlands\, NC\, 28741\, United States
CATEGORIES:Community,Visual Arts
ATTACH;FMTTYPE=image/jpeg:https://thelaurelmagazine.com/wp-content/uploads/2025/07/highlands-nc-bascom-fiber-club-1.jpg
END:VEVENT
BEGIN:VEVENT
DTSTART;TZID=America/New_York:20260801T100000
DTEND;TZID=America/New_York:20260801T120000
DTSTAMP:20260422T145027
CREATED:20250731T142921Z
LAST-MODIFIED:20250731T142921Z
UID:110738-1785578400-1785585600@thelaurelmagazine.com
SUMMARY:Fiber Club at The Bascom
DESCRIPTION:The Bascom’s Fiber Club is made up of an enthusiastic community of fiber artists who come together weekly to share patterns and stories at The Bascom. Meetings take place on the Terrace. \nIn inclement weather\, the group moves inside to the Library\, but their enthusiasm is never dampened. \nFavorites Count: 0
URL:https://thelaurelmagazine.com/local-event/fiber-club-at-the-bascom-2/2026-08-01
LOCATION:The Bascom\, 323 Franklin Rd\, Highlands\, NC\, 28741\, United States
CATEGORIES:Community,Visual Arts
ATTACH;FMTTYPE=image/jpeg:https://thelaurelmagazine.com/wp-content/uploads/2025/07/highlands-nc-bascom-fiber-club-1.jpg
END:VEVENT
BEGIN:VEVENT
DTSTART;TZID=America/New_York:20261121T100000
DTEND;TZID=America/New_York:20261121T120000
DTSTAMP:20260422T145027
CREATED:20250731T142921Z
LAST-MODIFIED:20250731T142921Z
UID:110754-1795255200-1795262400@thelaurelmagazine.com
SUMMARY:Fiber Club at The Bascom
DESCRIPTION:The Bascom’s Fiber Club is made up of an enthusiastic community of fiber artists who come together weekly to share patterns and stories at The Bascom. Meetings take place on the Terrace. \nIn inclement weather\, the group moves inside to the Library\, but their enthusiasm is never dampened. \nFavorites Count: 0
URL:https://thelaurelmagazine.com/local-event/fiber-club-at-the-bascom-2/2026-11-21
LOCATION:The Bascom\, 323 Franklin Rd\, Highlands\, NC\, 28741\, United States
CATEGORIES:Community,Visual Arts
ATTACH;FMTTYPE=image/jpeg:https://thelaurelmagazine.com/wp-content/uploads/2025/07/highlands-nc-bascom-fiber-club-1.jpg
END:VEVENT
BEGIN:VEVENT
DTSTART;TZID=America/New_York:20270313T100000
DTEND;TZID=America/New_York:20270313T120000
DTSTAMP:20260422T145027
CREATED:20250731T142921Z
LAST-MODIFIED:20250731T142921Z
UID:110770-1804932000-1804939200@thelaurelmagazine.com
SUMMARY:Fiber Club at The Bascom
DESCRIPTION:The Bascom’s Fiber Club is made up of an enthusiastic community of fiber artists who come together weekly to share patterns and stories at The Bascom. Meetings take place on the Terrace. \nIn inclement weather\, the group moves inside to the Library\, but their enthusiasm is never dampened. \nFavorites Count: 0
URL:https://thelaurelmagazine.com/local-event/fiber-club-at-the-bascom-2/2027-03-13
LOCATION:The Bascom\, 323 Franklin Rd\, Highlands\, NC\, 28741\, United States
CATEGORIES:Community,Visual Arts
ATTACH;FMTTYPE=image/jpeg:https://thelaurelmagazine.com/wp-content/uploads/2025/07/highlands-nc-bascom-fiber-club-1.jpg
END:VEVENT
BEGIN:VEVENT
DTSTART;TZID=America/New_York:20270703T100000
DTEND;TZID=America/New_York:20270703T120000
DTSTAMP:20260422T145027
CREATED:20250731T142921Z
LAST-MODIFIED:20250731T142921Z
UID:110786-1814608800-1814616000@thelaurelmagazine.com
SUMMARY:Fiber Club at The Bascom
DESCRIPTION:The Bascom’s Fiber Club is made up of an enthusiastic community of fiber artists who come together weekly to share patterns and stories at The Bascom. Meetings take place on the Terrace. \nIn inclement weather\, the group moves inside to the Library\, but their enthusiasm is never dampened. \nFavorites Count: 0
URL:https://thelaurelmagazine.com/local-event/fiber-club-at-the-bascom-2/2027-07-03
LOCATION:The Bascom\, 323 Franklin Rd\, Highlands\, NC\, 28741\, United States
CATEGORIES:Community,Visual Arts
ATTACH;FMTTYPE=image/jpeg:https://thelaurelmagazine.com/wp-content/uploads/2025/07/highlands-nc-bascom-fiber-club-1.jpg
END:VEVENT
BEGIN:VEVENT
DTSTART;TZID=America/New_York:20270814T100000
DTEND;TZID=America/New_York:20270814T120000
DTSTAMP:20260422T145027
CREATED:20250731T142921Z
LAST-MODIFIED:20250731T142921Z
UID:95528-1818237600-1818244800@thelaurelmagazine.com
SUMMARY:Fiber Club at The Bascom
DESCRIPTION:The Bascom’s Fiber Club is made up of an enthusiastic community of fiber artists who come together weekly to share patterns and stories at The Bascom. Meetings take place on the Terrace. \nIn inclement weather\, the group moves inside to the Library\, but their enthusiasm is never dampened. \nFavorites Count: 0
URL:https://thelaurelmagazine.com/local-event/fiber-club-at-the-bascom-2/2027-08-14
LOCATION:The Bascom\, 323 Franklin Rd\, Highlands\, NC\, 28741\, United States
CATEGORIES:Community,Visual Arts
ATTACH;FMTTYPE=image/jpeg:https://thelaurelmagazine.com/wp-content/uploads/2025/07/highlands-nc-bascom-fiber-club-1.jpg
END:VEVENT
BEGIN:VEVENT
DTSTART;TZID=America/New_York:20271204T100000
DTEND;TZID=America/New_York:20271204T120000
DTSTAMP:20260422T145027
CREATED:20250731T142921Z
LAST-MODIFIED:20250731T142921Z
UID:106982-1827914400-1827921600@thelaurelmagazine.com
SUMMARY:Fiber Club at The Bascom
DESCRIPTION:The Bascom’s Fiber Club is made up of an enthusiastic community of fiber artists who come together weekly to share patterns and stories at The Bascom. Meetings take place on the Terrace. \nIn inclement weather\, the group moves inside to the Library\, but their enthusiasm is never dampened. \nFavorites Count: 0
URL:https://thelaurelmagazine.com/local-event/fiber-club-at-the-bascom-2/2027-12-04
LOCATION:The Bascom\, 323 Franklin Rd\, Highlands\, NC\, 28741\, United States
CATEGORIES:Community,Visual Arts
ATTACH;FMTTYPE=image/jpeg:https://thelaurelmagazine.com/wp-content/uploads/2025/07/highlands-nc-bascom-fiber-club-1.jpg
END:VEVENT
BEGIN:VEVENT
DTSTART;TZID=America/New_York:20260808T100000
DTEND;TZID=America/New_York:20260808T120000
DTSTAMP:20260422T145027
CREATED:20250731T142921Z
LAST-MODIFIED:20250731T142921Z
UID:110739-1786183200-1786190400@thelaurelmagazine.com
SUMMARY:Fiber Club at The Bascom
DESCRIPTION:The Bascom’s Fiber Club is made up of an enthusiastic community of fiber artists who come together weekly to share patterns and stories at The Bascom. Meetings take place on the Terrace. \nIn inclement weather\, the group moves inside to the Library\, but their enthusiasm is never dampened. \nFavorites Count: 0
URL:https://thelaurelmagazine.com/local-event/fiber-club-at-the-bascom-2/2026-08-08
LOCATION:The Bascom\, 323 Franklin Rd\, Highlands\, NC\, 28741\, United States
CATEGORIES:Community,Visual Arts
ATTACH;FMTTYPE=image/jpeg:https://thelaurelmagazine.com/wp-content/uploads/2025/07/highlands-nc-bascom-fiber-club-1.jpg
END:VEVENT
BEGIN:VEVENT
DTSTART;TZID=America/New_York:20261128T100000
DTEND;TZID=America/New_York:20261128T120000
DTSTAMP:20260422T145027
CREATED:20250731T142921Z
LAST-MODIFIED:20250731T142921Z
UID:110755-1795860000-1795867200@thelaurelmagazine.com
SUMMARY:Fiber Club at The Bascom
DESCRIPTION:The Bascom’s Fiber Club is made up of an enthusiastic community of fiber artists who come together weekly to share patterns and stories at The Bascom. Meetings take place on the Terrace. \nIn inclement weather\, the group moves inside to the Library\, but their enthusiasm is never dampened. \nFavorites Count: 0
URL:https://thelaurelmagazine.com/local-event/fiber-club-at-the-bascom-2/2026-11-28
LOCATION:The Bascom\, 323 Franklin Rd\, Highlands\, NC\, 28741\, United States
CATEGORIES:Community,Visual Arts
ATTACH;FMTTYPE=image/jpeg:https://thelaurelmagazine.com/wp-content/uploads/2025/07/highlands-nc-bascom-fiber-club-1.jpg
END:VEVENT
BEGIN:VEVENT
DTSTART;TZID=America/New_York:20270320T100000
DTEND;TZID=America/New_York:20270320T120000
DTSTAMP:20260422T145027
CREATED:20250731T142921Z
LAST-MODIFIED:20250731T142921Z
UID:110771-1805536800-1805544000@thelaurelmagazine.com
SUMMARY:Fiber Club at The Bascom
DESCRIPTION:The Bascom’s Fiber Club is made up of an enthusiastic community of fiber artists who come together weekly to share patterns and stories at The Bascom. Meetings take place on the Terrace. \nIn inclement weather\, the group moves inside to the Library\, but their enthusiasm is never dampened. \nFavorites Count: 0
URL:https://thelaurelmagazine.com/local-event/fiber-club-at-the-bascom-2/2027-03-20
LOCATION:The Bascom\, 323 Franklin Rd\, Highlands\, NC\, 28741\, United States
CATEGORIES:Community,Visual Arts
ATTACH;FMTTYPE=image/jpeg:https://thelaurelmagazine.com/wp-content/uploads/2025/07/highlands-nc-bascom-fiber-club-1.jpg
END:VEVENT
BEGIN:VEVENT
DTSTART;TZID=America/New_York:20270710T100000
DTEND;TZID=America/New_York:20270710T120000
DTSTAMP:20260422T145027
CREATED:20250731T142921Z
LAST-MODIFIED:20250731T142921Z
UID:110787-1815213600-1815220800@thelaurelmagazine.com
SUMMARY:Fiber Club at The Bascom
DESCRIPTION:The Bascom’s Fiber Club is made up of an enthusiastic community of fiber artists who come together weekly to share patterns and stories at The Bascom. Meetings take place on the Terrace. \nIn inclement weather\, the group moves inside to the Library\, but their enthusiasm is never dampened. \nFavorites Count: 0
URL:https://thelaurelmagazine.com/local-event/fiber-club-at-the-bascom-2/2027-07-10
LOCATION:The Bascom\, 323 Franklin Rd\, Highlands\, NC\, 28741\, United States
CATEGORIES:Community,Visual Arts
ATTACH;FMTTYPE=image/jpeg:https://thelaurelmagazine.com/wp-content/uploads/2025/07/highlands-nc-bascom-fiber-club-1.jpg
END:VEVENT
BEGIN:VEVENT
DTSTART;TZID=America/New_York:20280304T100000
DTEND;TZID=America/New_York:20280304T120000
DTSTAMP:20260422T145027
CREATED:20250731T142921Z
LAST-MODIFIED:20250731T142921Z
UID:115930-1835776800-1835784000@thelaurelmagazine.com
SUMMARY:Fiber Club at The Bascom
DESCRIPTION:The Bascom’s Fiber Club is made up of an enthusiastic community of fiber artists who come together weekly to share patterns and stories at The Bascom. Meetings take place on the Terrace. \nIn inclement weather\, the group moves inside to the Library\, but their enthusiasm is never dampened. \nFavorites Count: 0
URL:https://thelaurelmagazine.com/local-event/fiber-club-at-the-bascom-2/2028-03-04
LOCATION:The Bascom\, 323 Franklin Rd\, Highlands\, NC\, 28741\, United States
CATEGORIES:Community,Visual Arts
ATTACH;FMTTYPE=image/jpeg:https://thelaurelmagazine.com/wp-content/uploads/2025/07/highlands-nc-bascom-fiber-club-1.jpg
END:VEVENT
BEGIN:VEVENT
DTSTART;TZID=America/New_York:20270821T100000
DTEND;TZID=America/New_York:20270821T120000
DTSTAMP:20260422T145027
CREATED:20250731T142921Z
LAST-MODIFIED:20250731T142921Z
UID:95628-1818842400-1818849600@thelaurelmagazine.com
SUMMARY:Fiber Club at The Bascom
DESCRIPTION:The Bascom’s Fiber Club is made up of an enthusiastic community of fiber artists who come together weekly to share patterns and stories at The Bascom. Meetings take place on the Terrace. \nIn inclement weather\, the group moves inside to the Library\, but their enthusiasm is never dampened. \nFavorites Count: 0
URL:https://thelaurelmagazine.com/local-event/fiber-club-at-the-bascom-2/2027-08-21
LOCATION:The Bascom\, 323 Franklin Rd\, Highlands\, NC\, 28741\, United States
CATEGORIES:Community,Visual Arts
ATTACH;FMTTYPE=image/jpeg:https://thelaurelmagazine.com/wp-content/uploads/2025/07/highlands-nc-bascom-fiber-club-1.jpg
END:VEVENT
BEGIN:VEVENT
DTSTART;TZID=America/New_York:20271211T100000
DTEND;TZID=America/New_York:20271211T120000
DTSTAMP:20260422T145027
CREATED:20250731T142921Z
LAST-MODIFIED:20250731T142921Z
UID:107117-1828519200-1828526400@thelaurelmagazine.com
SUMMARY:Fiber Club at The Bascom
DESCRIPTION:The Bascom’s Fiber Club is made up of an enthusiastic community of fiber artists who come together weekly to share patterns and stories at The Bascom. Meetings take place on the Terrace. \nIn inclement weather\, the group moves inside to the Library\, but their enthusiasm is never dampened. \nFavorites Count: 0
URL:https://thelaurelmagazine.com/local-event/fiber-club-at-the-bascom-2/2027-12-11
LOCATION:The Bascom\, 323 Franklin Rd\, Highlands\, NC\, 28741\, United States
CATEGORIES:Community,Visual Arts
ATTACH;FMTTYPE=image/jpeg:https://thelaurelmagazine.com/wp-content/uploads/2025/07/highlands-nc-bascom-fiber-club-1.jpg
END:VEVENT
BEGIN:VEVENT
DTSTART;TZID=America/New_York:20260815T100000
DTEND;TZID=America/New_York:20260815T120000
DTSTAMP:20260422T145027
CREATED:20250731T142921Z
LAST-MODIFIED:20250731T142921Z
UID:110740-1786788000-1786795200@thelaurelmagazine.com
SUMMARY:Fiber Club at The Bascom
DESCRIPTION:The Bascom’s Fiber Club is made up of an enthusiastic community of fiber artists who come together weekly to share patterns and stories at The Bascom. Meetings take place on the Terrace. \nIn inclement weather\, the group moves inside to the Library\, but their enthusiasm is never dampened. \nFavorites Count: 0
URL:https://thelaurelmagazine.com/local-event/fiber-club-at-the-bascom-2/2026-08-15
LOCATION:The Bascom\, 323 Franklin Rd\, Highlands\, NC\, 28741\, United States
CATEGORIES:Community,Visual Arts
ATTACH;FMTTYPE=image/jpeg:https://thelaurelmagazine.com/wp-content/uploads/2025/07/highlands-nc-bascom-fiber-club-1.jpg
END:VEVENT
BEGIN:VEVENT
DTSTART;TZID=America/New_York:20261205T100000
DTEND;TZID=America/New_York:20261205T120000
DTSTAMP:20260422T145027
CREATED:20250731T142921Z
LAST-MODIFIED:20250731T142921Z
UID:110756-1796464800-1796472000@thelaurelmagazine.com
SUMMARY:Fiber Club at The Bascom
DESCRIPTION:The Bascom’s Fiber Club is made up of an enthusiastic community of fiber artists who come together weekly to share patterns and stories at The Bascom. Meetings take place on the Terrace. \nIn inclement weather\, the group moves inside to the Library\, but their enthusiasm is never dampened. \nFavorites Count: 0
URL:https://thelaurelmagazine.com/local-event/fiber-club-at-the-bascom-2/2026-12-05
LOCATION:The Bascom\, 323 Franklin Rd\, Highlands\, NC\, 28741\, United States
CATEGORIES:Community,Visual Arts
ATTACH;FMTTYPE=image/jpeg:https://thelaurelmagazine.com/wp-content/uploads/2025/07/highlands-nc-bascom-fiber-club-1.jpg
END:VEVENT
BEGIN:VEVENT
DTSTART;TZID=America/New_York:20270327T100000
DTEND;TZID=America/New_York:20270327T120000
DTSTAMP:20260422T145027
CREATED:20250731T142921Z
LAST-MODIFIED:20250731T142921Z
UID:110772-1806141600-1806148800@thelaurelmagazine.com
SUMMARY:Fiber Club at The Bascom
DESCRIPTION:The Bascom’s Fiber Club is made up of an enthusiastic community of fiber artists who come together weekly to share patterns and stories at The Bascom. Meetings take place on the Terrace. \nIn inclement weather\, the group moves inside to the Library\, but their enthusiasm is never dampened. \nFavorites Count: 0
URL:https://thelaurelmagazine.com/local-event/fiber-club-at-the-bascom-2/2027-03-27
LOCATION:The Bascom\, 323 Franklin Rd\, Highlands\, NC\, 28741\, United States
CATEGORIES:Community,Visual Arts
ATTACH;FMTTYPE=image/jpeg:https://thelaurelmagazine.com/wp-content/uploads/2025/07/highlands-nc-bascom-fiber-club-1.jpg
END:VEVENT
BEGIN:VEVENT
DTSTART;TZID=America/New_York:20270717T100000
DTEND;TZID=America/New_York:20270717T120000
DTSTAMP:20260422T145027
CREATED:20250731T142921Z
LAST-MODIFIED:20250731T142921Z
UID:110788-1815818400-1815825600@thelaurelmagazine.com
SUMMARY:Fiber Club at The Bascom
DESCRIPTION:The Bascom’s Fiber Club is made up of an enthusiastic community of fiber artists who come together weekly to share patterns and stories at The Bascom. Meetings take place on the Terrace. \nIn inclement weather\, the group moves inside to the Library\, but their enthusiasm is never dampened. \nFavorites Count: 0
URL:https://thelaurelmagazine.com/local-event/fiber-club-at-the-bascom-2/2027-07-17
LOCATION:The Bascom\, 323 Franklin Rd\, Highlands\, NC\, 28741\, United States
CATEGORIES:Community,Visual Arts
ATTACH;FMTTYPE=image/jpeg:https://thelaurelmagazine.com/wp-content/uploads/2025/07/highlands-nc-bascom-fiber-club-1.jpg
END:VEVENT
BEGIN:VEVENT
DTSTART;TZID=America/New_York:20270828T100000
DTEND;TZID=America/New_York:20270828T120000
DTSTAMP:20260422T145027
CREATED:20250731T142921Z
LAST-MODIFIED:20250731T142921Z
UID:95922-1819447200-1819454400@thelaurelmagazine.com
SUMMARY:Fiber Club at The Bascom
DESCRIPTION:The Bascom’s Fiber Club is made up of an enthusiastic community of fiber artists who come together weekly to share patterns and stories at The Bascom. Meetings take place on the Terrace. \nIn inclement weather\, the group moves inside to the Library\, but their enthusiasm is never dampened. \nFavorites Count: 0
URL:https://thelaurelmagazine.com/local-event/fiber-club-at-the-bascom-2/2027-08-28
LOCATION:The Bascom\, 323 Franklin Rd\, Highlands\, NC\, 28741\, United States
CATEGORIES:Community,Visual Arts
ATTACH;FMTTYPE=image/jpeg:https://thelaurelmagazine.com/wp-content/uploads/2025/07/highlands-nc-bascom-fiber-club-1.jpg
END:VEVENT
BEGIN:VEVENT
DTSTART;TZID=America/New_York:20271218T100000
DTEND;TZID=America/New_York:20271218T120000
DTSTAMP:20260422T145027
CREATED:20250731T142921Z
LAST-MODIFIED:20250731T142921Z
UID:107690-1829124000-1829131200@thelaurelmagazine.com
SUMMARY:Fiber Club at The Bascom
DESCRIPTION:The Bascom’s Fiber Club is made up of an enthusiastic community of fiber artists who come together weekly to share patterns and stories at The Bascom. Meetings take place on the Terrace. \nIn inclement weather\, the group moves inside to the Library\, but their enthusiasm is never dampened. \nFavorites Count: 0
URL:https://thelaurelmagazine.com/local-event/fiber-club-at-the-bascom-2/2027-12-18
LOCATION:The Bascom\, 323 Franklin Rd\, Highlands\, NC\, 28741\, United States
CATEGORIES:Community,Visual Arts
ATTACH;FMTTYPE=image/jpeg:https://thelaurelmagazine.com/wp-content/uploads/2025/07/highlands-nc-bascom-fiber-club-1.jpg
END:VEVENT
BEGIN:VEVENT
DTSTART;TZID=America/New_York:20260822T100000
DTEND;TZID=America/New_York:20260822T120000
DTSTAMP:20260422T145027
CREATED:20250731T142921Z
LAST-MODIFIED:20250731T142921Z
UID:110741-1787392800-1787400000@thelaurelmagazine.com
SUMMARY:Fiber Club at The Bascom
DESCRIPTION:The Bascom’s Fiber Club is made up of an enthusiastic community of fiber artists who come together weekly to share patterns and stories at The Bascom. Meetings take place on the Terrace. \nIn inclement weather\, the group moves inside to the Library\, but their enthusiasm is never dampened. \nFavorites Count: 0
URL:https://thelaurelmagazine.com/local-event/fiber-club-at-the-bascom-2/2026-08-22
LOCATION:The Bascom\, 323 Franklin Rd\, Highlands\, NC\, 28741\, United States
CATEGORIES:Community,Visual Arts
ATTACH;FMTTYPE=image/jpeg:https://thelaurelmagazine.com/wp-content/uploads/2025/07/highlands-nc-bascom-fiber-club-1.jpg
END:VEVENT
END:VCALENDAR