BEGIN:VCALENDAR
VERSION:2.0
PRODID:-//Laurel Magazine - ECPv6.15.16//NONSGML v1.0//EN
CALSCALE:GREGORIAN
METHOD:PUBLISH
X-ORIGINAL-URL:https://thelaurelmagazine.com
X-WR-CALDESC:Events for Laurel Magazine
REFRESH-INTERVAL;VALUE=DURATION:PT1H
X-Robots-Tag:noindex
X-PUBLISHED-TTL:PT1H
BEGIN:VTIMEZONE
TZID:America/New_York
BEGIN:DAYLIGHT
TZOFFSETFROM:-0500
TZOFFSETTO:-0400
TZNAME:EDT
DTSTART:20250309T070000
END:DAYLIGHT
BEGIN:STANDARD
TZOFFSETFROM:-0400
TZOFFSETTO:-0500
TZNAME:EST
DTSTART:20251102T060000
END:STANDARD
BEGIN:DAYLIGHT
TZOFFSETFROM:-0500
TZOFFSETTO:-0400
TZNAME:EDT
DTSTART:20260308T070000
END:DAYLIGHT
BEGIN:STANDARD
TZOFFSETFROM:-0400
TZOFFSETTO:-0500
TZNAME:EST
DTSTART:20261101T060000
END:STANDARD
BEGIN:DAYLIGHT
TZOFFSETFROM:-0500
TZOFFSETTO:-0400
TZNAME:EDT
DTSTART:20270314T070000
END:DAYLIGHT
BEGIN:STANDARD
TZOFFSETFROM:-0400
TZOFFSETTO:-0500
TZNAME:EST
DTSTART:20271107T060000
END:STANDARD
BEGIN:DAYLIGHT
TZOFFSETFROM:-0500
TZOFFSETTO:-0400
TZNAME:EDT
DTSTART:20280312T070000
END:DAYLIGHT
BEGIN:STANDARD
TZOFFSETFROM:-0400
TZOFFSETTO:-0500
TZNAME:EST
DTSTART:20281105T060000
END:STANDARD
BEGIN:DAYLIGHT
TZOFFSETFROM:-0500
TZOFFSETTO:-0400
TZNAME:EDT
DTSTART:20290311T070000
END:DAYLIGHT
BEGIN:STANDARD
TZOFFSETFROM:-0400
TZOFFSETTO:-0500
TZNAME:EST
DTSTART:20291104T060000
END:STANDARD
END:VTIMEZONE
BEGIN:VEVENT
DTSTART;TZID=America/New_York:20270320T100000
DTEND;TZID=America/New_York:20270320T120000
DTSTAMP:20260422T185741
CREATED:20250731T142921Z
LAST-MODIFIED:20250731T142921Z
UID:110771-1805536800-1805544000@thelaurelmagazine.com
SUMMARY:Fiber Club at The Bascom
DESCRIPTION:The Bascom’s Fiber Club is made up of an enthusiastic community of fiber artists who come together weekly to share patterns and stories at The Bascom. Meetings take place on the Terrace. \nIn inclement weather\, the group moves inside to the Library\, but their enthusiasm is never dampened. \nFavorites Count: 0
URL:https://thelaurelmagazine.com/local-event/fiber-club-at-the-bascom-2/2027-03-20
LOCATION:The Bascom\, 323 Franklin Rd\, Highlands\, NC\, 28741\, United States
CATEGORIES:Community,Visual Arts
ATTACH;FMTTYPE=image/jpeg:https://thelaurelmagazine.com/wp-content/uploads/2025/07/highlands-nc-bascom-fiber-club-1.jpg
END:VEVENT
BEGIN:VEVENT
DTSTART;TZID=America/New_York:20270710T100000
DTEND;TZID=America/New_York:20270710T120000
DTSTAMP:20260422T185741
CREATED:20250731T142921Z
LAST-MODIFIED:20250731T142921Z
UID:110787-1815213600-1815220800@thelaurelmagazine.com
SUMMARY:Fiber Club at The Bascom
DESCRIPTION:The Bascom’s Fiber Club is made up of an enthusiastic community of fiber artists who come together weekly to share patterns and stories at The Bascom. Meetings take place on the Terrace. \nIn inclement weather\, the group moves inside to the Library\, but their enthusiasm is never dampened. \nFavorites Count: 0
URL:https://thelaurelmagazine.com/local-event/fiber-club-at-the-bascom-2/2027-07-10
LOCATION:The Bascom\, 323 Franklin Rd\, Highlands\, NC\, 28741\, United States
CATEGORIES:Community,Visual Arts
ATTACH;FMTTYPE=image/jpeg:https://thelaurelmagazine.com/wp-content/uploads/2025/07/highlands-nc-bascom-fiber-club-1.jpg
END:VEVENT
BEGIN:VEVENT
DTSTART;TZID=America/New_York:20280304T100000
DTEND;TZID=America/New_York:20280304T120000
DTSTAMP:20260422T185741
CREATED:20250731T142921Z
LAST-MODIFIED:20250731T142921Z
UID:115930-1835776800-1835784000@thelaurelmagazine.com
SUMMARY:Fiber Club at The Bascom
DESCRIPTION:The Bascom’s Fiber Club is made up of an enthusiastic community of fiber artists who come together weekly to share patterns and stories at The Bascom. Meetings take place on the Terrace. \nIn inclement weather\, the group moves inside to the Library\, but their enthusiasm is never dampened. \nFavorites Count: 0
URL:https://thelaurelmagazine.com/local-event/fiber-club-at-the-bascom-2/2028-03-04
LOCATION:The Bascom\, 323 Franklin Rd\, Highlands\, NC\, 28741\, United States
CATEGORIES:Community,Visual Arts
ATTACH;FMTTYPE=image/jpeg:https://thelaurelmagazine.com/wp-content/uploads/2025/07/highlands-nc-bascom-fiber-club-1.jpg
END:VEVENT
BEGIN:VEVENT
DTSTART;TZID=America/New_York:20270821T100000
DTEND;TZID=America/New_York:20270821T120000
DTSTAMP:20260422T185741
CREATED:20250731T142921Z
LAST-MODIFIED:20250731T142921Z
UID:95628-1818842400-1818849600@thelaurelmagazine.com
SUMMARY:Fiber Club at The Bascom
DESCRIPTION:The Bascom’s Fiber Club is made up of an enthusiastic community of fiber artists who come together weekly to share patterns and stories at The Bascom. Meetings take place on the Terrace. \nIn inclement weather\, the group moves inside to the Library\, but their enthusiasm is never dampened. \nFavorites Count: 0
URL:https://thelaurelmagazine.com/local-event/fiber-club-at-the-bascom-2/2027-08-21
LOCATION:The Bascom\, 323 Franklin Rd\, Highlands\, NC\, 28741\, United States
CATEGORIES:Community,Visual Arts
ATTACH;FMTTYPE=image/jpeg:https://thelaurelmagazine.com/wp-content/uploads/2025/07/highlands-nc-bascom-fiber-club-1.jpg
END:VEVENT
BEGIN:VEVENT
DTSTART;TZID=America/New_York:20271211T100000
DTEND;TZID=America/New_York:20271211T120000
DTSTAMP:20260422T185741
CREATED:20250731T142921Z
LAST-MODIFIED:20250731T142921Z
UID:107117-1828519200-1828526400@thelaurelmagazine.com
SUMMARY:Fiber Club at The Bascom
DESCRIPTION:The Bascom’s Fiber Club is made up of an enthusiastic community of fiber artists who come together weekly to share patterns and stories at The Bascom. Meetings take place on the Terrace. \nIn inclement weather\, the group moves inside to the Library\, but their enthusiasm is never dampened. \nFavorites Count: 0
URL:https://thelaurelmagazine.com/local-event/fiber-club-at-the-bascom-2/2027-12-11
LOCATION:The Bascom\, 323 Franklin Rd\, Highlands\, NC\, 28741\, United States
CATEGORIES:Community,Visual Arts
ATTACH;FMTTYPE=image/jpeg:https://thelaurelmagazine.com/wp-content/uploads/2025/07/highlands-nc-bascom-fiber-club-1.jpg
END:VEVENT
BEGIN:VEVENT
DTSTART;TZID=America/New_York:20260815T100000
DTEND;TZID=America/New_York:20260815T120000
DTSTAMP:20260422T185741
CREATED:20250731T142921Z
LAST-MODIFIED:20250731T142921Z
UID:110740-1786788000-1786795200@thelaurelmagazine.com
SUMMARY:Fiber Club at The Bascom
DESCRIPTION:The Bascom’s Fiber Club is made up of an enthusiastic community of fiber artists who come together weekly to share patterns and stories at The Bascom. Meetings take place on the Terrace. \nIn inclement weather\, the group moves inside to the Library\, but their enthusiasm is never dampened. \nFavorites Count: 0
URL:https://thelaurelmagazine.com/local-event/fiber-club-at-the-bascom-2/2026-08-15
LOCATION:The Bascom\, 323 Franklin Rd\, Highlands\, NC\, 28741\, United States
CATEGORIES:Community,Visual Arts
ATTACH;FMTTYPE=image/jpeg:https://thelaurelmagazine.com/wp-content/uploads/2025/07/highlands-nc-bascom-fiber-club-1.jpg
END:VEVENT
BEGIN:VEVENT
DTSTART;TZID=America/New_York:20261205T100000
DTEND;TZID=America/New_York:20261205T120000
DTSTAMP:20260422T185741
CREATED:20250731T142921Z
LAST-MODIFIED:20250731T142921Z
UID:110756-1796464800-1796472000@thelaurelmagazine.com
SUMMARY:Fiber Club at The Bascom
DESCRIPTION:The Bascom’s Fiber Club is made up of an enthusiastic community of fiber artists who come together weekly to share patterns and stories at The Bascom. Meetings take place on the Terrace. \nIn inclement weather\, the group moves inside to the Library\, but their enthusiasm is never dampened. \nFavorites Count: 0
URL:https://thelaurelmagazine.com/local-event/fiber-club-at-the-bascom-2/2026-12-05
LOCATION:The Bascom\, 323 Franklin Rd\, Highlands\, NC\, 28741\, United States
CATEGORIES:Community,Visual Arts
ATTACH;FMTTYPE=image/jpeg:https://thelaurelmagazine.com/wp-content/uploads/2025/07/highlands-nc-bascom-fiber-club-1.jpg
END:VEVENT
BEGIN:VEVENT
DTSTART;TZID=America/New_York:20270327T100000
DTEND;TZID=America/New_York:20270327T120000
DTSTAMP:20260422T185741
CREATED:20250731T142921Z
LAST-MODIFIED:20250731T142921Z
UID:110772-1806141600-1806148800@thelaurelmagazine.com
SUMMARY:Fiber Club at The Bascom
DESCRIPTION:The Bascom’s Fiber Club is made up of an enthusiastic community of fiber artists who come together weekly to share patterns and stories at The Bascom. Meetings take place on the Terrace. \nIn inclement weather\, the group moves inside to the Library\, but their enthusiasm is never dampened. \nFavorites Count: 0
URL:https://thelaurelmagazine.com/local-event/fiber-club-at-the-bascom-2/2027-03-27
LOCATION:The Bascom\, 323 Franklin Rd\, Highlands\, NC\, 28741\, United States
CATEGORIES:Community,Visual Arts
ATTACH;FMTTYPE=image/jpeg:https://thelaurelmagazine.com/wp-content/uploads/2025/07/highlands-nc-bascom-fiber-club-1.jpg
END:VEVENT
BEGIN:VEVENT
DTSTART;TZID=America/New_York:20270717T100000
DTEND;TZID=America/New_York:20270717T120000
DTSTAMP:20260422T185741
CREATED:20250731T142921Z
LAST-MODIFIED:20250731T142921Z
UID:110788-1815818400-1815825600@thelaurelmagazine.com
SUMMARY:Fiber Club at The Bascom
DESCRIPTION:The Bascom’s Fiber Club is made up of an enthusiastic community of fiber artists who come together weekly to share patterns and stories at The Bascom. Meetings take place on the Terrace. \nIn inclement weather\, the group moves inside to the Library\, but their enthusiasm is never dampened. \nFavorites Count: 0
URL:https://thelaurelmagazine.com/local-event/fiber-club-at-the-bascom-2/2027-07-17
LOCATION:The Bascom\, 323 Franklin Rd\, Highlands\, NC\, 28741\, United States
CATEGORIES:Community,Visual Arts
ATTACH;FMTTYPE=image/jpeg:https://thelaurelmagazine.com/wp-content/uploads/2025/07/highlands-nc-bascom-fiber-club-1.jpg
END:VEVENT
BEGIN:VEVENT
DTSTART;TZID=America/New_York:20270828T100000
DTEND;TZID=America/New_York:20270828T120000
DTSTAMP:20260422T185741
CREATED:20250731T142921Z
LAST-MODIFIED:20250731T142921Z
UID:95922-1819447200-1819454400@thelaurelmagazine.com
SUMMARY:Fiber Club at The Bascom
DESCRIPTION:The Bascom’s Fiber Club is made up of an enthusiastic community of fiber artists who come together weekly to share patterns and stories at The Bascom. Meetings take place on the Terrace. \nIn inclement weather\, the group moves inside to the Library\, but their enthusiasm is never dampened. \nFavorites Count: 0
URL:https://thelaurelmagazine.com/local-event/fiber-club-at-the-bascom-2/2027-08-28
LOCATION:The Bascom\, 323 Franklin Rd\, Highlands\, NC\, 28741\, United States
CATEGORIES:Community,Visual Arts
ATTACH;FMTTYPE=image/jpeg:https://thelaurelmagazine.com/wp-content/uploads/2025/07/highlands-nc-bascom-fiber-club-1.jpg
END:VEVENT
BEGIN:VEVENT
DTSTART;TZID=America/New_York:20271218T100000
DTEND;TZID=America/New_York:20271218T120000
DTSTAMP:20260422T185741
CREATED:20250731T142921Z
LAST-MODIFIED:20250731T142921Z
UID:107690-1829124000-1829131200@thelaurelmagazine.com
SUMMARY:Fiber Club at The Bascom
DESCRIPTION:The Bascom’s Fiber Club is made up of an enthusiastic community of fiber artists who come together weekly to share patterns and stories at The Bascom. Meetings take place on the Terrace. \nIn inclement weather\, the group moves inside to the Library\, but their enthusiasm is never dampened. \nFavorites Count: 0
URL:https://thelaurelmagazine.com/local-event/fiber-club-at-the-bascom-2/2027-12-18
LOCATION:The Bascom\, 323 Franklin Rd\, Highlands\, NC\, 28741\, United States
CATEGORIES:Community,Visual Arts
ATTACH;FMTTYPE=image/jpeg:https://thelaurelmagazine.com/wp-content/uploads/2025/07/highlands-nc-bascom-fiber-club-1.jpg
END:VEVENT
BEGIN:VEVENT
DTSTART;TZID=America/New_York:20260822T100000
DTEND;TZID=America/New_York:20260822T120000
DTSTAMP:20260422T185741
CREATED:20250731T142921Z
LAST-MODIFIED:20250731T142921Z
UID:110741-1787392800-1787400000@thelaurelmagazine.com
SUMMARY:Fiber Club at The Bascom
DESCRIPTION:The Bascom’s Fiber Club is made up of an enthusiastic community of fiber artists who come together weekly to share patterns and stories at The Bascom. Meetings take place on the Terrace. \nIn inclement weather\, the group moves inside to the Library\, but their enthusiasm is never dampened. \nFavorites Count: 0
URL:https://thelaurelmagazine.com/local-event/fiber-club-at-the-bascom-2/2026-08-22
LOCATION:The Bascom\, 323 Franklin Rd\, Highlands\, NC\, 28741\, United States
CATEGORIES:Community,Visual Arts
ATTACH;FMTTYPE=image/jpeg:https://thelaurelmagazine.com/wp-content/uploads/2025/07/highlands-nc-bascom-fiber-club-1.jpg
END:VEVENT
BEGIN:VEVENT
DTSTART;TZID=America/New_York:20261212T100000
DTEND;TZID=America/New_York:20261212T120000
DTSTAMP:20260422T185741
CREATED:20250731T142921Z
LAST-MODIFIED:20250731T142921Z
UID:110757-1797069600-1797076800@thelaurelmagazine.com
SUMMARY:Fiber Club at The Bascom
DESCRIPTION:The Bascom’s Fiber Club is made up of an enthusiastic community of fiber artists who come together weekly to share patterns and stories at The Bascom. Meetings take place on the Terrace. \nIn inclement weather\, the group moves inside to the Library\, but their enthusiasm is never dampened. \nFavorites Count: 0
URL:https://thelaurelmagazine.com/local-event/fiber-club-at-the-bascom-2/2026-12-12
LOCATION:The Bascom\, 323 Franklin Rd\, Highlands\, NC\, 28741\, United States
CATEGORIES:Community,Visual Arts
ATTACH;FMTTYPE=image/jpeg:https://thelaurelmagazine.com/wp-content/uploads/2025/07/highlands-nc-bascom-fiber-club-1.jpg
END:VEVENT
BEGIN:VEVENT
DTSTART;TZID=America/New_York:20270403T100000
DTEND;TZID=America/New_York:20270403T120000
DTSTAMP:20260422T185741
CREATED:20250731T142921Z
LAST-MODIFIED:20250731T142921Z
UID:110773-1806746400-1806753600@thelaurelmagazine.com
SUMMARY:Fiber Club at The Bascom
DESCRIPTION:The Bascom’s Fiber Club is made up of an enthusiastic community of fiber artists who come together weekly to share patterns and stories at The Bascom. Meetings take place on the Terrace. \nIn inclement weather\, the group moves inside to the Library\, but their enthusiasm is never dampened. \nFavorites Count: 0
URL:https://thelaurelmagazine.com/local-event/fiber-club-at-the-bascom-2/2027-04-03
LOCATION:The Bascom\, 323 Franklin Rd\, Highlands\, NC\, 28741\, United States
CATEGORIES:Community,Visual Arts
ATTACH;FMTTYPE=image/jpeg:https://thelaurelmagazine.com/wp-content/uploads/2025/07/highlands-nc-bascom-fiber-club-1.jpg
END:VEVENT
BEGIN:VEVENT
DTSTART;TZID=America/New_York:20270724T100000
DTEND;TZID=America/New_York:20270724T120000
DTSTAMP:20260422T185741
CREATED:20250731T142921Z
LAST-MODIFIED:20250731T142921Z
UID:110789-1816423200-1816430400@thelaurelmagazine.com
SUMMARY:Fiber Club at The Bascom
DESCRIPTION:The Bascom’s Fiber Club is made up of an enthusiastic community of fiber artists who come together weekly to share patterns and stories at The Bascom. Meetings take place on the Terrace. \nIn inclement weather\, the group moves inside to the Library\, but their enthusiasm is never dampened. \nFavorites Count: 0
URL:https://thelaurelmagazine.com/local-event/fiber-club-at-the-bascom-2/2027-07-24
LOCATION:The Bascom\, 323 Franklin Rd\, Highlands\, NC\, 28741\, United States
CATEGORIES:Community,Visual Arts
ATTACH;FMTTYPE=image/jpeg:https://thelaurelmagazine.com/wp-content/uploads/2025/07/highlands-nc-bascom-fiber-club-1.jpg
END:VEVENT
BEGIN:VEVENT
DTSTART;TZID=America/New_York:20280311T100000
DTEND;TZID=America/New_York:20280311T120000
DTSTAMP:20260422T185741
CREATED:20250731T142921Z
LAST-MODIFIED:20250731T142921Z
UID:116052-1836381600-1836388800@thelaurelmagazine.com
SUMMARY:Fiber Club at The Bascom
DESCRIPTION:The Bascom’s Fiber Club is made up of an enthusiastic community of fiber artists who come together weekly to share patterns and stories at The Bascom. Meetings take place on the Terrace. \nIn inclement weather\, the group moves inside to the Library\, but their enthusiasm is never dampened. \nFavorites Count: 0
URL:https://thelaurelmagazine.com/local-event/fiber-club-at-the-bascom-2/2028-03-11
LOCATION:The Bascom\, 323 Franklin Rd\, Highlands\, NC\, 28741\, United States
CATEGORIES:Community,Visual Arts
ATTACH;FMTTYPE=image/jpeg:https://thelaurelmagazine.com/wp-content/uploads/2025/07/highlands-nc-bascom-fiber-club-1.jpg
END:VEVENT
BEGIN:VEVENT
DTSTART;TZID=America/New_York:20270904T100000
DTEND;TZID=America/New_York:20270904T120000
DTSTAMP:20260422T185741
CREATED:20250731T142921Z
LAST-MODIFIED:20250731T142921Z
UID:96194-1820052000-1820059200@thelaurelmagazine.com
SUMMARY:Fiber Club at The Bascom
DESCRIPTION:The Bascom’s Fiber Club is made up of an enthusiastic community of fiber artists who come together weekly to share patterns and stories at The Bascom. Meetings take place on the Terrace. \nIn inclement weather\, the group moves inside to the Library\, but their enthusiasm is never dampened. \nFavorites Count: 0
URL:https://thelaurelmagazine.com/local-event/fiber-club-at-the-bascom-2/2027-09-04
LOCATION:The Bascom\, 323 Franklin Rd\, Highlands\, NC\, 28741\, United States
CATEGORIES:Community,Visual Arts
ATTACH;FMTTYPE=image/jpeg:https://thelaurelmagazine.com/wp-content/uploads/2025/07/highlands-nc-bascom-fiber-club-1.jpg
END:VEVENT
BEGIN:VEVENT
DTSTART;TZID=America/New_York:20271225T100000
DTEND;TZID=America/New_York:20271225T120000
DTSTAMP:20260422T185741
CREATED:20250731T142921Z
LAST-MODIFIED:20250731T142921Z
UID:109873-1829728800-1829736000@thelaurelmagazine.com
SUMMARY:Fiber Club at The Bascom
DESCRIPTION:The Bascom’s Fiber Club is made up of an enthusiastic community of fiber artists who come together weekly to share patterns and stories at The Bascom. Meetings take place on the Terrace. \nIn inclement weather\, the group moves inside to the Library\, but their enthusiasm is never dampened. \nFavorites Count: 0
URL:https://thelaurelmagazine.com/local-event/fiber-club-at-the-bascom-2/2027-12-25
LOCATION:The Bascom\, 323 Franklin Rd\, Highlands\, NC\, 28741\, United States
CATEGORIES:Community,Visual Arts
ATTACH;FMTTYPE=image/jpeg:https://thelaurelmagazine.com/wp-content/uploads/2025/07/highlands-nc-bascom-fiber-club-1.jpg
END:VEVENT
BEGIN:VEVENT
DTSTART;TZID=America/New_York:20260829T100000
DTEND;TZID=America/New_York:20260829T120000
DTSTAMP:20260422T185741
CREATED:20250731T142921Z
LAST-MODIFIED:20250731T142921Z
UID:110742-1787997600-1788004800@thelaurelmagazine.com
SUMMARY:Fiber Club at The Bascom
DESCRIPTION:The Bascom’s Fiber Club is made up of an enthusiastic community of fiber artists who come together weekly to share patterns and stories at The Bascom. Meetings take place on the Terrace. \nIn inclement weather\, the group moves inside to the Library\, but their enthusiasm is never dampened. \nFavorites Count: 0
URL:https://thelaurelmagazine.com/local-event/fiber-club-at-the-bascom-2/2026-08-29
LOCATION:The Bascom\, 323 Franklin Rd\, Highlands\, NC\, 28741\, United States
CATEGORIES:Community,Visual Arts
ATTACH;FMTTYPE=image/jpeg:https://thelaurelmagazine.com/wp-content/uploads/2025/07/highlands-nc-bascom-fiber-club-1.jpg
END:VEVENT
BEGIN:VEVENT
DTSTART;TZID=America/New_York:20261219T100000
DTEND;TZID=America/New_York:20261219T120000
DTSTAMP:20260422T185741
CREATED:20250731T142921Z
LAST-MODIFIED:20250731T142921Z
UID:110758-1797674400-1797681600@thelaurelmagazine.com
SUMMARY:Fiber Club at The Bascom
DESCRIPTION:The Bascom’s Fiber Club is made up of an enthusiastic community of fiber artists who come together weekly to share patterns and stories at The Bascom. Meetings take place on the Terrace. \nIn inclement weather\, the group moves inside to the Library\, but their enthusiasm is never dampened. \nFavorites Count: 0
URL:https://thelaurelmagazine.com/local-event/fiber-club-at-the-bascom-2/2026-12-19
LOCATION:The Bascom\, 323 Franklin Rd\, Highlands\, NC\, 28741\, United States
CATEGORIES:Community,Visual Arts
ATTACH;FMTTYPE=image/jpeg:https://thelaurelmagazine.com/wp-content/uploads/2025/07/highlands-nc-bascom-fiber-club-1.jpg
END:VEVENT
BEGIN:VEVENT
DTSTART;TZID=America/New_York:20270410T100000
DTEND;TZID=America/New_York:20270410T120000
DTSTAMP:20260422T185741
CREATED:20250731T142921Z
LAST-MODIFIED:20250731T142921Z
UID:110774-1807351200-1807358400@thelaurelmagazine.com
SUMMARY:Fiber Club at The Bascom
DESCRIPTION:The Bascom’s Fiber Club is made up of an enthusiastic community of fiber artists who come together weekly to share patterns and stories at The Bascom. Meetings take place on the Terrace. \nIn inclement weather\, the group moves inside to the Library\, but their enthusiasm is never dampened. \nFavorites Count: 0
URL:https://thelaurelmagazine.com/local-event/fiber-club-at-the-bascom-2/2027-04-10
LOCATION:The Bascom\, 323 Franklin Rd\, Highlands\, NC\, 28741\, United States
CATEGORIES:Community,Visual Arts
ATTACH;FMTTYPE=image/jpeg:https://thelaurelmagazine.com/wp-content/uploads/2025/07/highlands-nc-bascom-fiber-club-1.jpg
END:VEVENT
BEGIN:VEVENT
DTSTART;TZID=America/New_York:20260425T100000
DTEND;TZID=America/New_York:20260425T120000
DTSTAMP:20260422T185741
CREATED:20250731T142921Z
LAST-MODIFIED:20260113T192426Z
UID:110724-1777111200-1777118400@thelaurelmagazine.com
SUMMARY:Fiber Club at The Bascom
DESCRIPTION:The Bascom’s Fiber Club is made up of an enthusiastic community of fiber artists who come together weekly to share patterns and stories at The Bascom. Meetings take place on the Terrace. \nIn inclement weather\, the group moves inside to the Library\, but their enthusiasm is never dampened. \nFavorites Count: 0
URL:https://thelaurelmagazine.com/local-event/fiber-club-at-the-bascom-2/2026-04-25
LOCATION:The Bascom\, 323 Franklin Rd\, Highlands\, NC\, 28741\, United States
CATEGORIES:Community,Visual Arts
ATTACH;FMTTYPE=image/jpeg:https://thelaurelmagazine.com/wp-content/uploads/2025/07/highlands-nc-bascom-fiber-club-1.jpg
END:VEVENT
BEGIN:VEVENT
DTSTART;TZID=America/New_York:20270911T100000
DTEND;TZID=America/New_York:20270911T120000
DTSTAMP:20260422T185741
CREATED:20250731T142921Z
LAST-MODIFIED:20250731T142921Z
UID:97040-1820656800-1820664000@thelaurelmagazine.com
SUMMARY:Fiber Club at The Bascom
DESCRIPTION:The Bascom’s Fiber Club is made up of an enthusiastic community of fiber artists who come together weekly to share patterns and stories at The Bascom. Meetings take place on the Terrace. \nIn inclement weather\, the group moves inside to the Library\, but their enthusiasm is never dampened. \nFavorites Count: 0
URL:https://thelaurelmagazine.com/local-event/fiber-club-at-the-bascom-2/2027-09-11
LOCATION:The Bascom\, 323 Franklin Rd\, Highlands\, NC\, 28741\, United States
CATEGORIES:Community,Visual Arts
ATTACH;FMTTYPE=image/jpeg:https://thelaurelmagazine.com/wp-content/uploads/2025/07/highlands-nc-bascom-fiber-club-1.jpg
END:VEVENT
BEGIN:VEVENT
DTSTART;TZID=America/New_York:20280101T100000
DTEND;TZID=America/New_York:20280101T120000
DTSTAMP:20260422T185741
CREATED:20250731T142921Z
LAST-MODIFIED:20250731T142921Z
UID:110332-1830333600-1830340800@thelaurelmagazine.com
SUMMARY:Fiber Club at The Bascom
DESCRIPTION:The Bascom’s Fiber Club is made up of an enthusiastic community of fiber artists who come together weekly to share patterns and stories at The Bascom. Meetings take place on the Terrace. \nIn inclement weather\, the group moves inside to the Library\, but their enthusiasm is never dampened. \nFavorites Count: 0
URL:https://thelaurelmagazine.com/local-event/fiber-club-at-the-bascom-2/2028-01-01
LOCATION:The Bascom\, 323 Franklin Rd\, Highlands\, NC\, 28741\, United States
CATEGORIES:Community,Visual Arts
ATTACH;FMTTYPE=image/jpeg:https://thelaurelmagazine.com/wp-content/uploads/2025/07/highlands-nc-bascom-fiber-club-1.jpg
END:VEVENT
BEGIN:VEVENT
DTSTART;TZID=America/New_York:20260905T100000
DTEND;TZID=America/New_York:20260905T120000
DTSTAMP:20260422T185741
CREATED:20250731T142921Z
LAST-MODIFIED:20250731T142921Z
UID:110743-1788602400-1788609600@thelaurelmagazine.com
SUMMARY:Fiber Club at The Bascom
DESCRIPTION:The Bascom’s Fiber Club is made up of an enthusiastic community of fiber artists who come together weekly to share patterns and stories at The Bascom. Meetings take place on the Terrace. \nIn inclement weather\, the group moves inside to the Library\, but their enthusiasm is never dampened. \nFavorites Count: 0
URL:https://thelaurelmagazine.com/local-event/fiber-club-at-the-bascom-2/2026-09-05
LOCATION:The Bascom\, 323 Franklin Rd\, Highlands\, NC\, 28741\, United States
CATEGORIES:Community,Visual Arts
ATTACH;FMTTYPE=image/jpeg:https://thelaurelmagazine.com/wp-content/uploads/2025/07/highlands-nc-bascom-fiber-club-1.jpg
END:VEVENT
BEGIN:VEVENT
DTSTART;TZID=America/New_York:20261226T100000
DTEND;TZID=America/New_York:20261226T120000
DTSTAMP:20260422T185741
CREATED:20250731T142921Z
LAST-MODIFIED:20250731T142921Z
UID:110759-1798279200-1798286400@thelaurelmagazine.com
SUMMARY:Fiber Club at The Bascom
DESCRIPTION:The Bascom’s Fiber Club is made up of an enthusiastic community of fiber artists who come together weekly to share patterns and stories at The Bascom. Meetings take place on the Terrace. \nIn inclement weather\, the group moves inside to the Library\, but their enthusiasm is never dampened. \nFavorites Count: 0
URL:https://thelaurelmagazine.com/local-event/fiber-club-at-the-bascom-2/2026-12-26
LOCATION:The Bascom\, 323 Franklin Rd\, Highlands\, NC\, 28741\, United States
CATEGORIES:Community,Visual Arts
ATTACH;FMTTYPE=image/jpeg:https://thelaurelmagazine.com/wp-content/uploads/2025/07/highlands-nc-bascom-fiber-club-1.jpg
END:VEVENT
BEGIN:VEVENT
DTSTART;TZID=America/New_York:20270417T100000
DTEND;TZID=America/New_York:20270417T120000
DTSTAMP:20260422T185741
CREATED:20250731T142921Z
LAST-MODIFIED:20250731T142921Z
UID:110775-1807956000-1807963200@thelaurelmagazine.com
SUMMARY:Fiber Club at The Bascom
DESCRIPTION:The Bascom’s Fiber Club is made up of an enthusiastic community of fiber artists who come together weekly to share patterns and stories at The Bascom. Meetings take place on the Terrace. \nIn inclement weather\, the group moves inside to the Library\, but their enthusiasm is never dampened. \nFavorites Count: 0
URL:https://thelaurelmagazine.com/local-event/fiber-club-at-the-bascom-2/2027-04-17
LOCATION:The Bascom\, 323 Franklin Rd\, Highlands\, NC\, 28741\, United States
CATEGORIES:Community,Visual Arts
ATTACH;FMTTYPE=image/jpeg:https://thelaurelmagazine.com/wp-content/uploads/2025/07/highlands-nc-bascom-fiber-club-1.jpg
END:VEVENT
BEGIN:VEVENT
DTSTART;TZID=America/New_York:20260502T100000
DTEND;TZID=America/New_York:20260502T120000
DTSTAMP:20260422T185741
CREATED:20250731T142921Z
LAST-MODIFIED:20260113T192426Z
UID:110725-1777716000-1777723200@thelaurelmagazine.com
SUMMARY:Fiber Club at The Bascom
DESCRIPTION:The Bascom’s Fiber Club is made up of an enthusiastic community of fiber artists who come together weekly to share patterns and stories at The Bascom. Meetings take place on the Terrace. \nIn inclement weather\, the group moves inside to the Library\, but their enthusiasm is never dampened. \nFavorites Count: 0
URL:https://thelaurelmagazine.com/local-event/fiber-club-at-the-bascom-2/2026-05-02
LOCATION:The Bascom\, 323 Franklin Rd\, Highlands\, NC\, 28741\, United States
CATEGORIES:Community,Visual Arts
ATTACH;FMTTYPE=image/jpeg:https://thelaurelmagazine.com/wp-content/uploads/2025/07/highlands-nc-bascom-fiber-club-1.jpg
END:VEVENT
BEGIN:VEVENT
DTSTART;TZID=America/New_York:20280318T100000
DTEND;TZID=America/New_York:20280318T120000
DTSTAMP:20260422T185741
CREATED:20250731T142921Z
LAST-MODIFIED:20250731T142921Z
UID:116175-1836986400-1836993600@thelaurelmagazine.com
SUMMARY:Fiber Club at The Bascom
DESCRIPTION:The Bascom’s Fiber Club is made up of an enthusiastic community of fiber artists who come together weekly to share patterns and stories at The Bascom. Meetings take place on the Terrace. \nIn inclement weather\, the group moves inside to the Library\, but their enthusiasm is never dampened. \nFavorites Count: 0
URL:https://thelaurelmagazine.com/local-event/fiber-club-at-the-bascom-2/2028-03-18
LOCATION:The Bascom\, 323 Franklin Rd\, Highlands\, NC\, 28741\, United States
CATEGORIES:Community,Visual Arts
ATTACH;FMTTYPE=image/jpeg:https://thelaurelmagazine.com/wp-content/uploads/2025/07/highlands-nc-bascom-fiber-club-1.jpg
END:VEVENT
BEGIN:VEVENT
DTSTART;TZID=America/New_York:20270918T100000
DTEND;TZID=America/New_York:20270918T120000
DTSTAMP:20260422T185741
CREATED:20250731T142921Z
LAST-MODIFIED:20250731T142921Z
UID:97438-1821261600-1821268800@thelaurelmagazine.com
SUMMARY:Fiber Club at The Bascom
DESCRIPTION:The Bascom’s Fiber Club is made up of an enthusiastic community of fiber artists who come together weekly to share patterns and stories at The Bascom. Meetings take place on the Terrace. \nIn inclement weather\, the group moves inside to the Library\, but their enthusiasm is never dampened. \nFavorites Count: 0
URL:https://thelaurelmagazine.com/local-event/fiber-club-at-the-bascom-2/2027-09-18
LOCATION:The Bascom\, 323 Franklin Rd\, Highlands\, NC\, 28741\, United States
CATEGORIES:Community,Visual Arts
ATTACH;FMTTYPE=image/jpeg:https://thelaurelmagazine.com/wp-content/uploads/2025/07/highlands-nc-bascom-fiber-club-1.jpg
END:VEVENT
END:VCALENDAR