BEGIN:VCALENDAR
VERSION:2.0
PRODID:-//Laurel Magazine - ECPv6.15.16//NONSGML v1.0//EN
CALSCALE:GREGORIAN
METHOD:PUBLISH
X-WR-CALNAME:Laurel Magazine
X-ORIGINAL-URL:https://thelaurelmagazine.com
X-WR-CALDESC:Events for Laurel Magazine
REFRESH-INTERVAL;VALUE=DURATION:PT1H
X-Robots-Tag:noindex
X-PUBLISHED-TTL:PT1H
BEGIN:VTIMEZONE
TZID:America/New_York
BEGIN:DAYLIGHT
TZOFFSETFROM:-0500
TZOFFSETTO:-0400
TZNAME:EDT
DTSTART:20250309T070000
END:DAYLIGHT
BEGIN:STANDARD
TZOFFSETFROM:-0400
TZOFFSETTO:-0500
TZNAME:EST
DTSTART:20251102T060000
END:STANDARD
BEGIN:DAYLIGHT
TZOFFSETFROM:-0500
TZOFFSETTO:-0400
TZNAME:EDT
DTSTART:20260308T070000
END:DAYLIGHT
BEGIN:STANDARD
TZOFFSETFROM:-0400
TZOFFSETTO:-0500
TZNAME:EST
DTSTART:20261101T060000
END:STANDARD
BEGIN:DAYLIGHT
TZOFFSETFROM:-0500
TZOFFSETTO:-0400
TZNAME:EDT
DTSTART:20270314T070000
END:DAYLIGHT
BEGIN:STANDARD
TZOFFSETFROM:-0400
TZOFFSETTO:-0500
TZNAME:EST
DTSTART:20271107T060000
END:STANDARD
BEGIN:DAYLIGHT
TZOFFSETFROM:-0500
TZOFFSETTO:-0400
TZNAME:EDT
DTSTART:20280312T070000
END:DAYLIGHT
BEGIN:STANDARD
TZOFFSETFROM:-0400
TZOFFSETTO:-0500
TZNAME:EST
DTSTART:20281105T060000
END:STANDARD
BEGIN:DAYLIGHT
TZOFFSETFROM:-0500
TZOFFSETTO:-0400
TZNAME:EDT
DTSTART:20290311T070000
END:DAYLIGHT
BEGIN:STANDARD
TZOFFSETFROM:-0400
TZOFFSETTO:-0500
TZNAME:EST
DTSTART:20291104T060000
END:STANDARD
END:VTIMEZONE
BEGIN:VEVENT
DTSTART;TZID=America/New_York:20260829T100000
DTEND;TZID=America/New_York:20260829T120000
DTSTAMP:20260422T220858
CREATED:20250731T142921Z
LAST-MODIFIED:20250731T142921Z
UID:110742-1787997600-1788004800@thelaurelmagazine.com
SUMMARY:Fiber Club at The Bascom
DESCRIPTION:The Bascom’s Fiber Club is made up of an enthusiastic community of fiber artists who come together weekly to share patterns and stories at The Bascom. Meetings take place on the Terrace. \nIn inclement weather\, the group moves inside to the Library\, but their enthusiasm is never dampened. \nFavorites Count: 0
URL:https://thelaurelmagazine.com/local-event/fiber-club-at-the-bascom-2/2026-08-29
LOCATION:The Bascom\, 323 Franklin Rd\, Highlands\, NC\, 28741\, United States
CATEGORIES:Community,Visual Arts
ATTACH;FMTTYPE=image/jpeg:https://thelaurelmagazine.com/wp-content/uploads/2025/07/highlands-nc-bascom-fiber-club-1.jpg
END:VEVENT
BEGIN:VEVENT
DTSTART;TZID=America/New_York:20261219T100000
DTEND;TZID=America/New_York:20261219T120000
DTSTAMP:20260422T220858
CREATED:20250731T142921Z
LAST-MODIFIED:20250731T142921Z
UID:110758-1797674400-1797681600@thelaurelmagazine.com
SUMMARY:Fiber Club at The Bascom
DESCRIPTION:The Bascom’s Fiber Club is made up of an enthusiastic community of fiber artists who come together weekly to share patterns and stories at The Bascom. Meetings take place on the Terrace. \nIn inclement weather\, the group moves inside to the Library\, but their enthusiasm is never dampened. \nFavorites Count: 0
URL:https://thelaurelmagazine.com/local-event/fiber-club-at-the-bascom-2/2026-12-19
LOCATION:The Bascom\, 323 Franklin Rd\, Highlands\, NC\, 28741\, United States
CATEGORIES:Community,Visual Arts
ATTACH;FMTTYPE=image/jpeg:https://thelaurelmagazine.com/wp-content/uploads/2025/07/highlands-nc-bascom-fiber-club-1.jpg
END:VEVENT
BEGIN:VEVENT
DTSTART;TZID=America/New_York:20270410T100000
DTEND;TZID=America/New_York:20270410T120000
DTSTAMP:20260422T220858
CREATED:20250731T142921Z
LAST-MODIFIED:20250731T142921Z
UID:110774-1807351200-1807358400@thelaurelmagazine.com
SUMMARY:Fiber Club at The Bascom
DESCRIPTION:The Bascom’s Fiber Club is made up of an enthusiastic community of fiber artists who come together weekly to share patterns and stories at The Bascom. Meetings take place on the Terrace. \nIn inclement weather\, the group moves inside to the Library\, but their enthusiasm is never dampened. \nFavorites Count: 0
URL:https://thelaurelmagazine.com/local-event/fiber-club-at-the-bascom-2/2027-04-10
LOCATION:The Bascom\, 323 Franklin Rd\, Highlands\, NC\, 28741\, United States
CATEGORIES:Community,Visual Arts
ATTACH;FMTTYPE=image/jpeg:https://thelaurelmagazine.com/wp-content/uploads/2025/07/highlands-nc-bascom-fiber-club-1.jpg
END:VEVENT
BEGIN:VEVENT
DTSTART;TZID=America/New_York:20260425T100000
DTEND;TZID=America/New_York:20260425T120000
DTSTAMP:20260422T220858
CREATED:20250731T142921Z
LAST-MODIFIED:20260113T192426Z
UID:110724-1777111200-1777118400@thelaurelmagazine.com
SUMMARY:Fiber Club at The Bascom
DESCRIPTION:The Bascom’s Fiber Club is made up of an enthusiastic community of fiber artists who come together weekly to share patterns and stories at The Bascom. Meetings take place on the Terrace. \nIn inclement weather\, the group moves inside to the Library\, but their enthusiasm is never dampened. \nFavorites Count: 0
URL:https://thelaurelmagazine.com/local-event/fiber-club-at-the-bascom-2/2026-04-25
LOCATION:The Bascom\, 323 Franklin Rd\, Highlands\, NC\, 28741\, United States
CATEGORIES:Community,Visual Arts
ATTACH;FMTTYPE=image/jpeg:https://thelaurelmagazine.com/wp-content/uploads/2025/07/highlands-nc-bascom-fiber-club-1.jpg
END:VEVENT
BEGIN:VEVENT
DTSTART;TZID=America/New_York:20270911T100000
DTEND;TZID=America/New_York:20270911T120000
DTSTAMP:20260422T220858
CREATED:20250731T142921Z
LAST-MODIFIED:20250731T142921Z
UID:97040-1820656800-1820664000@thelaurelmagazine.com
SUMMARY:Fiber Club at The Bascom
DESCRIPTION:The Bascom’s Fiber Club is made up of an enthusiastic community of fiber artists who come together weekly to share patterns and stories at The Bascom. Meetings take place on the Terrace. \nIn inclement weather\, the group moves inside to the Library\, but their enthusiasm is never dampened. \nFavorites Count: 0
URL:https://thelaurelmagazine.com/local-event/fiber-club-at-the-bascom-2/2027-09-11
LOCATION:The Bascom\, 323 Franklin Rd\, Highlands\, NC\, 28741\, United States
CATEGORIES:Community,Visual Arts
ATTACH;FMTTYPE=image/jpeg:https://thelaurelmagazine.com/wp-content/uploads/2025/07/highlands-nc-bascom-fiber-club-1.jpg
END:VEVENT
BEGIN:VEVENT
DTSTART;TZID=America/New_York:20280101T100000
DTEND;TZID=America/New_York:20280101T120000
DTSTAMP:20260422T220858
CREATED:20250731T142921Z
LAST-MODIFIED:20250731T142921Z
UID:110332-1830333600-1830340800@thelaurelmagazine.com
SUMMARY:Fiber Club at The Bascom
DESCRIPTION:The Bascom’s Fiber Club is made up of an enthusiastic community of fiber artists who come together weekly to share patterns and stories at The Bascom. Meetings take place on the Terrace. \nIn inclement weather\, the group moves inside to the Library\, but their enthusiasm is never dampened. \nFavorites Count: 0
URL:https://thelaurelmagazine.com/local-event/fiber-club-at-the-bascom-2/2028-01-01
LOCATION:The Bascom\, 323 Franklin Rd\, Highlands\, NC\, 28741\, United States
CATEGORIES:Community,Visual Arts
ATTACH;FMTTYPE=image/jpeg:https://thelaurelmagazine.com/wp-content/uploads/2025/07/highlands-nc-bascom-fiber-club-1.jpg
END:VEVENT
BEGIN:VEVENT
DTSTART;TZID=America/New_York:20260905T100000
DTEND;TZID=America/New_York:20260905T120000
DTSTAMP:20260422T220858
CREATED:20250731T142921Z
LAST-MODIFIED:20250731T142921Z
UID:110743-1788602400-1788609600@thelaurelmagazine.com
SUMMARY:Fiber Club at The Bascom
DESCRIPTION:The Bascom’s Fiber Club is made up of an enthusiastic community of fiber artists who come together weekly to share patterns and stories at The Bascom. Meetings take place on the Terrace. \nIn inclement weather\, the group moves inside to the Library\, but their enthusiasm is never dampened. \nFavorites Count: 0
URL:https://thelaurelmagazine.com/local-event/fiber-club-at-the-bascom-2/2026-09-05
LOCATION:The Bascom\, 323 Franklin Rd\, Highlands\, NC\, 28741\, United States
CATEGORIES:Community,Visual Arts
ATTACH;FMTTYPE=image/jpeg:https://thelaurelmagazine.com/wp-content/uploads/2025/07/highlands-nc-bascom-fiber-club-1.jpg
END:VEVENT
BEGIN:VEVENT
DTSTART;TZID=America/New_York:20261226T100000
DTEND;TZID=America/New_York:20261226T120000
DTSTAMP:20260422T220858
CREATED:20250731T142921Z
LAST-MODIFIED:20250731T142921Z
UID:110759-1798279200-1798286400@thelaurelmagazine.com
SUMMARY:Fiber Club at The Bascom
DESCRIPTION:The Bascom’s Fiber Club is made up of an enthusiastic community of fiber artists who come together weekly to share patterns and stories at The Bascom. Meetings take place on the Terrace. \nIn inclement weather\, the group moves inside to the Library\, but their enthusiasm is never dampened. \nFavorites Count: 0
URL:https://thelaurelmagazine.com/local-event/fiber-club-at-the-bascom-2/2026-12-26
LOCATION:The Bascom\, 323 Franklin Rd\, Highlands\, NC\, 28741\, United States
CATEGORIES:Community,Visual Arts
ATTACH;FMTTYPE=image/jpeg:https://thelaurelmagazine.com/wp-content/uploads/2025/07/highlands-nc-bascom-fiber-club-1.jpg
END:VEVENT
BEGIN:VEVENT
DTSTART;TZID=America/New_York:20270417T100000
DTEND;TZID=America/New_York:20270417T120000
DTSTAMP:20260422T220858
CREATED:20250731T142921Z
LAST-MODIFIED:20250731T142921Z
UID:110775-1807956000-1807963200@thelaurelmagazine.com
SUMMARY:Fiber Club at The Bascom
DESCRIPTION:The Bascom’s Fiber Club is made up of an enthusiastic community of fiber artists who come together weekly to share patterns and stories at The Bascom. Meetings take place on the Terrace. \nIn inclement weather\, the group moves inside to the Library\, but their enthusiasm is never dampened. \nFavorites Count: 0
URL:https://thelaurelmagazine.com/local-event/fiber-club-at-the-bascom-2/2027-04-17
LOCATION:The Bascom\, 323 Franklin Rd\, Highlands\, NC\, 28741\, United States
CATEGORIES:Community,Visual Arts
ATTACH;FMTTYPE=image/jpeg:https://thelaurelmagazine.com/wp-content/uploads/2025/07/highlands-nc-bascom-fiber-club-1.jpg
END:VEVENT
BEGIN:VEVENT
DTSTART;TZID=America/New_York:20260502T100000
DTEND;TZID=America/New_York:20260502T120000
DTSTAMP:20260422T220858
CREATED:20250731T142921Z
LAST-MODIFIED:20260113T192426Z
UID:110725-1777716000-1777723200@thelaurelmagazine.com
SUMMARY:Fiber Club at The Bascom
DESCRIPTION:The Bascom’s Fiber Club is made up of an enthusiastic community of fiber artists who come together weekly to share patterns and stories at The Bascom. Meetings take place on the Terrace. \nIn inclement weather\, the group moves inside to the Library\, but their enthusiasm is never dampened. \nFavorites Count: 0
URL:https://thelaurelmagazine.com/local-event/fiber-club-at-the-bascom-2/2026-05-02
LOCATION:The Bascom\, 323 Franklin Rd\, Highlands\, NC\, 28741\, United States
CATEGORIES:Community,Visual Arts
ATTACH;FMTTYPE=image/jpeg:https://thelaurelmagazine.com/wp-content/uploads/2025/07/highlands-nc-bascom-fiber-club-1.jpg
END:VEVENT
BEGIN:VEVENT
DTSTART;TZID=America/New_York:20280318T100000
DTEND;TZID=America/New_York:20280318T120000
DTSTAMP:20260422T220858
CREATED:20250731T142921Z
LAST-MODIFIED:20250731T142921Z
UID:116175-1836986400-1836993600@thelaurelmagazine.com
SUMMARY:Fiber Club at The Bascom
DESCRIPTION:The Bascom’s Fiber Club is made up of an enthusiastic community of fiber artists who come together weekly to share patterns and stories at The Bascom. Meetings take place on the Terrace. \nIn inclement weather\, the group moves inside to the Library\, but their enthusiasm is never dampened. \nFavorites Count: 0
URL:https://thelaurelmagazine.com/local-event/fiber-club-at-the-bascom-2/2028-03-18
LOCATION:The Bascom\, 323 Franklin Rd\, Highlands\, NC\, 28741\, United States
CATEGORIES:Community,Visual Arts
ATTACH;FMTTYPE=image/jpeg:https://thelaurelmagazine.com/wp-content/uploads/2025/07/highlands-nc-bascom-fiber-club-1.jpg
END:VEVENT
BEGIN:VEVENT
DTSTART;TZID=America/New_York:20270918T100000
DTEND;TZID=America/New_York:20270918T120000
DTSTAMP:20260422T220858
CREATED:20250731T142921Z
LAST-MODIFIED:20250731T142921Z
UID:97438-1821261600-1821268800@thelaurelmagazine.com
SUMMARY:Fiber Club at The Bascom
DESCRIPTION:The Bascom’s Fiber Club is made up of an enthusiastic community of fiber artists who come together weekly to share patterns and stories at The Bascom. Meetings take place on the Terrace. \nIn inclement weather\, the group moves inside to the Library\, but their enthusiasm is never dampened. \nFavorites Count: 0
URL:https://thelaurelmagazine.com/local-event/fiber-club-at-the-bascom-2/2027-09-18
LOCATION:The Bascom\, 323 Franklin Rd\, Highlands\, NC\, 28741\, United States
CATEGORIES:Community,Visual Arts
ATTACH;FMTTYPE=image/jpeg:https://thelaurelmagazine.com/wp-content/uploads/2025/07/highlands-nc-bascom-fiber-club-1.jpg
END:VEVENT
BEGIN:VEVENT
DTSTART;TZID=America/New_York:20280108T100000
DTEND;TZID=America/New_York:20280108T120000
DTSTAMP:20260422T220858
CREATED:20250731T142921Z
LAST-MODIFIED:20250731T142921Z
UID:110469-1830938400-1830945600@thelaurelmagazine.com
SUMMARY:Fiber Club at The Bascom
DESCRIPTION:The Bascom’s Fiber Club is made up of an enthusiastic community of fiber artists who come together weekly to share patterns and stories at The Bascom. Meetings take place on the Terrace. \nIn inclement weather\, the group moves inside to the Library\, but their enthusiasm is never dampened. \nFavorites Count: 0
URL:https://thelaurelmagazine.com/local-event/fiber-club-at-the-bascom-2/2028-01-08
LOCATION:The Bascom\, 323 Franklin Rd\, Highlands\, NC\, 28741\, United States
CATEGORIES:Community,Visual Arts
ATTACH;FMTTYPE=image/jpeg:https://thelaurelmagazine.com/wp-content/uploads/2025/07/highlands-nc-bascom-fiber-club-1.jpg
END:VEVENT
BEGIN:VEVENT
DTSTART;TZID=America/New_York:20260912T100000
DTEND;TZID=America/New_York:20260912T120000
DTSTAMP:20260422T220858
CREATED:20250731T142921Z
LAST-MODIFIED:20250731T142921Z
UID:110744-1789207200-1789214400@thelaurelmagazine.com
SUMMARY:Fiber Club at The Bascom
DESCRIPTION:The Bascom’s Fiber Club is made up of an enthusiastic community of fiber artists who come together weekly to share patterns and stories at The Bascom. Meetings take place on the Terrace. \nIn inclement weather\, the group moves inside to the Library\, but their enthusiasm is never dampened. \nFavorites Count: 0
URL:https://thelaurelmagazine.com/local-event/fiber-club-at-the-bascom-2/2026-09-12
LOCATION:The Bascom\, 323 Franklin Rd\, Highlands\, NC\, 28741\, United States
CATEGORIES:Community,Visual Arts
ATTACH;FMTTYPE=image/jpeg:https://thelaurelmagazine.com/wp-content/uploads/2025/07/highlands-nc-bascom-fiber-club-1.jpg
END:VEVENT
BEGIN:VEVENT
DTSTART;TZID=America/New_York:20270102T100000
DTEND;TZID=America/New_York:20270102T120000
DTSTAMP:20260422T220858
CREATED:20250731T142921Z
LAST-MODIFIED:20250731T142921Z
UID:110760-1798884000-1798891200@thelaurelmagazine.com
SUMMARY:Fiber Club at The Bascom
DESCRIPTION:The Bascom’s Fiber Club is made up of an enthusiastic community of fiber artists who come together weekly to share patterns and stories at The Bascom. Meetings take place on the Terrace. \nIn inclement weather\, the group moves inside to the Library\, but their enthusiasm is never dampened. \nFavorites Count: 0
URL:https://thelaurelmagazine.com/local-event/fiber-club-at-the-bascom-2/2027-01-02
LOCATION:The Bascom\, 323 Franklin Rd\, Highlands\, NC\, 28741\, United States
CATEGORIES:Community,Visual Arts
ATTACH;FMTTYPE=image/jpeg:https://thelaurelmagazine.com/wp-content/uploads/2025/07/highlands-nc-bascom-fiber-club-1.jpg
END:VEVENT
BEGIN:VEVENT
DTSTART;TZID=America/New_York:20270424T100000
DTEND;TZID=America/New_York:20270424T120000
DTSTAMP:20260422T220858
CREATED:20250731T142921Z
LAST-MODIFIED:20250731T142921Z
UID:110776-1808560800-1808568000@thelaurelmagazine.com
SUMMARY:Fiber Club at The Bascom
DESCRIPTION:The Bascom’s Fiber Club is made up of an enthusiastic community of fiber artists who come together weekly to share patterns and stories at The Bascom. Meetings take place on the Terrace. \nIn inclement weather\, the group moves inside to the Library\, but their enthusiasm is never dampened. \nFavorites Count: 0
URL:https://thelaurelmagazine.com/local-event/fiber-club-at-the-bascom-2/2027-04-24
LOCATION:The Bascom\, 323 Franklin Rd\, Highlands\, NC\, 28741\, United States
CATEGORIES:Community,Visual Arts
ATTACH;FMTTYPE=image/jpeg:https://thelaurelmagazine.com/wp-content/uploads/2025/07/highlands-nc-bascom-fiber-club-1.jpg
END:VEVENT
BEGIN:VEVENT
DTSTART;TZID=America/New_York:20260509T100000
DTEND;TZID=America/New_York:20260509T120000
DTSTAMP:20260422T220858
CREATED:20250731T142921Z
LAST-MODIFIED:20260113T192426Z
UID:110726-1778320800-1778328000@thelaurelmagazine.com
SUMMARY:Fiber Club at The Bascom
DESCRIPTION:The Bascom’s Fiber Club is made up of an enthusiastic community of fiber artists who come together weekly to share patterns and stories at The Bascom. Meetings take place on the Terrace. \nIn inclement weather\, the group moves inside to the Library\, but their enthusiasm is never dampened. \nFavorites Count: 0
URL:https://thelaurelmagazine.com/local-event/fiber-club-at-the-bascom-2/2026-05-09
LOCATION:The Bascom\, 323 Franklin Rd\, Highlands\, NC\, 28741\, United States
CATEGORIES:Community,Visual Arts
ATTACH;FMTTYPE=image/jpeg:https://thelaurelmagazine.com/wp-content/uploads/2025/07/highlands-nc-bascom-fiber-club-1.jpg
END:VEVENT
BEGIN:VEVENT
DTSTART;TZID=America/New_York:20270925T100000
DTEND;TZID=America/New_York:20270925T120000
DTSTAMP:20260422T220858
CREATED:20250731T142921Z
LAST-MODIFIED:20250731T142921Z
UID:97678-1821866400-1821873600@thelaurelmagazine.com
SUMMARY:Fiber Club at The Bascom
DESCRIPTION:The Bascom’s Fiber Club is made up of an enthusiastic community of fiber artists who come together weekly to share patterns and stories at The Bascom. Meetings take place on the Terrace. \nIn inclement weather\, the group moves inside to the Library\, but their enthusiasm is never dampened. \nFavorites Count: 0
URL:https://thelaurelmagazine.com/local-event/fiber-club-at-the-bascom-2/2027-09-25
LOCATION:The Bascom\, 323 Franklin Rd\, Highlands\, NC\, 28741\, United States
CATEGORIES:Community,Visual Arts
ATTACH;FMTTYPE=image/jpeg:https://thelaurelmagazine.com/wp-content/uploads/2025/07/highlands-nc-bascom-fiber-club-1.jpg
END:VEVENT
BEGIN:VEVENT
DTSTART;TZID=America/New_York:20260530T100000
DTEND;TZID=America/New_York:20260530T120000
DTSTAMP:20260422T220858
CREATED:20250731T142921Z
LAST-MODIFIED:20250731T142921Z
UID:110729-1780135200-1780142400@thelaurelmagazine.com
SUMMARY:Fiber Club at The Bascom
DESCRIPTION:The Bascom’s Fiber Club is made up of an enthusiastic community of fiber artists who come together weekly to share patterns and stories at The Bascom. Meetings take place on the Terrace. \nIn inclement weather\, the group moves inside to the Library\, but their enthusiasm is never dampened. \nFavorites Count: 0
URL:https://thelaurelmagazine.com/local-event/fiber-club-at-the-bascom-2/2026-05-30
LOCATION:The Bascom\, 323 Franklin Rd\, Highlands\, NC\, 28741\, United States
CATEGORIES:Community,Visual Arts
ATTACH;FMTTYPE=image/jpeg:https://thelaurelmagazine.com/wp-content/uploads/2025/07/highlands-nc-bascom-fiber-club-1.jpg
END:VEVENT
BEGIN:VEVENT
DTSTART;TZID=America/New_York:20260919T100000
DTEND;TZID=America/New_York:20260919T120000
DTSTAMP:20260422T220858
CREATED:20250731T142921Z
LAST-MODIFIED:20250731T142921Z
UID:110745-1789812000-1789819200@thelaurelmagazine.com
SUMMARY:Fiber Club at The Bascom
DESCRIPTION:The Bascom’s Fiber Club is made up of an enthusiastic community of fiber artists who come together weekly to share patterns and stories at The Bascom. Meetings take place on the Terrace. \nIn inclement weather\, the group moves inside to the Library\, but their enthusiasm is never dampened. \nFavorites Count: 0
URL:https://thelaurelmagazine.com/local-event/fiber-club-at-the-bascom-2/2026-09-19
LOCATION:The Bascom\, 323 Franklin Rd\, Highlands\, NC\, 28741\, United States
CATEGORIES:Community,Visual Arts
ATTACH;FMTTYPE=image/jpeg:https://thelaurelmagazine.com/wp-content/uploads/2025/07/highlands-nc-bascom-fiber-club-1.jpg
END:VEVENT
BEGIN:VEVENT
DTSTART;TZID=America/New_York:20270109T100000
DTEND;TZID=America/New_York:20270109T120000
DTSTAMP:20260422T220858
CREATED:20250731T142921Z
LAST-MODIFIED:20250731T142921Z
UID:110761-1799488800-1799496000@thelaurelmagazine.com
SUMMARY:Fiber Club at The Bascom
DESCRIPTION:The Bascom’s Fiber Club is made up of an enthusiastic community of fiber artists who come together weekly to share patterns and stories at The Bascom. Meetings take place on the Terrace. \nIn inclement weather\, the group moves inside to the Library\, but their enthusiasm is never dampened. \nFavorites Count: 0
URL:https://thelaurelmagazine.com/local-event/fiber-club-at-the-bascom-2/2027-01-09
LOCATION:The Bascom\, 323 Franklin Rd\, Highlands\, NC\, 28741\, United States
CATEGORIES:Community,Visual Arts
ATTACH;FMTTYPE=image/jpeg:https://thelaurelmagazine.com/wp-content/uploads/2025/07/highlands-nc-bascom-fiber-club-1.jpg
END:VEVENT
BEGIN:VEVENT
DTSTART;TZID=America/New_York:20270501T100000
DTEND;TZID=America/New_York:20270501T120000
DTSTAMP:20260422T220858
CREATED:20250731T142921Z
LAST-MODIFIED:20250731T142921Z
UID:110777-1809165600-1809172800@thelaurelmagazine.com
SUMMARY:Fiber Club at The Bascom
DESCRIPTION:The Bascom’s Fiber Club is made up of an enthusiastic community of fiber artists who come together weekly to share patterns and stories at The Bascom. Meetings take place on the Terrace. \nIn inclement weather\, the group moves inside to the Library\, but their enthusiasm is never dampened. \nFavorites Count: 0
URL:https://thelaurelmagazine.com/local-event/fiber-club-at-the-bascom-2/2027-05-01
LOCATION:The Bascom\, 323 Franklin Rd\, Highlands\, NC\, 28741\, United States
CATEGORIES:Community,Visual Arts
ATTACH;FMTTYPE=image/jpeg:https://thelaurelmagazine.com/wp-content/uploads/2025/07/highlands-nc-bascom-fiber-club-1.jpg
END:VEVENT
BEGIN:VEVENT
DTSTART;TZID=America/New_York:20260516T100000
DTEND;TZID=America/New_York:20260516T120000
DTSTAMP:20260422T220858
CREATED:20250731T142921Z
LAST-MODIFIED:20260113T192426Z
UID:110727-1778925600-1778932800@thelaurelmagazine.com
SUMMARY:Fiber Club at The Bascom
DESCRIPTION:The Bascom’s Fiber Club is made up of an enthusiastic community of fiber artists who come together weekly to share patterns and stories at The Bascom. Meetings take place on the Terrace. \nIn inclement weather\, the group moves inside to the Library\, but their enthusiasm is never dampened. \nFavorites Count: 0
URL:https://thelaurelmagazine.com/local-event/fiber-club-at-the-bascom-2/2026-05-16
LOCATION:The Bascom\, 323 Franklin Rd\, Highlands\, NC\, 28741\, United States
CATEGORIES:Community,Visual Arts
ATTACH;FMTTYPE=image/jpeg:https://thelaurelmagazine.com/wp-content/uploads/2025/07/highlands-nc-bascom-fiber-club-1.jpg
END:VEVENT
BEGIN:VEVENT
DTSTART;TZID=America/New_York:20280129T100000
DTEND;TZID=America/New_York:20280129T120000
DTSTAMP:20260422T220858
CREATED:20250731T142921Z
LAST-MODIFIED:20250731T142921Z
UID:113559-1832752800-1832760000@thelaurelmagazine.com
SUMMARY:Fiber Club at The Bascom
DESCRIPTION:The Bascom’s Fiber Club is made up of an enthusiastic community of fiber artists who come together weekly to share patterns and stories at The Bascom. Meetings take place on the Terrace. \nIn inclement weather\, the group moves inside to the Library\, but their enthusiasm is never dampened. \nFavorites Count: 0
URL:https://thelaurelmagazine.com/local-event/fiber-club-at-the-bascom-2/2028-01-29
LOCATION:The Bascom\, 323 Franklin Rd\, Highlands\, NC\, 28741\, United States
CATEGORIES:Community,Visual Arts
ATTACH;FMTTYPE=image/jpeg:https://thelaurelmagazine.com/wp-content/uploads/2025/07/highlands-nc-bascom-fiber-club-1.jpg
END:VEVENT
BEGIN:VEVENT
DTSTART;TZID=America/New_York:20280325T100000
DTEND;TZID=America/New_York:20280325T120000
DTSTAMP:20260422T220858
CREATED:20250731T142921Z
LAST-MODIFIED:20250731T142921Z
UID:116471-1837591200-1837598400@thelaurelmagazine.com
SUMMARY:Fiber Club at The Bascom
DESCRIPTION:The Bascom’s Fiber Club is made up of an enthusiastic community of fiber artists who come together weekly to share patterns and stories at The Bascom. Meetings take place on the Terrace. \nIn inclement weather\, the group moves inside to the Library\, but their enthusiasm is never dampened. \nFavorites Count: 0
URL:https://thelaurelmagazine.com/local-event/fiber-club-at-the-bascom-2/2028-03-25
LOCATION:The Bascom\, 323 Franklin Rd\, Highlands\, NC\, 28741\, United States
CATEGORIES:Community,Visual Arts
ATTACH;FMTTYPE=image/jpeg:https://thelaurelmagazine.com/wp-content/uploads/2025/07/highlands-nc-bascom-fiber-club-1.jpg
END:VEVENT
BEGIN:VEVENT
DTSTART;TZID=America/New_York:20271002T100000
DTEND;TZID=America/New_York:20271002T120000
DTSTAMP:20260422T220858
CREATED:20250731T142921Z
LAST-MODIFIED:20250731T142921Z
UID:100325-1822471200-1822478400@thelaurelmagazine.com
SUMMARY:Fiber Club at The Bascom
DESCRIPTION:The Bascom’s Fiber Club is made up of an enthusiastic community of fiber artists who come together weekly to share patterns and stories at The Bascom. Meetings take place on the Terrace. \nIn inclement weather\, the group moves inside to the Library\, but their enthusiasm is never dampened. \nFavorites Count: 0
URL:https://thelaurelmagazine.com/local-event/fiber-club-at-the-bascom-2/2027-10-02
LOCATION:The Bascom\, 323 Franklin Rd\, Highlands\, NC\, 28741\, United States
CATEGORIES:Community,Visual Arts
ATTACH;FMTTYPE=image/jpeg:https://thelaurelmagazine.com/wp-content/uploads/2025/07/highlands-nc-bascom-fiber-club-1.jpg
END:VEVENT
BEGIN:VEVENT
DTSTART;TZID=America/New_York:20260606T100000
DTEND;TZID=America/New_York:20260606T120000
DTSTAMP:20260422T220858
CREATED:20250731T142921Z
LAST-MODIFIED:20250731T142921Z
UID:110730-1780740000-1780747200@thelaurelmagazine.com
SUMMARY:Fiber Club at The Bascom
DESCRIPTION:The Bascom’s Fiber Club is made up of an enthusiastic community of fiber artists who come together weekly to share patterns and stories at The Bascom. Meetings take place on the Terrace. \nIn inclement weather\, the group moves inside to the Library\, but their enthusiasm is never dampened. \nFavorites Count: 0
URL:https://thelaurelmagazine.com/local-event/fiber-club-at-the-bascom-2/2026-06-06
LOCATION:The Bascom\, 323 Franklin Rd\, Highlands\, NC\, 28741\, United States
CATEGORIES:Community,Visual Arts
ATTACH;FMTTYPE=image/jpeg:https://thelaurelmagazine.com/wp-content/uploads/2025/07/highlands-nc-bascom-fiber-club-1.jpg
END:VEVENT
BEGIN:VEVENT
DTSTART;TZID=America/New_York:20260926T100000
DTEND;TZID=America/New_York:20260926T120000
DTSTAMP:20260422T220858
CREATED:20250731T142921Z
LAST-MODIFIED:20250731T142921Z
UID:110746-1790416800-1790424000@thelaurelmagazine.com
SUMMARY:Fiber Club at The Bascom
DESCRIPTION:The Bascom’s Fiber Club is made up of an enthusiastic community of fiber artists who come together weekly to share patterns and stories at The Bascom. Meetings take place on the Terrace. \nIn inclement weather\, the group moves inside to the Library\, but their enthusiasm is never dampened. \nFavorites Count: 0
URL:https://thelaurelmagazine.com/local-event/fiber-club-at-the-bascom-2/2026-09-26
LOCATION:The Bascom\, 323 Franklin Rd\, Highlands\, NC\, 28741\, United States
CATEGORIES:Community,Visual Arts
ATTACH;FMTTYPE=image/jpeg:https://thelaurelmagazine.com/wp-content/uploads/2025/07/highlands-nc-bascom-fiber-club-1.jpg
END:VEVENT
BEGIN:VEVENT
DTSTART;TZID=America/New_York:20270116T100000
DTEND;TZID=America/New_York:20270116T120000
DTSTAMP:20260422T220858
CREATED:20250731T142921Z
LAST-MODIFIED:20250731T142921Z
UID:110762-1800093600-1800100800@thelaurelmagazine.com
SUMMARY:Fiber Club at The Bascom
DESCRIPTION:The Bascom’s Fiber Club is made up of an enthusiastic community of fiber artists who come together weekly to share patterns and stories at The Bascom. Meetings take place on the Terrace. \nIn inclement weather\, the group moves inside to the Library\, but their enthusiasm is never dampened. \nFavorites Count: 0
URL:https://thelaurelmagazine.com/local-event/fiber-club-at-the-bascom-2/2027-01-16
LOCATION:The Bascom\, 323 Franklin Rd\, Highlands\, NC\, 28741\, United States
CATEGORIES:Community,Visual Arts
ATTACH;FMTTYPE=image/jpeg:https://thelaurelmagazine.com/wp-content/uploads/2025/07/highlands-nc-bascom-fiber-club-1.jpg
END:VEVENT
BEGIN:VEVENT
DTSTART;TZID=America/New_York:20270508T100000
DTEND;TZID=America/New_York:20270508T120000
DTSTAMP:20260422T220858
CREATED:20250731T142921Z
LAST-MODIFIED:20250731T142921Z
UID:110778-1809770400-1809777600@thelaurelmagazine.com
SUMMARY:Fiber Club at The Bascom
DESCRIPTION:The Bascom’s Fiber Club is made up of an enthusiastic community of fiber artists who come together weekly to share patterns and stories at The Bascom. Meetings take place on the Terrace. \nIn inclement weather\, the group moves inside to the Library\, but their enthusiasm is never dampened. \nFavorites Count: 0
URL:https://thelaurelmagazine.com/local-event/fiber-club-at-the-bascom-2/2027-05-08
LOCATION:The Bascom\, 323 Franklin Rd\, Highlands\, NC\, 28741\, United States
CATEGORIES:Community,Visual Arts
ATTACH;FMTTYPE=image/jpeg:https://thelaurelmagazine.com/wp-content/uploads/2025/07/highlands-nc-bascom-fiber-club-1.jpg
END:VEVENT
END:VCALENDAR